BEGIN:VCALENDAR
VERSION:2.0
PRODID:-//GratiaPlena - ECPv6.15.20//NONSGML v1.0//EN
CALSCALE:GREGORIAN
METHOD:PUBLISH
X-WR-CALNAME:GratiaPlena
X-ORIGINAL-URL:https://gratiaplena.online
X-WR-CALDESC:Eventos para GratiaPlena
REFRESH-INTERVAL;VALUE=DURATION:PT1H
X-Robots-Tag:noindex
X-PUBLISHED-TTL:PT1H
BEGIN:VTIMEZONE
TZID:America/Sao_Paulo
BEGIN:STANDARD
TZOFFSETFROM:-0300
TZOFFSETTO:-0300
TZNAME:-03
DTSTART:20250101T000000
END:STANDARD
END:VTIMEZONE
BEGIN:VEVENT
DTSTART;VALUE=DATE:20260501
DTEND;VALUE=DATE:20260502
DTSTAMP:20260423T165630
CREATED:20231130T162638Z
LAST-MODIFIED:20240517T164133Z
UID:10000693-1777593600-1777679999@gratiaplena.online
SUMMARY:Dia de São José Operário
DESCRIPTION:Celebramos hoje (1 Mai) a solenidade do Padroeiro de nossa Paróquia. Celebra-se\, hoje\, São José\, pai terreno de Jesus\, sob as vestes de carpinteiro\, que dá testemunho do fato de que até o trabalho humilde pode tornar o homem partícipe do plano divino da salvação. É venerado como Padroeiro dos trabalhadores cristãos.
URL:https://gratiaplena.online/event/dia-de-sao-jose-operario/2026-05-01/
LOCATION:Igreja São José Operário\, Rua São Leopoldo\, 01\, Bairro Vera Cruz\, Passo Fundo\, Rio Grande do Sul\, 99040-040\, Brazil
CATEGORIES:Santo do Dia
ATTACH;FMTTYPE=image/jpeg:https://gratiaplena.online/wp-content/uploads/2023/11/Sao-Jose-Operario-02.jpg
ORGANIZER;CN="Par%C3%B3quia S%C3%A3o Jos%C3%A9 Oper%C3%A1rio":MAILTO:sjoperariopf@arquidiocesedepassofundo.com.br
END:VEVENT
BEGIN:VEVENT
DTSTART;VALUE=DATE:20260501
DTEND;VALUE=DATE:20260502
DTSTAMP:20260423T165630
CREATED:20240104T165553Z
LAST-MODIFIED:20240719T192359Z
UID:10000962-1777593600-1777679999@gratiaplena.online
SUMMARY:Dia de São Jeremias
DESCRIPTION:Comemoramos hoje (1 Mai) a festa de São Jeremias. A história de Jeremias: Sua infância e juventude Durante a infância do profeta Jeremias\, os reinados de Manassés e Amom foram caracterizados pela apostasia e idolatria (2 Reis 21). O próprio rei Manassés anulou completamente as reformas iniciadas pelo rei Ezequias\, seu pai. Apesar disso\, na cidade sacerdotal de Anatote Jeremias teve contato com a tradição religiosa de seu povo. Leia mais….
URL:https://gratiaplena.online/event/dia-de-santo-jeremias/2026-05-01/
CATEGORIES:Santo do Dia
ATTACH;FMTTYPE=image/jpeg:https://gratiaplena.online/wp-content/uploads/2024/01/Jeremias.jpg
ORGANIZER;CN="Administrador":MAILTO:epzanette@gmail.com
END:VEVENT
BEGIN:VEVENT
DTSTART;VALUE=DATE:20260502
DTEND;VALUE=DATE:20260503
DTSTAMP:20260423T165630
CREATED:20240117T204056Z
LAST-MODIFIED:20240117T204056Z
UID:10001077-1777680000-1777766399@gratiaplena.online
SUMMARY:Dia de Santo Atanásio
DESCRIPTION:Celebramos hoje (2 Mai) a memória litúrgica de Santa Atanásop\, nasceu entre os anos 295 e 296\, no seio de uma família humilde de Alexandria. Deus lhe concedeu muitas virtudes\, entre elas\, uma fé profunda e uma grande capacidade intelectual\, demonstrada abundantemente em seus estudos. Aos 25 anos de idade foi ordenado diácono pelo Patriarca Alexandros\, de Alexandria. Participou do Primeiro Concilio Ecumênico\, em Niceia\, que tratou da heresia de Ário. Em 328\, faleceu o Patriarca Alexandro\, e Santo Atanásio foi eleito pelo clero e pelo povo como seu sucessor\, tornando-se Arcebispo de Alexandria do Egito\, contando apenas 33 anos de idade. Iniciou um forte combate contra a heresia de Ário e\, por causa disso\, foi exilado cinco vezes por ordem do imperador Constantino\, sofrendo toda espécie de penas. Sem dúvidas\, com fé\, valor e paciência inesgotável\, saiu vencedor e destroçou os lobos da ortodoxia.
URL:https://gratiaplena.online/event/dia-de-santo-atanasio/2026-05-02/
CATEGORIES:Santo do Dia
ATTACH;FMTTYPE=image/webp:https://gratiaplena.online/wp-content/uploads/2024/01/Santo-Atanasio.webp
ORGANIZER;CN="Administrador":MAILTO:epzanette@gmail.com
END:VEVENT
BEGIN:VEVENT
DTSTART;VALUE=DATE:20260503
DTEND;VALUE=DATE:20260504
DTSTAMP:20260423T165630
CREATED:20231229T161357Z
LAST-MODIFIED:20231229T162650Z
UID:10000833-1777766400-1777852799@gratiaplena.online
SUMMARY:Dia de São Filipe
DESCRIPTION:Festejamos hoje(3 Mai) a solenidade da festa de São Filipe. O que sabemos\, com certeza\, sobre São Filipe\, registrado nos Evangelhos\, é que ele nasceu em Betsaida\, na Galileia\, e que foi um grande comunicador de Jesus ao apresenta-lo a Natanael\, que mais tarde se tornaria o 12º apóstolo\, substituindo Judas Iscariotes.
URL:https://gratiaplena.online/event/dia-de-sao-filipe/2026-05-03/
CATEGORIES:Santo do Dia
ATTACH;FMTTYPE=image/jpeg:https://gratiaplena.online/wp-content/uploads/2023/12/Sao-Filipe-2-1.jpg
ORGANIZER;CN="Administrador":MAILTO:epzanette@gmail.com
END:VEVENT
BEGIN:VEVENT
DTSTART;VALUE=DATE:20260503
DTEND;VALUE=DATE:20260504
DTSTAMP:20260423T165630
CREATED:20231229T163807Z
LAST-MODIFIED:20231229T164203Z
UID:10000839-1777766400-1777852799@gratiaplena.online
SUMMARY:Dia de São Tiago\, menor
DESCRIPTION:Celebramos hoje (3 Masi) a solenidade de São Tiago Menor.Tiago\, filho de Alfeu\, é identificado nos evangelhos como “irmão do Senhor”\, termo usado para designar parentesco de primos. Governou a Igreja de Jerusalém e foi chamado de “o Menor” para não ser confundido com são Tiago\, o Maior\, que era irmão de são João.
URL:https://gratiaplena.online/event/dia-de-sao-tiago-menor/2026-05-03/
CATEGORIES:Santo do Dia
ATTACH;FMTTYPE=image/jpeg:https://gratiaplena.online/wp-content/uploads/2023/12/Sao-Tiago-Menor-2-1.jpg
ORGANIZER;CN="Administrador":MAILTO:epzanette@gmail.com
END:VEVENT
BEGIN:VEVENT
DTSTART;VALUE=DATE:20260503
DTEND;VALUE=DATE:20260504
DTSTAMP:20260423T165630
CREATED:20240314T181006Z
LAST-MODIFIED:20240314T181006Z
UID:10001540-1777766400-1777852799@gratiaplena.online
SUMMARY:Dia de Santo Alexandre I
DESCRIPTION:Celebramos hoje (3 Mai) a festa litúrgica de Santo Alexandre I. Papa Alexandre I (Roma\, Itália\, c. 115) foi o bispo de Roma de c. 105 até sua morte c. 115. O Anuário Pontifício da Santa Sé (2012) o identifica como um romano que governou de 108 ou 109 até 116 ou 119. Alguns acreditam que ele foi martirizado pelo imperador Trajano ou Adriano\, mas isto é improvável. De acordo com o Liber Pontificalis\, foi Alexandre I quem inseriu a narração da Última Ceia (o Qui pridie) na celebração católica do Santo Sacrifício da Missa. No entanto\, no artigo sobre Santo Alexandre I na Enciclopédia Católica de 1907\, Thomas Shahan julga esta tradição como sendo imprecisa. Especialistas tanto católicos quanto não-católicos consideram esta tradição como imprecisa. Isso é visto como um produto da agenda do Liber Pontificalis – esta seção do livro foi provavelmente escrita no final do quinto século – para mostrar um padrão antigo dos primeiros bispos de Roma governando a igreja por decreto papal.
URL:https://gratiaplena.online/event/dia-de-santo-alexandre-i/2026-05-03/
CATEGORIES:Santo do Dia
ATTACH;FMTTYPE=image/png:https://gratiaplena.online/wp-content/uploads/2024/03/Santo-Alexandre-I-2.png
ORGANIZER;CN="Administrador":MAILTO:epzanette@gmail.com
END:VEVENT
BEGIN:VEVENT
DTSTART;VALUE=DATE:20260509
DTEND;VALUE=DATE:20260510
DTSTAMP:20260423T165630
CREATED:20240103T201034Z
LAST-MODIFIED:20240719T195410Z
UID:10000950-1778284800-1778371199@gratiaplena.online
SUMMARY:Dia de Santo Isaias​
DESCRIPTION:Comemoramos hoje (9 Mai) a festa de Santo Isaias\, Profeta do Antigo Testamento. Santo Isaias é uma das maiores e mais enérgicas personalidades do Antigo Testamento. Com seu discípulo Santo Eliseu\, ele é o grande profeta do século IX a.C. no norte da Palestina\, numa época em que a religião era violentamente perseguida pela idolatria. Segundo o livro do Eclesiástico\, ele surgiu “como um fogo\, e as suas palavras ardiam como uma tocha. Fez vir sobre eles [os pagãos] a fome\, e os que o irritavam pela sua inveja\, foram reduzidos a um pequeno número\, porque não podiam suportar os preceitos do Senhor” (48\, 1-2). Leia mais…. \n 
URL:https://gratiaplena.online/event/dia-de-santo-isaias/2026-05-09/
CATEGORIES:Santo do Dia
ATTACH;FMTTYPE=image/jpeg:https://gratiaplena.online/wp-content/uploads/2024/01/Isaias.jpg
ORGANIZER;CN="Administrador":MAILTO:epzanette@gmail.com
END:VEVENT
BEGIN:VEVENT
DTSTART;VALUE=DATE:20260510
DTEND;VALUE=DATE:20260511
DTSTAMP:20260423T165630
CREATED:20240122T215854Z
LAST-MODIFIED:20240122T215854Z
UID:10001137-1778371200-1778457599@gratiaplena.online
SUMMARY:Dia de São João de Ávila
DESCRIPTION:Celebramos hoje (10 Mai) a memória litúrgica de São João de Ávila\, pregador apostólico da Andaluzia e autor\, nascido em Almodóvar del Campo\, pequena cidade da diocese de Toledo\, Espanha\, 6 de janeiro de 1500; falecido em Montilla\, em 10 de maio de 1569. Aos quatorze anos foi enviado à Universidade de Salamanca para estudar Direito. Concebendo uma aversão à jurisprudência\, ele retornou depois de um ano para a casa de seu pai\, onde passou os três anos seguintes na prática da mais austera piedade. A sua maravilhosa santidade impressionou um franciscano que viajava por Almodóvar e\, a conselho do frade\, iniciou os estudos de filosofia e teologia em Alcalá\, onde teve a sorte de ter como professor o famoso dominicano De Soto. Seus pais morreram enquanto ele era estudante e após sua ordenação ele celebrou sua primeira missa na igreja onde foram sepultados\, vendeu os bens da família e deu o dinheiro aos pobres.
URL:https://gratiaplena.online/event/dia-de-sao-joao-de-avila/2026-05-10/
CATEGORIES:Santo do Dia
ATTACH;FMTTYPE=image/webp:https://gratiaplena.online/wp-content/uploads/2024/01/Sao-Joao-de-Avila2.webp
ORGANIZER;CN="Administrador":MAILTO:epzanette@gmail.com
END:VEVENT
BEGIN:VEVENT
DTSTART;VALUE=DATE:20260514
DTEND;VALUE=DATE:20260515
DTSTAMP:20260423T165630
CREATED:20240101T162413Z
LAST-MODIFIED:20240517T164819Z
UID:10000890-1778716800-1778803199@gratiaplena.online
SUMMARY:Dia de São Matias
DESCRIPTION:Celebramoa hoje (14 Mai) a festa de São Matias\, Apóstolo\, que foi eleito como membro do colégio apostólico após a Ascensão do Senhor\, durante aquele período de dez dias de expectativa pela vinda do Espírito prometido. Matias foi escolhido dentre os que estiveram em companhia dos Doze desde o início (cf. At 1\, 21-22)\, a fim de preencher o lugar deixado por Judas Iscariotes.
URL:https://gratiaplena.online/event/dia-de-sao-matias/2026-05-14/
CATEGORIES:Santo do Dia
ATTACH;FMTTYPE=image/jpeg:https://gratiaplena.online/wp-content/uploads/2024/01/Sao-Matias-2.jpg
ORGANIZER;CN="Administrador":MAILTO:epzanette@gmail.com
END:VEVENT
BEGIN:VEVENT
DTSTART;VALUE=DATE:20260516
DTEND;VALUE=DATE:20260517
DTSTAMP:20260423T165630
CREATED:20240111T180652Z
LAST-MODIFIED:20240111T180652Z
UID:10001047-1778889600-1778975999@gratiaplena.online
SUMMARY:Dia de Santo Ubaldo
DESCRIPTION:Celebramos hoje (16 Maio) a festa litúrgica de Santo Ubaldo\, nasceu em 1085\, na Alemanha\, filho de uma nobre família\, mas ficou órfão de pai e mãe em idade bastante tenra. Em razão disso\, foi criado por um tio\, que estabeleceu sua educação sobre sólidas bases religiosas. Quando Ubaldo tinha pouco mais de 15 anos\, manifestou seu desejo de entrar para a vida monástica\, pretendendo viver como ermitão\, longe de todas as vaidades mundanas. Seu tio cuidou de dissuadi-lo\, permitindo\, no entanto\, que ele tivesse uma vida comum com os cônegos de São Segundo. Em 1104\, foi tirado da presença dos irmãos cônegos pelo bispo João\, que o queria junto a si para que trabalhassem na reforma eclesiástica.
URL:https://gratiaplena.online/event/dia-de-santo-ubaldo/2026-05-16/
CATEGORIES:Santo do Dia
ATTACH;FMTTYPE=image/jpeg:https://gratiaplena.online/wp-content/uploads/2024/01/Santo-Ubaldo2.jpg
ORGANIZER;CN="Administrador":MAILTO:epzanette@gmail.com
END:VEVENT
BEGIN:VEVENT
DTSTART;VALUE=DATE:20260516
DTEND;VALUE=DATE:20260517
DTSTAMP:20260423T165630
CREATED:20240909T012757Z
LAST-MODIFIED:20240909T013201Z
UID:10002003-1778889600-1778975999@gratiaplena.online
SUMMARY:Dia de São Simão Stock
DESCRIPTION:São Simão Stock foi filho do governador de Kent e parente da realeza inglesa. Sua família cristã e cheia de fé\, deu a ele a melhor formação religiosa\, intelectual e humana. Inteligente e disciplinado\, Simão estudou no Colégio de Oxford desde quando tinha sete anos. Os estudos e o desejo da família levavam Simão para uma vida de sucesso social glorioso. Porém\, o que ele desejava em seu coração era estar ao serviço de Deus. Leia mais….
URL:https://gratiaplena.online/event/dia-de-sao-simao-stock/2026-05-16/
CATEGORIES:Santo do Dia
ATTACH;FMTTYPE=image/jpeg:https://gratiaplena.online/wp-content/uploads/2024/09/Sao-Simao-Stock2.jpg
ORGANIZER;CN="Administrador":MAILTO:epzanette@gmail.com
END:VEVENT
BEGIN:VEVENT
DTSTART;VALUE=DATE:20260525
DTEND;VALUE=DATE:20260526
DTSTAMP:20260423T165630
CREATED:20240308T130703Z
LAST-MODIFIED:20240308T130703Z
UID:10001432-1779667200-1779753599@gratiaplena.online
SUMMARY:Dia de São Beda
DESCRIPTION:Celebramos hoje (25 Mai) a festa de São Beda. “O tempo da minha partida chegou e meu coração deseja ver a beleza de Cristo\, meu Rei”\, disse antes de morrer o doutor da Igreja e padroeiro dos historiadores\, são Beda\, cujas homilias inspiraram o lema pontifício do papa Francisco. Por ser também linguista e tradutor\, seus trabalhos com os escritos latinos e gregos dos primeiros Padres da Igreja contribuíram de maneira significativa com o cristianismo inglês.
URL:https://gratiaplena.online/event/dia-de-sao-beda/2026-05-25/
CATEGORIES:Santo do Dia
ATTACH;FMTTYPE=image/jpeg:https://gratiaplena.online/wp-content/uploads/2024/03/Sao-Beda2.jpeg
ORGANIZER;CN="Administrador":MAILTO:epzanette@gmail.com
END:VEVENT
BEGIN:VEVENT
DTSTART;VALUE=DATE:20260526
DTEND;VALUE=DATE:20260527
DTSTAMP:20260423T165630
CREATED:20240728T205317Z
LAST-MODIFIED:20240728T205317Z
UID:10001869-1779753600-1779839999@gratiaplena.online
SUMMARY:Dia de Santo Eleutério
DESCRIPTION:Celebamos hoje (26 Mai) a memória de Santo Eleutério. São Gregório de Tours\, que foi um dos primeiros historiadores da Igreja da França\, narrou que na infância enquanto Eleutério brincava com os amiguinhos\, um deles lhe disse que iria chegar a ser um bispo. Não foi um aviso profético. Certamente foi um gracejo maldoso\, pois na sua época\, as responsabilidades desta função geralmente incluíam ameaças de morte. Eleutério nasceu no ano de 456 na cidade de Tournai\, e viveu num período conturbado da história da França\, que ainda estava sendo evangelizada\, e sentia o domínio dos povos do norte europeu. Leia mais….
URL:https://gratiaplena.online/event/dia-de-santo-eleuterio/2026-05-26/
CATEGORIES:Santo do Dia
ATTACH;FMTTYPE=image/jpeg:https://gratiaplena.online/wp-content/uploads/2024/07/Santo-Eleuterio2.jpg
ORGANIZER;CN="Administrador":MAILTO:epzanette@gmail.com
END:VEVENT
BEGIN:VEVENT
DTSTART;VALUE=DATE:20260529
DTEND;VALUE=DATE:20260530
DTSTAMP:20260423T165630
CREATED:20240311T181757Z
LAST-MODIFIED:20240311T205929Z
UID:10001510-1780012800-1780099199@gratiaplena.online
SUMMARY:Dia de São Paulo VI
DESCRIPTION:Celebramos hoje (29 Maio) a festa litúrgica de São Paulo VI. O processo diocesano para a beatificação de Paulo VI começou em 11 de maio de 1993\, tendo sido beatificado em 19 de outubro de 2014 pelo Papa Francisco. Ele será canonizado em 14 de outubro de 2018 na Praça São Pedro\, durante o Sínodo dedicado aos jovens\, ao lado de Dom Óscar Arnulfo Romero\, dois sacerdotes italianos\, uma religiosa alemã e uma espanhola. Paulo VI foi o Santo Padre que concluiu o Concílio Vaticano II\, iniciado pelo seu antecessor São João XXIII. Ele é autor da Encíclica Humanae Vitae\, publicada em 25 de julho de 1968\, que defende a visão tradicional da Igreja sobre métodos anticoncepcionais e aborto.
URL:https://gratiaplena.online/event/dia-de-beato-paulo-vi/2026-05-29/
CATEGORIES:Santo do Dia
ATTACH;FMTTYPE=image/jpeg:https://gratiaplena.online/wp-content/uploads/2024/03/Beato-Paulo-VI-2.jpeg
ORGANIZER;CN="Administrador":MAILTO:epzanette@gmail.com
END:VEVENT
END:VCALENDAR