BEGIN:VCALENDAR
VERSION:2.0
PRODID:-//GratiaPlena - ECPv6.15.20//NONSGML v1.0//EN
CALSCALE:GREGORIAN
METHOD:PUBLISH
X-WR-CALNAME:GratiaPlena
X-ORIGINAL-URL:https://gratiaplena.online
X-WR-CALDESC:Eventos para GratiaPlena
REFRESH-INTERVAL;VALUE=DURATION:PT1H
X-Robots-Tag:noindex
X-PUBLISHED-TTL:PT1H
BEGIN:VTIMEZONE
TZID:America/Sao_Paulo
BEGIN:STANDARD
TZOFFSETFROM:-0300
TZOFFSETTO:-0300
TZNAME:-03
DTSTART:20240101T000000
END:STANDARD
END:VTIMEZONE
BEGIN:VEVENT
DTSTART;VALUE=DATE:20250904
DTEND;VALUE=DATE:20250905
DTSTAMP:20260424T032304
CREATED:20240903T000905Z
LAST-MODIFIED:20240904T220543Z
UID:10001957-1756944000-1757030399@gratiaplena.online
SUMMARY:Dia de São Moisés
DESCRIPTION:No século XIV a.C.\, Moisés foi salvo das águas e criado pelo faraó. Foi escolhido por Deus para libertar o Povo de Israel. Seus feitos são narrados no Pentateuco. Por meio deste profeta\, Deus deu aos judeus as tábuas da Lei e os guiou rumo à Terra Prometida. Moisés morreu aos 120 anos.  Leia tudo…
URL:https://gratiaplena.online/event/dia-de-sao-moises/2025-09-04/
CATEGORIES:Santo do Dia
ATTACH;FMTTYPE=image/jpeg:https://gratiaplena.online/wp-content/uploads/2024/09/Sao-Moises2.jpg
ORGANIZER;CN="Administrador":MAILTO:epzanette@gmail.com
END:VEVENT
BEGIN:VEVENT
DTSTART;VALUE=DATE:20250906
DTEND;VALUE=DATE:20250907
DTSTAMP:20260424T032304
CREATED:20240105T145043Z
LAST-MODIFIED:20240719T174303Z
UID:10000979-1757116800-1757203199@gratiaplena.online
SUMMARY:Dia de São Zacarias
DESCRIPTION:Celebramos hoje (6 Set) a festa do São Zacarias. Um profeta de Judá\, o décimo primeiro dos doze profetas menores. Como Ezequiel\, ele era de origem sacerdotal. Ele se descreve Zacarias como “o filho de Berequias”. É chamado de “filho de Ido”\, que era propriamente seu avô. Sua carreira profética começou no segundo ano de Dario (520 a.C.)\, cerca de dezesseis anos após o retorno do primeiro grupo do exílio. Ele era contemporâneo de Ageu\, outro profeta. NO oitavo mês do segundo ano de Dario veio a palavra do Senhor ao profeta Zacarias\, filho de Baraquias\, filho de Ido\, dizendo: O Senhor se irou fortemente contra vossos pais. Portanto dize-lhes: Assim diz o Senhor dos Exércitos: Tornai-vos para mim\, diz o Senhor dos Exércitos\, e eu me tornarei para vós\, diz o Senhor dos Exércitos.Leia mais….
URL:https://gratiaplena.online/event/dia-de-santo-zacarias/2025-09-06/
CATEGORIES:Santo do Dia
ATTACH;FMTTYPE=image/jpeg:https://gratiaplena.online/wp-content/uploads/2024/01/Sao-Zacarias-2.jpg
ORGANIZER;CN="Administrador":MAILTO:epzanette@gmail.com
END:VEVENT
BEGIN:VEVENT
DTSTART;VALUE=DATE:20250921
DTEND;VALUE=DATE:20250922
DTSTAMP:20260424T032304
CREATED:20240720T142701Z
LAST-MODIFIED:20240828T124617Z
UID:10001836-1758412800-1758499199@gratiaplena.online
SUMMARY:Dia de São Jonas
DESCRIPTION:Hoje (21 Set) e a sua festa. São Jonas\, profeta\, filho de Amitai. A partir da vida do profeta Jonas queremos propor uma reflexão sobre a realização da vontade de Deus e a sua aceitação. Jonas fugiu da “face do Senhor” O autor\, ao descrever a fuga de Jonas do chamado profético\, mostra até onde podemos ir quando não queremos fazer algo. Jonas ouve a Deus pedindo para que ele vá para Nínive\, mas toma a direção de Társis\, fugindo da face do Senhor. A partir daí\, Jonas faz um caminho de descida. . Leia mais….
URL:https://gratiaplena.online/event/dia-de-sao-jonas/2025-09-21/
CATEGORIES:Santo do Dia
ATTACH;FMTTYPE=image/jpeg:https://gratiaplena.online/wp-content/uploads/2024/07/Jonas.jpg
ORGANIZER;CN="Administrador":MAILTO:epzanette@gmail.com
END:VEVENT
END:VCALENDAR