BEGIN:VCALENDAR
VERSION:2.0
PRODID:-//GratiaPlena - ECPv6.15.20//NONSGML v1.0//EN
CALSCALE:GREGORIAN
METHOD:PUBLISH
X-WR-CALNAME:GratiaPlena
X-ORIGINAL-URL:https://gratiaplena.online
X-WR-CALDESC:Eventos para GratiaPlena
REFRESH-INTERVAL;VALUE=DURATION:PT1H
X-Robots-Tag:noindex
X-PUBLISHED-TTL:PT1H
BEGIN:VTIMEZONE
TZID:America/Sao_Paulo
BEGIN:STANDARD
TZOFFSETFROM:-0300
TZOFFSETTO:-0300
TZNAME:-03
DTSTART:20250101T000000
END:STANDARD
END:VTIMEZONE
BEGIN:VEVENT
DTSTART;VALUE=DATE:20260315
DTEND;VALUE=DATE:20260316
DTSTAMP:20260423T164736
CREATED:20240318T140843Z
LAST-MODIFIED:20240318T140843Z
UID:10001587-1773532800-1773619199@gratiaplena.online
SUMMARY:Dia de São Zacarias
DESCRIPTION:Celebramos hoje (15 Mar) a festa litúrgica de São Zacarias. Ao contrário do seu predecessor Gregório III\, relativamente a Liutprando\, rei dos Lombardos\, julgou ser melhor partido inaugurar com ele relações amistosas. Concluiu assim um acordo bastante vantajoso\, recuperando quatro fortalezas e vários patrimônios; estipulou também com ele uma trégua de trinta anos. Mas não conseguiu impedir os Lombardos de tirarem aos Bizantinos o exarcado de Ravena.
URL:https://gratiaplena.online/event/dia-de-sao-zacarias/2026-03-15/
CATEGORIES:Santo do Dia
ATTACH;FMTTYPE=image/jpeg:https://gratiaplena.online/wp-content/uploads/2024/03/Sao-Zacarias2.jpg
ORGANIZER;CN="Administrador":MAILTO:epzanette@gmail.com
END:VEVENT
END:VCALENDAR