BEGIN:VCALENDAR
VERSION:2.0
PRODID:-//GratiaPlena - ECPv6.15.20//NONSGML v1.0//EN
CALSCALE:GREGORIAN
METHOD:PUBLISH
X-WR-CALNAME:GratiaPlena
X-ORIGINAL-URL:https://gratiaplena.online
X-WR-CALDESC:Eventos para GratiaPlena
REFRESH-INTERVAL;VALUE=DURATION:PT1H
X-Robots-Tag:noindex
X-PUBLISHED-TTL:PT1H
BEGIN:VTIMEZONE
TZID:America/Sao_Paulo
BEGIN:STANDARD
TZOFFSETFROM:-0300
TZOFFSETTO:-0300
TZNAME:-03
DTSTART:20240101T000000
END:STANDARD
END:VTIMEZONE
BEGIN:VEVENT
DTSTART;VALUE=DATE:20250903
DTEND;VALUE=DATE:20250904
DTSTAMP:20260424T034404
CREATED:20240103T173751Z
LAST-MODIFIED:20240902T195019Z
UID:10000943-1756857600-1756943999@gratiaplena.online
SUMMARY:Dia de São Gregório Magno
DESCRIPTION:Gregório nasceu em Roma\, no ano 540\, em uma família patrícia\, conhecida como Anici\, de grande fé cristã\, que prestou muitos serviços à Sé Apostólica. Seus pais\, Gordiano e Silvia – que a Igreja venera como santa em 3 de novembro – transmitiram-lhes nobres valores evangélicos\, mediante seu grande exemplo. Após seus estudos de Direito\, Gregório empreendeu a carreira política e ocupou o cargo de Prefeito da cidade do Roma. Esta experiência o amadureceu e o levou a ter uma maior visão da cidade\, as suas problemáticas e um profundo senso da ordem e da disciplina Leia mais….
URL:https://gratiaplena.online/event/dia-de-sao-gregorio-magno/2025-09-03/
CATEGORIES:Santo do Dia
ATTACH;FMTTYPE=image/jpeg:https://gratiaplena.online/wp-content/uploads/2024/01/Sao-Gregorio-Magno2.jpg
ORGANIZER;CN="Administrador":MAILTO:epzanette@gmail.com
END:VEVENT
BEGIN:VEVENT
DTSTART;VALUE=DATE:20250904
DTEND;VALUE=DATE:20250905
DTSTAMP:20260424T034404
CREATED:20240902T232101Z
LAST-MODIFIED:20240904T220429Z
UID:10001952-1756944000-1757030399@gratiaplena.online
SUMMARY:Dia de São Bonifácio I
DESCRIPTION:Comemoramos hoje (4 Set) o Papa São Bonifácio I. Bonifácio foi eleito Papa\, em 418\, em um Conclave bastante complicado. Mas\, seus difamadores também elegeram Eulálio. Logo\, um Papa e um Antipapa. Bonifácio\, porém\, com sabedoria\, conseguiu fazer Eulálio voltar atrás\, nomeando-o Bispo e restaurando o prestígio da Igreja de Roma. Faleceu em 422.  Leia mais…
URL:https://gratiaplena.online/event/dia-de-sao-bonifacio-i/2025-09-04/
CATEGORIES:Santo do Dia
ATTACH;FMTTYPE=image/jpeg:https://gratiaplena.online/wp-content/uploads/2024/09/Santo-Bonifacio-I-2.jpg
ORGANIZER;CN="Administrador":MAILTO:epzanette@gmail.com
END:VEVENT
BEGIN:VEVENT
DTSTART;VALUE=DATE:20250916
DTEND;VALUE=DATE:20250917
DTSTAMP:20260424T034404
CREATED:20240216T172552Z
LAST-MODIFIED:20240828T123206Z
UID:10001358-1757980800-1758067199@gratiaplena.online
SUMMARY:Dia de Beato Vítor III
DESCRIPTION:Celebramos hoje (16 Set) a festa de Beato Vítor III. Nascido em 1026 ou 1027 em um ramo não reinante dos duques lombardos de Benevento; morreu em Roma\, em 16 de setembro de 1087. Sendo filho único\, seu desejo de abraçar o estado monástico foi fortemente combatido por seus pais. Após a morte de seu pai na batalha contra os normandos\, em 1047\, ele fugiu do casamento que lhe havia sido arranjado e\, embora trazido de volta à força\, eventualmente\, após uma segunda fuga para Cava\, obteve permissão para entrar no mosteiro de Santa Sofia em Benevento\, onde ele recebeu o nome de Desidério.
URL:https://gratiaplena.online/event/dia-de-beato-vitor-iii/2025-09-16/
CATEGORIES:Santo do Dia
ATTACH;FMTTYPE=image/jpeg:https://gratiaplena.online/wp-content/uploads/2024/02/Beato-Victor-III-2.jpeg
END:VEVENT
BEGIN:VEVENT
DTSTART;VALUE=DATE:20250916
DTEND;VALUE=DATE:20250917
DTSTAMP:20260424T034404
CREATED:20240216T193103Z
LAST-MODIFIED:20240216T193421Z
UID:10001377-1757980800-1758067199@gratiaplena.online
SUMMARY:Dia de São Cornélio
DESCRIPTION:Comemoramos hojee (16 Set) a memória de São Cornélio\, romano de origem\, São Cornélio morreu no exílio em Civitavecchia\, em junho de 253\, após dois anos de um pontificado perturbado pelo cisma de Novaciano. Foi aí que\, segundo o Martirológio Romano\, foi martirizado. \n 
URL:https://gratiaplena.online/event/dia-de-sao-cornelio/2025-09-16/
CATEGORIES:Santo do Dia
ATTACH;FMTTYPE=image/jpeg:https://gratiaplena.online/wp-content/uploads/2024/02/SSCornelio-2.jpeg
ORGANIZER;CN="Administrador":MAILTO:epzanette@gmail.com
END:VEVENT
BEGIN:VEVENT
DTSTART;VALUE=DATE:20250923
DTEND;VALUE=DATE:20250924
DTSTAMP:20260424T034404
CREATED:20240311T232144Z
LAST-MODIFIED:20240828T124903Z
UID:10001515-1758585600-1758671999@gratiaplena.online
SUMMARY:Dia de São Lino
DESCRIPTION:Celebramos hoje (23 Set) a festa de São Lino. Segundo papa apostólico da Igreja Cristã de Roma (67-76) nascido em Volterra\, na Etrúria\, que segundo a tradição foi indicado como sucessor pelo primeiro papa antes de sua crucificação\, São Pedro\, este conhecido como príncipe dos apóstolos de Cristo. Depois que os Santos Apóstolos Pedro e Paulo tinham fundado e organizado a Igreja em Roma\, passaram o exercício do escritório episcopal para ele. Seu nomne aparece mencionado na Bíblia Católica\, no texto da Epístola de São Paulo para Timótio (4:21). Como papa testemunhou a queda de alguns imperadores romanos e a destruição de Jerusalém. Combateu firmemente a feitiçaria e os falsos missionários que tentavam adulterar a doutrina cristã. \n 
URL:https://gratiaplena.online/event/dia-de-sao-lino/2025-09-23/
CATEGORIES:Santo do Dia
ATTACH;FMTTYPE=image/jpeg:https://gratiaplena.online/wp-content/uploads/2024/03/Sao-Lino2.jpeg
ORGANIZER;CN="Administrador":MAILTO:epzanette@gmail.com
END:VEVENT
END:VCALENDAR