BEGIN:VCALENDAR
VERSION:2.0
PRODID:-//GratiaPlena - ECPv6.15.20//NONSGML v1.0//EN
CALSCALE:GREGORIAN
METHOD:PUBLISH
X-WR-CALNAME:GratiaPlena
X-ORIGINAL-URL:https://gratiaplena.online
X-WR-CALDESC:Eventos para GratiaPlena
REFRESH-INTERVAL;VALUE=DURATION:PT1H
X-Robots-Tag:noindex
X-PUBLISHED-TTL:PT1H
BEGIN:VTIMEZONE
TZID:America/Sao_Paulo
BEGIN:STANDARD
TZOFFSETFROM:-0300
TZOFFSETTO:-0300
TZNAME:-03
DTSTART:20240101T000000
END:STANDARD
END:VTIMEZONE
BEGIN:VEVENT
DTSTART;VALUE=DATE:20250403
DTEND;VALUE=DATE:20250404
DTSTAMP:20260424T104521
CREATED:20240314T191021Z
LAST-MODIFIED:20240314T191021Z
UID:10001545-1743638400-1743724799@gratiaplena.online
SUMMARY:Dia de Sâo Sisto I
DESCRIPTION:Celebramos hoje (3 Abr) a memória litúrgica de Sâo Sisto I. Sexto sucessor de Pedro\, São Sisto I introduziu na missa o tríplice canto do Sanctus. Hoje é dia de São Sisto I\, Papa e mártir. Sisto foi o sétimo Pontífice da Igreja\, ocupando a Cátedra de Pedro entre 115 e 125\, um papado longevo\, considerando-se o contexto de perseguição anticristã em tal fase da Igreja Primitiva. Procedente da Calábria\, Sisto sistematizou e normatizou vários procedimentos sagrados nas cerimônias religiosas\, como a permissão de se tocar os objetos sagrados ser exclusiva dos religiosos ou seus ministros autorizados\, e o tríplice canto do Sanctus nas missas. Não há registros sobre sua morte\, mas a Igreja honra-o como mártir.
URL:https://gratiaplena.online/event/dia-de-sao-sisto-i/2025-04-03/
CATEGORIES:Santo do Dia
ATTACH;FMTTYPE=image/jpeg:https://gratiaplena.online/wp-content/uploads/2024/03/Sao-Sisto-I-2.jpeg
ORGANIZER;CN="Administrador":MAILTO:epzanette@gmail.com
END:VEVENT
BEGIN:VEVENT
DTSTART;VALUE=DATE:20250420
DTEND;VALUE=DATE:20250421
DTSTAMP:20260424T104521
CREATED:20240711T195748Z
LAST-MODIFIED:20240728T201528Z
UID:10001793-1745107200-1745193599@gratiaplena.online
SUMMARY:Dia de Santo Aniceto
DESCRIPTION:Comemoramos hoje (20 Abr) a memória de Santo Aniceto. Aniceto nasceu na Síria e foi sucessor do papa são Pio I\, em 155\, no tempo em que Antônio era o imperador romano. Entretanto\, além da perseguição sistemática por parte do Império\, o papa Aniceto teve de enfrentar\, também\, cismas internos que abalaram o cristianismo. A começar por Valentim\, passando por Marcelina\, que fundou a seita dos carpocratitas\, considerada muito imoral pela Igreja\, e chegando a Marcion\, um propagador\, com dotes de publicitário\, que arregimentou muita gente\, e muitos outros. Sem contar a questão da celebração da Páscoa. Leia mais….
URL:https://gratiaplena.online/event/dia-de-santo-aniceto/2025-04-20/
CATEGORIES:Santo do Dia
ATTACH;FMTTYPE=image/jpeg:https://gratiaplena.online/wp-content/uploads/2024/07/Santo-Aniceto-2.jpg
ORGANIZER;CN="Administrador":MAILTO:epzanette@gmail.com
END:VEVENT
BEGIN:VEVENT
DTSTART;VALUE=DATE:20250422
DTEND;VALUE=DATE:20250423
DTSTAMP:20260424T104521
CREATED:20240728T195317Z
LAST-MODIFIED:20240728T195317Z
UID:10001862-1745280000-1745366399@gratiaplena.online
SUMMARY:Dia de São Sotero
DESCRIPTION:Homenafgeamos hoje (22 Abr) São Sotero. Poucas são as informações biográficas de Sotero. Foi papa entre 166 e 175\, período em que ser cristão era muito difícil e perigoso. Ele foi eleito o sucessor do papa Aniceto\, que morreu em 165. Nasceu na cidade de Fondi\, na Campânia\, Itália\, e seu pai se chamava Concórdio. Durante o seu pontificado\, a Igreja ampliou-se bastante. Ele mesmo ordenou inúmeros diáconos\, sacerdotes e bispos; e seu pontificado foi exemplar. Disciplinou\, por meio das leis canônicas\, a participação das mulheres na Igreja\, que até então não tinham seu caminho muito bem definido. Mas\, sobretudo\, o papa Sotero combateu com grande valentia e coragem as heresias que pairavam sobre a Igreja dos tempos iniciais do cristianismo. No seu tempo\, foi extinta a heresia de Montano\, que propunha um exagerado rigor de costumes. Era uma doutrina de medo e de pessimismo\, porque o fim do mundo sempre poderia acontecer a qualquer momento. Leia mais….
URL:https://gratiaplena.online/event/dia-de-sao-sotero/2025-04-22/
CATEGORIES:Santo do Dia
ATTACH;FMTTYPE=image/jpeg:https://gratiaplena.online/wp-content/uploads/2024/07/Sao-Sotero2.jpg
ORGANIZER;CN="Administrador":MAILTO:epzanette@gmail.com
END:VEVENT
BEGIN:VEVENT
DTSTART;VALUE=DATE:20250426
DTEND;VALUE=DATE:20250427
DTSTAMP:20260424T104521
CREATED:20240312T002318Z
LAST-MODIFIED:20240312T002318Z
UID:10001521-1745625600-1745711999@gratiaplena.online
SUMMARY:Dia de Santo Anacleto
DESCRIPTION:Celebramos hoje (26 Abril) aa festa litúrgica de Santo Anacleto. Sucessor do Papa Lino \, Santo Anacleto nasceu em Atenas\, na Grécia\, filho de Antíoco. Ele viveu sob os imperadores Vespasiano\, Tito e Domiciano; este último desencadeou uma perseguição violenta contra os cristãos que terminou no ano 95; estando morto em 92\, provavelmente Cleto não sofreu o martírio com a maioria dos cristãos na cidade. Em 24 de agosto de 79\, a erupção do Monte Vesúvio causou a destruição das cidades de Estábia\, Ercolano e Pompeia\, uma cidade onde já havia uma grande comunidade de cristãos. Na história de Roma da época\, nota-se que no ano seguinte à erupção foi inaugurado o Anfiteatro Flávio\, e em 85\, foi inaugurado o estádio de Domiciano\, o que corresponde à Piazza Navona. \n 
URL:https://gratiaplena.online/event/dia-de-santo-anacleto/2025-04-26/
CATEGORIES:Santo do Dia
ATTACH;FMTTYPE=image/webp:https://gratiaplena.online/wp-content/uploads/2024/03/Santo-Anacleto2.webp
ORGANIZER;CN="Administrador":MAILTO:epzanette@gmail.com
END:VEVENT
END:VCALENDAR