BEGIN:VCALENDAR
VERSION:2.0
PRODID:-//GratiaPlena - ECPv6.15.20//NONSGML v1.0//EN
CALSCALE:GREGORIAN
METHOD:PUBLISH
X-WR-CALNAME:GratiaPlena
X-ORIGINAL-URL:https://gratiaplena.online
X-WR-CALDESC:Eventos para GratiaPlena
REFRESH-INTERVAL;VALUE=DURATION:PT1H
X-Robots-Tag:noindex
X-PUBLISHED-TTL:PT1H
BEGIN:VTIMEZONE
TZID:America/Sao_Paulo
BEGIN:STANDARD
TZOFFSETFROM:-0300
TZOFFSETTO:-0300
TZNAME:-03
DTSTART:20250101T000000
END:STANDARD
END:VTIMEZONE
BEGIN:VEVENT
DTSTART;VALUE=DATE:20260501
DTEND;VALUE=DATE:20260502
DTSTAMP:20260423T153807
CREATED:20231130T162638Z
LAST-MODIFIED:20240517T164133Z
UID:10000693-1777593600-1777679999@gratiaplena.online
SUMMARY:Dia de São José Operário
DESCRIPTION:Celebramos hoje (1 Mai) a solenidade do Padroeiro de nossa Paróquia. Celebra-se\, hoje\, São José\, pai terreno de Jesus\, sob as vestes de carpinteiro\, que dá testemunho do fato de que até o trabalho humilde pode tornar o homem partícipe do plano divino da salvação. É venerado como Padroeiro dos trabalhadores cristãos.
URL:https://gratiaplena.online/event/dia-de-sao-jose-operario/2026-05-01/
LOCATION:Igreja São José Operário\, Rua São Leopoldo\, 01\, Bairro Vera Cruz\, Passo Fundo\, Rio Grande do Sul\, 99040-040\, Brazil
CATEGORIES:Santo do Dia
ATTACH;FMTTYPE=image/jpeg:https://gratiaplena.online/wp-content/uploads/2023/11/Sao-Jose-Operario-02.jpg
ORGANIZER;CN="Par%C3%B3quia S%C3%A3o Jos%C3%A9 Oper%C3%A1rio":MAILTO:sjoperariopf@arquidiocesedepassofundo.com.br
END:VEVENT
BEGIN:VEVENT
DTSTART;VALUE=DATE:20260613
DTEND;VALUE=DATE:20260614
DTSTAMP:20260423T153807
CREATED:20231130T121451Z
LAST-MODIFIED:20240517T164209Z
UID:10000683-1781308800-1781395199@gratiaplena.online
SUMMARY:Dia de Santo Antônio
DESCRIPTION:Celebramos hoje (13 Jun) a solenidade do Padroeiro de nossa Paróquia. Seu nome de batismo é Fernando. No ano seguinte\, em comemoração à sua morte\, o Papa Gregório IX anunciou sua canonização. No dia 8 de abril de 1263\, seu corpo foi transferido para uma basílica erguida em sua homenagem na mesma cidade e\, mais tarde\, em 1310\, seus restos mortais foram depositados em uma capela recém-construída na extremidade esquerda da mesma basílica. Em 1946\, o Papa Pio XII declarou oficialmente Santo Antônio de Pádua como Doutor da Igreja. \n 
URL:https://gratiaplena.online/event/dia-de-santo-antonio/2026-06-13/
LOCATION:Igreja Santo Antônio\, Rua Moron\, 732\, Bairro Petrópolis\, Passo Fundo\, Rio Grande do Sul\, 99051-400\, Brazil
CATEGORIES:Santo do Dia
ATTACH;FMTTYPE=image/jpeg:https://gratiaplena.online/wp-content/uploads/2023/11/Santo-Antonio.jpg
ORGANIZER;CN="Par%C3%B3quia Santo Ant%C3%B4nio":MAILTO:psapf@arquidiocesedepassofundo.com.br
END:VEVENT
BEGIN:VEVENT
DTSTART;VALUE=DATE:20260616
DTEND;VALUE=DATE:20260617
DTSTAMP:20260423T153807
CREATED:20240616T211940Z
LAST-MODIFIED:20250123T180743Z
UID:10002564-1781568000-1781654399@gratiaplena.online
SUMMARY:Dia de Santa Lutgarda de Aywières
DESCRIPTION:Celebramos hoje (16 Jn) a festa de Santa Lutgarda de Aywières. Padroeira da Bélgica\, Santa Lutgard foi abençoada com uma mística troca de corações com o Senhor. Assim confirmada na certeza do amor que Jesus tinha por ela\, ela tornou-se\, a partir de então\, chama viva de caridade. No longínquo ano de 1182\, numa família burguesa da cidade belga de Tongres\, nasceu uma menina de aspecto vivo e brilhante\, a quem batizaram com o nome de Lutgarda. Leia mais…. \n 
URL:https://gratiaplena.online/event/dia-de-santa-lutgarda-de-aywieres/2026-06-16/
CATEGORIES:Santo do Dia
ATTACH;FMTTYPE=image/png:https://gratiaplena.online/wp-content/uploads/2025/01/Santa-Lutgarda-de-Aywieres.png
ORGANIZER;CN="Administrador":MAILTO:epzanette@gmail.com
END:VEVENT
BEGIN:VEVENT
DTSTART;VALUE=DATE:20260711
DTEND;VALUE=DATE:20260712
DTSTAMP:20260423T153807
CREATED:20240209T132930Z
LAST-MODIFIED:20240209T132930Z
UID:10001260-1783728000-1783814399@gratiaplena.online
SUMMARY:Dia de So Bento
DESCRIPTION:Comemoramos hoje (11 Jul) a memória de S. Bento de Núrsia\, pai do Ocidente\, padroeiro da Europa e um dos santos mais influentes de todo o ocidente. Bento era oriundo da nobre família Anicia\, que dera a Roma cônsules e imperadores\, e nasceu no povoado de Sabino\, em Núrcia\, na Umbria\, por volta de 480. Quatro anos antes\, Odoacro\, chefe de um exército de mercenários germânicos de estirpe hérula\,  destituía o último imperador romano do Ocidente\, fazendo cessar assim o domínio que tinha Roma sobre todo o mundo civilizado de então. Bento tinha uma irmã gêmea\, Escolástica\, da qual sabe-se que foi consagrada a Deus desde a infância\, mas não se tem mais pormenores de sua vida\, a não ser de sua morte.
URL:https://gratiaplena.online/event/dia-de-so-bento/2026-07-11/
CATEGORIES:Santo do Dia
ATTACH;FMTTYPE=image/jpeg:https://gratiaplena.online/wp-content/uploads/2024/02/Sao-Beno2.jpg
ORGANIZER;CN="Administrador":MAILTO:epzanette@gmail.com
END:VEVENT
BEGIN:VEVENT
DTSTART;VALUE=DATE:20261001
DTEND;VALUE=DATE:20261002
DTSTAMP:20260423T153807
CREATED:20231130T201205Z
LAST-MODIFIED:20240828T134143Z
UID:10000663-1790812800-1790899199@gratiaplena.online
SUMMARY:Dia de Santa Teresinha do Menino Jesus
DESCRIPTION:Celebramos hoje (1 Out) a memória da Padroeira de nossa Paróquia. Celebramos\, neste dia\, a memória litúrgica de Santa Terezinha do Menino Jesus\, padroeira das missões\, a Santa das rosas e que nos ensina a enfrentar as dificuldades com amor e paciência. Ela é padroeira das missões\, pois do Carmelo de Lisieux\, onde residia\, rezava por toda a Igreja. Ela nos deixou um grande exemplo de oração e de que por meio da perseverança conseguiremos grandes coisas. 
URL:https://gratiaplena.online/event/dia-de-santa-teresinha/2026-10-01/
LOCATION:Igreja Santa Teresinha\, Rua General Prestes Guimarães\, 480 - Bairro Rodrigues\, Passo Fundo\, RS\, 99070-030\, Brazil
CATEGORIES:Santo do Dia
ATTACH;FMTTYPE=image/jpeg:https://gratiaplena.online/wp-content/uploads/2023/11/Santa-Teresinha.jpg
ORGANIZER;CN="Par%C3%B3quia Santa Teresinha":MAILTO:parostpf@arquidiocesedepassofundo.com.br
END:VEVENT
BEGIN:VEVENT
DTSTART;VALUE=DATE:20261004
DTEND;VALUE=DATE:20261005
DTSTAMP:20260423T153807
CREATED:20231130T145115Z
LAST-MODIFIED:20240905T175948Z
UID:10000658-1791072000-1791158399@gratiaplena.online
SUMMARY:Dia de São Francisco de Assis
DESCRIPTION:Celebramos hoje (4 Out) a memória do Padroeiro de nossa Paróquia. São Francisco de Assis nasceu em Assis\, Itália\, em 1182. Era filho de Pedro Bernardone\, um rico comerciante\, e Pia\, de família nobre da Provença. Na juventude\, Francisco era muito rico e esbanjava dinheiro com ostentações. Porém\, os negócios de seu pai não lhe despertaram interesse\, muito menos os estudos. O que ele queria mesmo era se divertir. Porém\, São Boaventura\, seu contemporâneo\, escreveu sobre ele: “Mas\, com o auxílio divino\, jamais se deixou levar pelo ardor das paixões que dominavam os jovens de sua companhia”. Leia mais….
URL:https://gratiaplena.online/event/dia-de-sao-francisco-de-assis/2026-10-04/
LOCATION:Igreja São Francisco de Assis\, Rua Aspirante Jenner\, 579\, Santa Maria\, Passo Fundo\, Rio Grande do Sul\, 99070-020\, Brazil
CATEGORIES:Santo do Dia
ATTACH;FMTTYPE=image/jpeg:https://gratiaplena.online/wp-content/uploads/2023/11/Sao-Francisco-de-Assis2.jpg
ORGANIZER;CN="Par%C3%B3quia S%C3%A3o Francisco de Assis":MAILTO:paroquiasfa@arquidiocesedepassofundo.com.br
END:VEVENT
BEGIN:VEVENT
DTSTART;VALUE=DATE:20261012
DTEND;VALUE=DATE:20261013
DTSTAMP:20260423T153807
CREATED:20231203T110137Z
LAST-MODIFIED:20241004T185758Z
UID:10000634-1791763200-1791849599@gratiaplena.online
SUMMARY:Dia de Nossa Senhora Aparecida
DESCRIPTION:Na manhã de 12 de outubro de 1717\, três pescadores lançaram seus barcos no Rio Paraíba\, que escorria até à sua cidade. Eles tinham sido encarregados de trazer peixes para o banquete\, que se realizaria no dia seguinte\, na cidade de Guaratinguetá\, por ocasião da visita do conde Assumar\, Dom Pedro de Almeida Portugal\, governante da capitania de São Paulo e Minas Gerais\, durante uma viagem a Vila Rica. Os três pescadores\, Domingos Garcia\, João Alves e Filipe Pedroso\, pareciam não ter sorte naquela manhã: após várias tentativas infrutíferas\, tinham quase desistido\, quando João Alves tentou novamente. Ele jogou sua rede nas águas do rio e\, lentamente\, a puxou para cima. Havia pescado alguma coisa\, mas não era peixe… parecia uma espécie de madeira. Leia mais….
URL:https://gratiaplena.online/event/dia-de-nossa-senhora-aparecida-2/2026-10-12/
LOCATION:Catedral Nossa Senhora Aparecida\, Av General Netto\, 328\, Centro\, Passo Fundo\, RS\, 99010-022\, Brazil
CATEGORIES:Santo do Dia
ATTACH;FMTTYPE=image/jpeg:https://gratiaplena.online/wp-content/uploads/2023/12/Nossa-Senhora-Aparecida2.jpg
ORGANIZER;CN="Par%C3%B3quia Catedral Nossa Senhora Aparecida":MAILTO:catedral@arquidiocesedepassofundo.com.br
END:VEVENT
BEGIN:VEVENT
DTSTART;VALUE=DATE:20261018
DTEND;VALUE=DATE:20261019
DTSTAMP:20260423T153807
CREATED:20231220T225942Z
LAST-MODIFIED:20240828T135521Z
UID:10000786-1792281600-1792367999@gratiaplena.online
SUMMARY:Dia de São Lucas
DESCRIPTION:Comemoramos nesta data (18 Out)\, a festa de São Lucas. Na data também é comemorado o Dia do Médico\, um profissional responsável por cuidar e promover a saúde de toda a população. São Lucas é o terceiro Evangelista do Novo Testamento. Médico\, tornou-se também padroeiro desses profissionais. Esse grande santo não conviveu pessoalmente com Jesus\, por essa razão\, a sua narrativa é baseada em depoimentos de pessoas que testemunharam a vida e a morte de Cristo. Nascido em Antioquia da Síria\, Lucas foi convertido pelo apóstolo São Paulo\, do qual se tornou inseparável e fiel companheiro de missão.
URL:https://gratiaplena.online/event/dia-de-sao-lucas/2026-10-18/
CATEGORIES:Santo do Dia
ATTACH;FMTTYPE=image/jpeg:https://gratiaplena.online/wp-content/uploads/2023/12/Sao-Lucas-1.jpg
ORGANIZER;CN="Administrador":MAILTO:epzanette@gmail.com
END:VEVENT
BEGIN:VEVENT
DTSTART;VALUE=DATE:20261019
DTEND;VALUE=DATE:20261020
DTSTAMP:20260423T153807
CREATED:20231129T000952Z
LAST-MODIFIED:20240828T135722Z
UID:10000653-1792368000-1792454399@gratiaplena.online
SUMMARY:Dia de São Pedro de Alcântara
DESCRIPTION:Celebramos hoje (19 Out) a festa de S. Pedro de Alcântara\, franciscano de origem espanhola que realizou um trabalho admirável de evangelização na corte de Portugal. É por causa desse parentesco espiritual com que Deus o vinculou à nação portuguesa que\, em 1826\, o então Pontífice\, Papa Leão XII\, nomeou-o Padroeiro do Brasil a instâncias de D. Pedro I.
URL:https://gratiaplena.online/event/dia-de-sao-pedro-de-alcantara/2026-10-19/
CATEGORIES:Santo do Dia
ATTACH;FMTTYPE=image/jpeg:https://gratiaplena.online/wp-content/uploads/2023/11/Sao-Pedro-de-Alcantara.jpg
ORGANIZER;CN="Administrador":MAILTO:epzanette@gmail.com
END:VEVENT
BEGIN:VEVENT
DTSTART;VALUE=DATE:20261028
DTEND;VALUE=DATE:20261029
DTSTAMP:20260423T153807
CREATED:20231130T190422Z
LAST-MODIFIED:20240828T140413Z
UID:10000648-1793145600-1793231999@gratiaplena.online
SUMMARY:Dia de São Judas Tadeu
DESCRIPTION:Celebramos hoje (28 Out) a festa do Padroeiro de nossa Paróquia. Dois Santos e dois Apóstolos de Cristo; segundo a tradição\, ambos foram mártires do Evangelho\, na Mesopotâmia. A Igreja comemora a sua festa no dia 28 de outubro: A história dos dois discípulos\, unidos pelo amor de Cristo e pelo seu testemunho corajoso\, é recordada em uma única data.  Simão (dito o Zelote) e Judas Tadeu.
URL:https://gratiaplena.online/event/dia-de-sao-judas-tadeu/2026-10-28/
LOCATION:Igreja São Judas Tadeu\, Rua 10 de abril\, 879\, Vila Luiza\, Passo Fundo\, Rio Grande do Sul\, 99010-210\, Brazil
CATEGORIES:Santo do Dia
ATTACH;FMTTYPE=image/jpeg:https://gratiaplena.online/wp-content/uploads/2023/11/Sao-Judas-Tadeu.jpg
ORGANIZER;CN="Par%C3%B3quia S%C3%A3o Judas Tadeu":MAILTO:secsjt@arquidiocesedepassofundo.com.br
END:VEVENT
BEGIN:VEVENT
DTSTART;VALUE=DATE:20261122
DTEND;VALUE=DATE:20261123
DTSTAMP:20260423T153807
CREATED:20231123T032026Z
LAST-MODIFIED:20231211T170554Z
UID:10000639-1795305600-1795391999@gratiaplena.online
SUMMARY:Dia de Santa Cecília
DESCRIPTION:Celebramos hoje (22 Nov) a memória de Santa Cecília\, uma santa cristã\, padroeira dos músicos e da música sacra\, pois consta que ao morrer ela teria cantado a Deus. Não se tem muitas informações sobre a sua vida. Escavações arqueológicas não deixam dúvidas sobre sua existência\, mas sua história só foi registrada no século V\, na narrativa Paixão de Santa Cecília. Santa Cecília é a santa da Igreja Católica que mais tem basílicas em Roma (nenhuma outra santa conseguiu tal feito) e é uma das santas mais veneradas da Idade Média\, além de ser a primeira santa encontrada com corpo incorrupto\, no ano de 1599\, mesmo depois de tantos séculos. Uma estátua de seu corpo que não se decompôs com a força do tempo até então foi feita por Stefano Maderno (1566-1636). \n(Maestro della Santa Cecilia\, Wikipédia\, Santa Cecilia e storie della sua vita\, 1304 Uffizi)
URL:https://gratiaplena.online/event/dia-de-santa-cecilia/2026-11-22/
CATEGORIES:Santo do Dia
ATTACH;FMTTYPE=image/jpeg:https://gratiaplena.online/wp-content/uploads/2023/11/Maestro-della-Santa-Cecilia-Santa-Cecilia-e-storie-della-sua-vita-1304-Uffizi.jpg
ORGANIZER;CN="Administrador":MAILTO:epzanette@gmail.com
END:VEVENT
BEGIN:VEVENT
DTSTART;VALUE=DATE:20261210
DTEND;VALUE=DATE:20261211
DTSTAMP:20260423T153807
CREATED:20231210T202113Z
LAST-MODIFIED:20240828T144407Z
UID:10000739-1796860800-1796947199@gratiaplena.online
SUMMARY:Dia de Nossa Senhora de Loreto
DESCRIPTION:Celebramos hoje (10 Dez) a festa de Nossa Senhora de Loreto\, Padroeira dos aviadores e da aviação\, intercessora pela casa própria. Extraordinariamente\, a Casa da Sagrada Família que ficava em Nazaré\, Israel\, foi transportada inteira (No dia 10 de dezembro)\, sem ser demolida\, para a região de Loreto\, na Itália. Trata-se de um fenômeno que permanece sem explicação científica e que demonstra a importância que o próprio Senhor dá a esta casa.
URL:https://gratiaplena.online/event/dia-de-nossa-senhora-de-loreto/2026-12-10/
LOCATION:Santuário da Santa Casa de Loreto\, Piazza della Madonna\, 1\,\, Loreto AN\, 60025\, Italy
CATEGORIES:Santo do Dia
ATTACH;FMTTYPE=image/jpeg:https://gratiaplena.online/wp-content/uploads/2023/12/Nossa-Senhora-de-Loreto.jpeg
ORGANIZER;CN="Administrador":MAILTO:epzanette@gmail.com
END:VEVENT
BEGIN:VEVENT
DTSTART;VALUE=DATE:20270315
DTEND;VALUE=DATE:20270316
DTSTAMP:20260423T153807
CREATED:20240318T131948Z
LAST-MODIFIED:20240318T132044Z
UID:10001582-1805068800-1805155199@gratiaplena.online
SUMMARY:Dia de São Clemente Maria Hofbauer
DESCRIPTION:Celebramos hoje (15 Mar) a festa litúrgica de São Clemente Maria Hofbauer\, nasceu\, em 1751\, em Tasswitz\, na República Tcheca. Seus pais tiveram doze filhos\, ele foi o nono filho dessa família muito simples e pobre. Somente recebeu o nome de Clemente quando se tornou eremita. Porém\, seu nome de batismo era João. Após a morte de seu pai\, teve que aprender um ofício. Não tinha condições de continuar os estudos de latim que iniciou na Casa Paroquial até os 14 anos de idade. Foi assim enviado então para uma padaria\, em 1770\, em um mosteiro. Atuando como padeiro\, conheceu duas senhoras em Viena\, que se ofereceram para pagar os seus estudos\, pois ele não tinha condições para isso.
URL:https://gratiaplena.online/event/dia-de-sao-clemente-maria-hofbauer/2027-03-15/
CATEGORIES:Santo do Dia
ATTACH;FMTTYPE=image/png:https://gratiaplena.online/wp-content/uploads/2024/03/Sao-Clemente-Maria-Hofbauer2.png
ORGANIZER;CN="Administrador":MAILTO:epzanette@gmail.com
END:VEVENT
BEGIN:VEVENT
DTSTART;VALUE=DATE:20270320
DTEND;VALUE=DATE:20270321
DTSTAMP:20260423T153807
CREATED:20240319T124152Z
LAST-MODIFIED:20240320T103651Z
UID:10001606-1805500800-1805587199@gratiaplena.online
SUMMARY:Dia de São João Nepomuceno
DESCRIPTION:Celebramos hoje (20 Mar) a data litúrgica de São João Nepomuceno conhecido como o “Mártir da Confissão”\, padroeiro dos confessores\, protetor contra calunia e indiscrição. Também é padroeiro da república Tcheca\, protetor das pontes e dos trabalhadores delas. Nasceu em Nepomuceno\, no ano de 1345\, em uma família muito pobre. Seu nome foi dado em homenagem à João Batista\, filho de Isabel\, pois sua mãe também o teve com uma idade avançada. Formou-se em direito e fez doutorado em teologia.
URL:https://gratiaplena.online/event/dia-de-sao-joao-nepomuceno/2027-03-20/
CATEGORIES:Santo do Dia
ATTACH;FMTTYPE=image/jpeg:https://gratiaplena.online/wp-content/uploads/2024/03/Sao-Joao-Nepomuceno2.jpg
ORGANIZER;CN="Administrador":MAILTO:epzanette@gmail.com
END:VEVENT
END:VCALENDAR