BEGIN:VCALENDAR
VERSION:2.0
PRODID:-//GratiaPlena - ECPv6.15.20//NONSGML v1.0//EN
CALSCALE:GREGORIAN
METHOD:PUBLISH
X-ORIGINAL-URL:https://gratiaplena.online
X-WR-CALDESC:Eventos para GratiaPlena
REFRESH-INTERVAL;VALUE=DURATION:PT1H
X-Robots-Tag:noindex
X-PUBLISHED-TTL:PT1H
BEGIN:VTIMEZONE
TZID:America/Sao_Paulo
BEGIN:STANDARD
TZOFFSETFROM:-0300
TZOFFSETTO:-0300
TZNAME:-03
DTSTART:20240101T000000
END:STANDARD
END:VTIMEZONE
BEGIN:VEVENT
DTSTART;VALUE=DATE:20251227
DTEND;VALUE=DATE:20251228
DTSTAMP:20260423T171631
CREATED:20231221T002324Z
LAST-MODIFIED:20240725T220441Z
UID:10000791-1766793600-1766879999@gratiaplena.online
SUMMARY:Dia de São João
DESCRIPTION:Comemoramos nesta data (27 Dez) a festa de São João evangelista\, o discípulo a quem Jesus amava. Sabemos pelos Evangelhos que São João era filho de Zebedeu e de Maria Salomé. Com seu irmão Tiago\, auxiliava o pai na pesca no lago de Genezaré. Pelos Evangelhos sabemos também que seu pai possuía alguns barcos e empregados que trabalhavam para ele. Maria Salomé é apontada como uma das santas mulheres que acompanhavam o Divino Mestre para O servir.
URL:https://gratiaplena.online/event/dia-de-sao-joao/2025-12-27/
CATEGORIES:Santo do Dia
ATTACH;FMTTYPE=image/jpeg:https://gratiaplena.online/wp-content/uploads/2023/12/Sao-Joao-1.jpg
ORGANIZER;CN="Administrador":MAILTO:epzanette@gmail.com
END:VEVENT
BEGIN:VEVENT
DTSTART;VALUE=DATE:20251130
DTEND;VALUE=DATE:20251201
DTSTAMP:20260423T171631
CREATED:20231130T113357Z
LAST-MODIFIED:20240828T142557Z
UID:10000628-1764460800-1764547199@gratiaplena.online
SUMMARY:Dia de Santo André
DESCRIPTION:Celebramos hoje (30 Nov) a festa de Santo André. No último dia de novembro\, celebramos no calendário litúrgico da Igreja Católica\, Santo André Apóstolo\, um dos doze apóstolos de Jesus. Antes de ser chamado\, era pescador\, trabalhava com seu irmão Pedro. Ambos foram feitos por Jesus\, missionários do Reino\, fundadores de comunidades de fé e vida. 
URL:https://gratiaplena.online/event/dia-de-santo-andre/2025-11-30/
CATEGORIES:Santo do Dia
ATTACH;FMTTYPE=image/jpeg:https://gratiaplena.online/wp-content/uploads/2023/11/Santo-Andre.jpg
ORGANIZER;CN="Administrador":MAILTO:epzanette@gmail.com
END:VEVENT
BEGIN:VEVENT
DTSTART;VALUE=DATE:20251028
DTEND;VALUE=DATE:20251029
DTSTAMP:20260423T171631
CREATED:20231230T234413Z
LAST-MODIFIED:20240828T140515Z
UID:10000850-1761609600-1761695999@gratiaplena.online
SUMMARY:Dia de São Simão
DESCRIPTION:Celebramos hoje (28 Out) a festa de Simão também chamado zelota e Cananeu é\, talvez\, o mais desconhecido dos apóstolos. Aliás\, mesmo na Bíblia\, recebeu apelidos para ser diferenciado de Simão Pedro. Ele é chamado de Simão\, “o cananeu”\, pelos apóstolos Mateus e Marcos. Alguns estudiosos cristãos entendem que este “cananeu” pode ser uma referência a Canaã\, a terra de Israel.Mas quando Lucas\, no seu Evangelho\, o chama de “o zelote”\, parece querer indicar que Simão pertencera ao partido judeu radical que tinha o mesmo nome. Os radicais zelotes pregavam a luta armada contra os dominadores.
URL:https://gratiaplena.online/event/dia-de-sao-simao/2025-10-28/
CATEGORIES:Santo do Dia
ATTACH;FMTTYPE=image/webp:https://gratiaplena.online/wp-content/uploads/2023/12/Sao-Simao-2.webp
ORGANIZER;CN="Administrador":MAILTO:epzanette@gmail.com
END:VEVENT
BEGIN:VEVENT
DTSTART;VALUE=DATE:20250921
DTEND;VALUE=DATE:20250922
DTSTAMP:20260423T171631
CREATED:20231216T231547Z
LAST-MODIFIED:20240828T124126Z
UID:10000770-1758412800-1758499199@gratiaplena.online
SUMMARY:Dia de São Mateus
DESCRIPTION:Celebramos hoje (21 Set) a festa de São Mateus Apóstolo de forma especial. A vida de São Mateus apóstolo e evangelista\, cujo nome antes da conversão era Levi. Morava e trabalhava como coletor de impostos em Cafarnaum\, na Palestina. Quando ouviu a Palavra de Jesus: “Segue-me” deixou tudo imediatamente\, pondo de lado a vida ligada ao dinheiro e ao poder para um serviço de perfeita pobreza: a proclamação da mensagem cristã! Ele trocou de nome para Mateus\, o “dom de Deus”.
URL:https://gratiaplena.online/event/dia-de-sao-mateus/2025-09-21/
CATEGORIES:Santo do Dia
ATTACH;FMTTYPE=image/jpeg:https://gratiaplena.online/wp-content/uploads/2023/12/Sao-Mateus.jpg
ORGANIZER;CN="Administrador":MAILTO:epzanette@gmail.com
END:VEVENT
BEGIN:VEVENT
DTSTART;VALUE=DATE:20250824
DTEND;VALUE=DATE:20250825
DTSTAMP:20260423T171631
CREATED:20240101T171630Z
LAST-MODIFIED:20240828T121508Z
UID:10000895-1755993600-1756079999@gratiaplena.online
SUMMARY:Dia de São Bartolomeu
DESCRIPTION:Celebramos dia (24 Ago) a sua festa. São Bartolomeu\, também chamado Natanael\, foi um dos 12 primeiros apóstolos de Jesus. É assim descrito nos evangelhos de João\, Mateus\, Marcos e Lucas\, e também nos Atos dos Apóstolos. Bartolomeu nasceu em Caná\, na Galileia\, uma pequena aldeia a 14 quilômetros de Nazaré. Era filho do agricultor Tholmai. No Evangelho\, ele também é chamado de Natanael. Em hebraico\, a palavra “bar” que dizer “filho” e “tholmai” significa “agricultor”. Por isso os historiadores são unânimes em afirmar que Bartolomeu-Natanael trata-se de uma só pessoa. Seu melhor amigo era Filipe e ambos eram viajantes. Foi o apóstolo Filipe que o apresentou ao Messias. Leia mais….
URL:https://gratiaplena.online/event/dia-de-sao-bartolomeu/2025-08-24/
CATEGORIES:Santo do Dia
ATTACH;FMTTYPE=image/jpeg:https://gratiaplena.online/wp-content/uploads/2024/01/Sao-Bartolomeu-2.jpg
ORGANIZER;CN="Administrador":MAILTO:epzanette@gmail.com
END:VEVENT
BEGIN:VEVENT
DTSTART;VALUE=DATE:20250725
DTEND;VALUE=DATE:20250726
DTSTAMP:20260423T171631
CREATED:20231230T162105Z
LAST-MODIFIED:20231230T162105Z
UID:10000844-1753401600-1753487999@gratiaplena.online
SUMMARY:Dia de São Tiago\, maior
DESCRIPTION:Celebramos hoje (25 Jul) a festa de São Tiago Maior\, um dos doze apóstolos escolhidos por Jesus Cristo. São Tiago Maior\, também conhecido como Tiago\, filho de Zebedeu\, nasceu na Galileia\, por volta do século I. Juntamente com seu irmão\, João\, eles eram pescadores de profissão. Quando Jesus os chamou para serem seus discípulos\, eles prontamente abandonaram suas redes e seguiram o Messias.
URL:https://gratiaplena.online/event/dia-de-sao-tiago-maior/2025-07-25/
CATEGORIES:Santo do Dia
ATTACH;FMTTYPE=image/jpeg:https://gratiaplena.online/wp-content/uploads/2023/12/Sao-Tiago-maior-2.jpg
ORGANIZER;CN="Administrador":MAILTO:epzanette@gmail.com
END:VEVENT
BEGIN:VEVENT
DTSTART;VALUE=DATE:20250703
DTEND;VALUE=DATE:20250704
DTSTAMP:20260423T171631
CREATED:20231231T213920Z
LAST-MODIFIED:20231231T213920Z
UID:10000867-1751500800-1751587199@gratiaplena.online
SUMMARY:Dia de São Tomé
DESCRIPTION:Celebramos neste dia (3 Jul)\,  São Tomé\, recordado por ter duvidado da Ressurreição de Cristo até que o Senhor apareceu a ele\, mostrando-lhe as chagas e o Apóstolo fez uma profissão de fé\, repetida muitas vezes até os dias de hoje. Mais tarde\, veio a morrer como um grande mártir. Chamado Dídimo\, um dos Doze\, não estava com os discípulos quando Jesus apareceu. Os outros discípulos lhe disseram: “Vimos o Senhor!”. Mas ele lhes disse: “Se eu não vir as marcas dos pregos em suas mãos\, não colocar o meu dedo onde estavam os pregos e não puser a minha mão no seu lado\, não acreditarei”.
URL:https://gratiaplena.online/event/dia-de-sao-tome/2025-07-03/
CATEGORIES:Santo do Dia
ATTACH;FMTTYPE=image/webp:https://gratiaplena.online/wp-content/uploads/2023/12/Sao-Tome-2.webp
ORGANIZER;CN="Administrador":MAILTO:epzanette@gmail.com
END:VEVENT
BEGIN:VEVENT
DTSTART;VALUE=DATE:20250629
DTEND;VALUE=DATE:20250630
DTSTAMP:20260423T171631
CREATED:20240102T232808Z
LAST-MODIFIED:20240102T232953Z
UID:10000914-1751155200-1751241599@gratiaplena.online
SUMMARY:Dia de São Paulo
DESCRIPTION:Celebramos hoje (29 Jun) a festa de São Paulo\, Apóstolo\, um dos maiores propagadores do cristianismo e autor de catorze epístolas do Novo Testamento. Antes de se converter ao Cristianismo era conhecido como Saulo e perseguia os discípulos de Jesus nos arredores de Jerusalém. Também conhecido por Paulo de Tarso\, nasceu em Tarso\, na Cilícia (hoje uma região da Turquia)\, no ano 5 da Era Cristã. Filho de uma família judaica da tribo de Benjamim\, que gozava dos privilégios da cidade romana\, ao nascer\, recebeu o nome de Saulo (do hebreu)\, que mais tarde alterou para Paulo (do latim)\, depois da conversão e do batismo.
URL:https://gratiaplena.online/event/dia-de-sao-paulo/2025-06-29/
CATEGORIES:Santo do Dia
ATTACH;FMTTYPE=image/jpeg:https://gratiaplena.online/wp-content/uploads/2024/01/Sao-Paulo2.jpg
ORGANIZER;CN="Administrador":MAILTO:epzanette@gmail.com
END:VEVENT
BEGIN:VEVENT
DTSTART;VALUE=DATE:20250629
DTEND;VALUE=DATE:20250630
DTSTAMP:20260423T171631
CREATED:20240101T182826Z
LAST-MODIFIED:20240712T181937Z
UID:10000901-1751155200-1751241599@gratiaplena.online
SUMMARY:Dia de São Pedro
DESCRIPTION:Comemoramos dia (29 Jun) a festa de São Pedro\, Apóstolo. Entusiasmado\, Pedro olha para Jesus e diz: “Eis que nós deixamos tudo e te seguimos”\, e Jesus\, olhando para a generosidade de Pedro\, diz qual é caminho que devem trilhar os seus discípulos: “Quem deixa tudo recebe cem vezes mais durante essa vida\, mais as perseguições e no mundo futuro\, a vida eterna”
URL:https://gratiaplena.online/event/dia-de-sao-pedro/2025-06-29/
CATEGORIES:Santo do Dia
ATTACH;FMTTYPE=image/jpeg:https://gratiaplena.online/wp-content/uploads/2024/01/Sao-Pedro-1.jpg
ORGANIZER;CN="Administrador":MAILTO:epzanette@gmail.com
END:VEVENT
BEGIN:VEVENT
DTSTART;VALUE=DATE:20250514
DTEND;VALUE=DATE:20250515
DTSTAMP:20260423T171631
CREATED:20240101T162413Z
LAST-MODIFIED:20240517T164819Z
UID:10000889-1747180800-1747267199@gratiaplena.online
SUMMARY:Dia de São Matias
DESCRIPTION:Celebramoa hoje (14 Mai) a festa de São Matias\, Apóstolo\, que foi eleito como membro do colégio apostólico após a Ascensão do Senhor\, durante aquele período de dez dias de expectativa pela vinda do Espírito prometido. Matias foi escolhido dentre os que estiveram em companhia dos Doze desde o início (cf. At 1\, 21-22)\, a fim de preencher o lugar deixado por Judas Iscariotes.
URL:https://gratiaplena.online/event/dia-de-sao-matias/2025-05-14/
CATEGORIES:Santo do Dia
ATTACH;FMTTYPE=image/jpeg:https://gratiaplena.online/wp-content/uploads/2024/01/Sao-Matias-2.jpg
ORGANIZER;CN="Administrador":MAILTO:epzanette@gmail.com
END:VEVENT
BEGIN:VEVENT
DTSTART;VALUE=DATE:20250503
DTEND;VALUE=DATE:20250504
DTSTAMP:20260423T171631
CREATED:20231229T163807Z
LAST-MODIFIED:20231229T164203Z
UID:10000838-1746230400-1746316799@gratiaplena.online
SUMMARY:Dia de São Tiago\, menor
DESCRIPTION:Celebramos hoje (3 Masi) a solenidade de São Tiago Menor.Tiago\, filho de Alfeu\, é identificado nos evangelhos como “irmão do Senhor”\, termo usado para designar parentesco de primos. Governou a Igreja de Jerusalém e foi chamado de “o Menor” para não ser confundido com são Tiago\, o Maior\, que era irmão de são João.
URL:https://gratiaplena.online/event/dia-de-sao-tiago-menor/2025-05-03/
CATEGORIES:Santo do Dia
ATTACH;FMTTYPE=image/jpeg:https://gratiaplena.online/wp-content/uploads/2023/12/Sao-Tiago-Menor-2-1.jpg
ORGANIZER;CN="Administrador":MAILTO:epzanette@gmail.com
END:VEVENT
BEGIN:VEVENT
DTSTART;VALUE=DATE:20250503
DTEND;VALUE=DATE:20250504
DTSTAMP:20260423T171631
CREATED:20231229T161357Z
LAST-MODIFIED:20231229T162650Z
UID:10000832-1746230400-1746316799@gratiaplena.online
SUMMARY:Dia de São Filipe
DESCRIPTION:Festejamos hoje(3 Mai) a solenidade da festa de São Filipe. O que sabemos\, com certeza\, sobre São Filipe\, registrado nos Evangelhos\, é que ele nasceu em Betsaida\, na Galileia\, e que foi um grande comunicador de Jesus ao apresenta-lo a Natanael\, que mais tarde se tornaria o 12º apóstolo\, substituindo Judas Iscariotes.
URL:https://gratiaplena.online/event/dia-de-sao-filipe/2025-05-03/
CATEGORIES:Santo do Dia
ATTACH;FMTTYPE=image/jpeg:https://gratiaplena.online/wp-content/uploads/2023/12/Sao-Filipe-2-1.jpg
ORGANIZER;CN="Administrador":MAILTO:epzanette@gmail.com
END:VEVENT
END:VCALENDAR