BEGIN:VCALENDAR
VERSION:2.0
PRODID:-//GratiaPlena - ECPv6.15.20//NONSGML v1.0//EN
CALSCALE:GREGORIAN
METHOD:PUBLISH
X-ORIGINAL-URL:https://gratiaplena.online
X-WR-CALDESC:Eventos para GratiaPlena
REFRESH-INTERVAL;VALUE=DURATION:PT1H
X-Robots-Tag:noindex
X-PUBLISHED-TTL:PT1H
BEGIN:VTIMEZONE
TZID:America/Sao_Paulo
BEGIN:STANDARD
TZOFFSETFROM:-0300
TZOFFSETTO:-0300
TZNAME:-03
DTSTART:20250101T000000
END:STANDARD
END:VTIMEZONE
BEGIN:VEVENT
DTSTART;VALUE=DATE:20260629
DTEND;VALUE=DATE:20260630
DTSTAMP:20260423T183255
CREATED:20240101T182826Z
LAST-MODIFIED:20240712T181937Z
UID:10000902-1782691200-1782777599@gratiaplena.online
SUMMARY:Dia de São Pedro
DESCRIPTION:Comemoramos dia (29 Jun) a festa de São Pedro\, Apóstolo. Entusiasmado\, Pedro olha para Jesus e diz: “Eis que nós deixamos tudo e te seguimos”\, e Jesus\, olhando para a generosidade de Pedro\, diz qual é caminho que devem trilhar os seus discípulos: “Quem deixa tudo recebe cem vezes mais durante essa vida\, mais as perseguições e no mundo futuro\, a vida eterna”
URL:https://gratiaplena.online/event/dia-de-sao-pedro/2026-06-29/
CATEGORIES:Santo do Dia
ATTACH;FMTTYPE=image/jpeg:https://gratiaplena.online/wp-content/uploads/2024/01/Sao-Pedro-1.jpg
ORGANIZER;CN="Administrador":MAILTO:epzanette@gmail.com
END:VEVENT
BEGIN:VEVENT
DTSTART;VALUE=DATE:20260629
DTEND;VALUE=DATE:20260630
DTSTAMP:20260423T183255
CREATED:20240102T232808Z
LAST-MODIFIED:20240102T232953Z
UID:10000915-1782691200-1782777599@gratiaplena.online
SUMMARY:Dia de São Paulo
DESCRIPTION:Celebramos hoje (29 Jun) a festa de São Paulo\, Apóstolo\, um dos maiores propagadores do cristianismo e autor de catorze epístolas do Novo Testamento. Antes de se converter ao Cristianismo era conhecido como Saulo e perseguia os discípulos de Jesus nos arredores de Jerusalém. Também conhecido por Paulo de Tarso\, nasceu em Tarso\, na Cilícia (hoje uma região da Turquia)\, no ano 5 da Era Cristã. Filho de uma família judaica da tribo de Benjamim\, que gozava dos privilégios da cidade romana\, ao nascer\, recebeu o nome de Saulo (do hebreu)\, que mais tarde alterou para Paulo (do latim)\, depois da conversão e do batismo.
URL:https://gratiaplena.online/event/dia-de-sao-paulo/2026-06-29/
CATEGORIES:Santo do Dia
ATTACH;FMTTYPE=image/jpeg:https://gratiaplena.online/wp-content/uploads/2024/01/Sao-Paulo2.jpg
ORGANIZER;CN="Administrador":MAILTO:epzanette@gmail.com
END:VEVENT
END:VCALENDAR