BEGIN:VCALENDAR
VERSION:2.0
PRODID:-//GratiaPlena - ECPv6.15.20//NONSGML v1.0//EN
CALSCALE:GREGORIAN
METHOD:PUBLISH
X-ORIGINAL-URL:https://gratiaplena.online
X-WR-CALDESC:Eventos para GratiaPlena
REFRESH-INTERVAL;VALUE=DURATION:PT1H
X-Robots-Tag:noindex
X-PUBLISHED-TTL:PT1H
BEGIN:VTIMEZONE
TZID:America/Sao_Paulo
BEGIN:STANDARD
TZOFFSETFROM:-0300
TZOFFSETTO:-0300
TZNAME:-03
DTSTART:20280101T000000
END:STANDARD
END:VTIMEZONE
BEGIN:VEVENT
DTSTART;VALUE=DATE:20290318
DTEND;VALUE=DATE:20290319
DTSTAMP:20260425T183142
CREATED:20240317T213838Z
LAST-MODIFIED:20240318T112152Z
UID:10001578-1868486400-1868572799@gratiaplena.online
SUMMARY:Dia de Santo Anselmo de Lucca
DESCRIPTION:Comemoramos hoje (18 Mar) a festa litúrgica de Santo Anselmo de Lucca. Anselmo foi um dos homens mais cultos do seu tempo. Guiado pelo seu tio homônimo\, que foi Papa Alexandre II\, tornou-se Bispo de Lucca em 1074. Rejeitando as regalias de Henrique IV\, renovou a vida espiritual e monacal. Faleceu em Mântua\, em 1086\, onde era venerado. No ano seguinte já era Santo.
URL:https://gratiaplena.online/event/dia-de-santo-anselmo-de-lucca/2029-03-18/
CATEGORIES:Santo do Dia
ATTACH;FMTTYPE=image/png:https://gratiaplena.online/wp-content/uploads/2024/03/Santo-Anselmo-de-Lucca.png
ORGANIZER;CN="Administrador":MAILTO:epzanette@gmail.com
END:VEVENT
BEGIN:VEVENT
DTSTART;VALUE=DATE:20290320
DTEND;VALUE=DATE:20290321
DTSTAMP:20260425T183142
CREATED:20240319T124152Z
LAST-MODIFIED:20240320T103651Z
UID:10001659-1868659200-1868745599@gratiaplena.online
SUMMARY:Dia de São João Nepomuceno
DESCRIPTION:Celebramos hoje (20 Mar) a data litúrgica de São João Nepomuceno conhecido como o “Mártir da Confissão”\, padroeiro dos confessores\, protetor contra calunia e indiscrição. Também é padroeiro da república Tcheca\, protetor das pontes e dos trabalhadores delas. Nasceu em Nepomuceno\, no ano de 1345\, em uma família muito pobre. Seu nome foi dado em homenagem à João Batista\, filho de Isabel\, pois sua mãe também o teve com uma idade avançada. Formou-se em direito e fez doutorado em teologia.
URL:https://gratiaplena.online/event/dia-de-sao-joao-nepomuceno/2029-03-20/
CATEGORIES:Santo do Dia
ATTACH;FMTTYPE=image/jpeg:https://gratiaplena.online/wp-content/uploads/2024/03/Sao-Joao-Nepomuceno2.jpg
ORGANIZER;CN="Administrador":MAILTO:epzanette@gmail.com
END:VEVENT
BEGIN:VEVENT
DTSTART;VALUE=DATE:20290321
DTEND;VALUE=DATE:20290322
DTSTAMP:20260425T183142
CREATED:20240319T134814Z
LAST-MODIFIED:20240321T103926Z
UID:10001690-1868745600-1868831999@gratiaplena.online
SUMMARY:Dia de São Nicolau de Flüe
DESCRIPTION:Celebramos hoje (21 Mar) a data da festa litúrgica de São Nicolau de Flüe. É o santo mais popular da Suíça\, conhecido lá como Bruder Klaus\, ou seja\, “Irmão Klaus”. Ele nasceu em 21 de março de 1417\, na Suíça. Filho de família pobre\, queria ser monge quando jovem. Porém\, não pôde realizar tal sonho\, pois teve que ajudar os pais no trabalho da roça. O sonho ficou escondido num canto de seu coração. Depois\, casou-se. Por isso\, mais uma vez teve que adiar seu sonho.
URL:https://gratiaplena.online/event/dia-de-sao-nicolau-de-flue/2029-03-21/
CATEGORIES:Santo do Dia
ATTACH;FMTTYPE=image/jpeg:https://gratiaplena.online/wp-content/uploads/2024/03/Sao-Nicolau-de-Flue2.jpeg
ORGANIZER;CN="Administrador":MAILTO:epzanette@gmail.com
END:VEVENT
BEGIN:VEVENT
DTSTART;VALUE=DATE:20290322
DTEND;VALUE=DATE:20290323
DTSTAMP:20260425T183142
CREATED:20240319T143220Z
LAST-MODIFIED:20240322T130116Z
UID:10001691-1868832000-1868918399@gratiaplena.online
SUMMARY:Dia de São Paulo de Narbonne
DESCRIPTION:Celebramos hoje (22 Mar) a festa litúrgica de São Paulo de Narbonne. Santo do dia: “São Paulo\, Bispo de Narbonne e Mártir”. Um pouco da história: Em meados do século III\, as primeiras comunidades cristãs dispersaram-se por causa das perseguições de Décio. Paulo foi um dos sete Bispos enviados para pregar na Gália. Salvando-se do martírio sofrido por seus companheiros\, fundou a Igreja em Narbonne\, da qual foi o primeiro Bispo por volta de 250.
URL:https://gratiaplena.online/event/dia-de-sao-paulo-de-narbonne/2029-03-22/
CATEGORIES:Santo do Dia
ATTACH;FMTTYPE=image/png:https://gratiaplena.online/wp-content/uploads/2024/03/Sao-Paulo-de-Narbonne.png
ORGANIZER;CN="Administrador":MAILTO:epzanette@gmail.com
END:VEVENT
BEGIN:VEVENT
DTSTART;VALUE=DATE:20290322
DTEND;VALUE=DATE:20290323
DTSTAMP:20260425T183142
CREATED:20240319T154636Z
LAST-MODIFIED:20240322T130238Z
UID:10001692-1868832000-1868918399@gratiaplena.online
SUMMARY:Dia de Santa Lia
DESCRIPTION:Comemoramos hpje (22 Mar) a memória litúrgica de Santa Lia ou Santa Léia. Léia era uma jovem romana de origem nobre\, que viveu por volta do ano 370. Sabe-se que ela recebeu formação cristã sólida e tinha um coração realmente voltado para Deus. Casou-se bem jovem e não teve filhos\, porque logo ficou viúva. A viuvez causou-lhe grande transtorno. Mas\, ao mesmo tempo\, deu-lhe a oportunidade buscar conhecer a vontade de Deus para sua vida e de seguir um novo projeto.
URL:https://gratiaplena.online/event/dia-de-santa-lia/2029-03-22/
CATEGORIES:Santo do Dia
ATTACH;FMTTYPE=image/jpeg:https://gratiaplena.online/wp-content/uploads/2024/03/Santa-Lia2.jpg
ORGANIZER;CN="Administrador":MAILTO:epzanette@gmail.com
END:VEVENT
BEGIN:VEVENT
DTSTART;VALUE=DATE:20290323
DTEND;VALUE=DATE:20290324
DTSTAMP:20260425T183142
CREATED:20240319T182057Z
LAST-MODIFIED:20240323T102735Z
UID:10001693-1868918400-1869004799@gratiaplena.online
SUMMARY:Dia de São Turíbio de Mongrovejo
DESCRIPTION:Celebramos hoje (23 Mar) a memória de São Turíbio de Mongrovejo. Seu nome completo é Turíbio Alfonso de Mongrovejo. É espanhol e filho de uma família rica da nobreza. Estudou nas cidades de Santiago de Compostela\, Valadolid e Salamanca. Formou-se advogado e participou da inquisição. Desde jovem\, foi honesto e justo. A nomeação episcopal\, na época\, era bem diferente de como é hoje. Sendo assim\, o rei Felipe II percebeu as qualidades de Turíbio de Mongrovejo e pediu ao Papa Gregório XIII que o nomeasse arcebispo da América Espanhola\, então\, o Papa atendeu. Por isso\, após um discernimento\, Turíbio recebeu todas as ordens sagradas de uma só vez\, inclusive a ordenação sacerdotal. Assim\, em 1580\, ele foi sagrado Arcebispo de Lima\, no Peru. Foi dessa maneira\, aparentemente improvisada\, que nasceu um dos maiores apóstolos da América Latina.
URL:https://gratiaplena.online/event/dia-de-sao-turibio-de-mongrovejo/2029-03-23/
CATEGORIES:Santo do Dia
ATTACH;FMTTYPE=image/jpeg:https://gratiaplena.online/wp-content/uploads/2024/03/Sao-Turibio-de-Mongrovejo2.jpeg
ORGANIZER;CN="Administrador":MAILTO:epzanette@gmail.com
END:VEVENT
BEGIN:VEVENT
DTSTART;VALUE=DATE:20290324
DTEND;VALUE=DATE:20290325
DTSTAMP:20260425T183142
CREATED:20240319T185407Z
LAST-MODIFIED:20240324T134339Z
UID:10001728-1869004800-1869091199@gratiaplena.online
SUMMARY:Dia de Santo Oscar Romero
DESCRIPTION:Celebramos hoje (24 Mar) a memória litúrgica de Santo Oscar Romero\, nasceu em El Salvador\, em 1917\, foi ordenado sacerdote em 1942 e em 1977\, Paulo VI designa-o arcebispo de San Salvador\, no meio de um contexto político de forte repressão\, sobretudo contra as organizações camponesas. O assassinado do padre jesuíta Rutílio Grande\, é considerado o momento da ‘conversão’ de Romero\, que passa então a denunciar a repressão\, a violência do Estado e a exploração imposta ao povo pela aliança entre os setores político-militares e econômicos\, apoiada pelos EUA.
URL:https://gratiaplena.online/event/dia-de-santo-oscar-romero/2029-03-24/
CATEGORIES:Santo do Dia
ATTACH;FMTTYPE=image/jpeg:https://gratiaplena.online/wp-content/uploads/2024/03/Santo-Oscar-Romero2.jpeg
ORGANIZER;CN="Administrador":MAILTO:epzanette@gmail.com
END:VEVENT
BEGIN:VEVENT
DTSTART;VALUE=DATE:20290324
DTEND;VALUE=DATE:20290325
DTSTAMP:20260425T183142
CREATED:20240319T193027Z
LAST-MODIFIED:20240324T134535Z
UID:10001729-1869004800-1869091199@gratiaplena.online
SUMMARY:Dia de Santa Catarina da Suécia
DESCRIPTION:Celebramos hoje (24 Mar) a memória litúrgica de Santa Catarina da Suécia. Santa Catarina foi filha\, companheira inseparável e discípula fiel de sua mãe\, Santa Brígida. Esta é santa mais conhecida e venerada da Suécia. Catarina nasceu em berço nobre\, rico e cristão\, no ano 1331\, na Suécia. Em casa\, recebeu\, especialmente de sua mãe\, educação e formação muito sólida com base cristã. Com apenas sete anos\, foi levada para as Irmãs do convento de Risberg. Estas\, ajudaram a desenvolver a linda vocação religiosa de Catarina\, confirmando todo o ensinamento que ela recebera de sua mãe.
URL:https://gratiaplena.online/event/dia-de-santa-catarina-da-suecia/2029-03-24/
CATEGORIES:Santo do Dia
ATTACH;FMTTYPE=image/webp:https://gratiaplena.online/wp-content/uploads/2024/03/Santa-Catarina-da-Suecia2.webp
ORGANIZER;CN="Administrador":MAILTO:epzanette@gmail.com
END:VEVENT
END:VCALENDAR