BEGIN:VCALENDAR
VERSION:2.0
PRODID:-//GratiaPlena - ECPv6.15.20//NONSGML v1.0//EN
CALSCALE:GREGORIAN
METHOD:PUBLISH
X-ORIGINAL-URL:https://gratiaplena.online
X-WR-CALDESC:Eventos para GratiaPlena
REFRESH-INTERVAL;VALUE=DURATION:PT1H
X-Robots-Tag:noindex
X-PUBLISHED-TTL:PT1H
BEGIN:VTIMEZONE
TZID:America/Sao_Paulo
BEGIN:STANDARD
TZOFFSETFROM:-0300
TZOFFSETTO:-0300
TZNAME:-03
DTSTART:20270101T000000
END:STANDARD
END:VTIMEZONE
BEGIN:VEVENT
DTSTART;VALUE=DATE:20281130
DTEND;VALUE=DATE:20281201
DTSTAMP:20260425T123044
CREATED:20231130T113357Z
LAST-MODIFIED:20240828T142557Z
UID:10000631-1859155200-1859241599@gratiaplena.online
SUMMARY:Dia de Santo André
DESCRIPTION:Celebramos hoje (30 Nov) a festa de Santo André. No último dia de novembro\, celebramos no calendário litúrgico da Igreja Católica\, Santo André Apóstolo\, um dos doze apóstolos de Jesus. Antes de ser chamado\, era pescador\, trabalhava com seu irmão Pedro. Ambos foram feitos por Jesus\, missionários do Reino\, fundadores de comunidades de fé e vida. 
URL:https://gratiaplena.online/event/dia-de-santo-andre/2028-11-30/
CATEGORIES:Santo do Dia
ATTACH;FMTTYPE=image/jpeg:https://gratiaplena.online/wp-content/uploads/2023/11/Santo-Andre.jpg
ORGANIZER;CN="Administrador":MAILTO:epzanette@gmail.com
END:VEVENT
BEGIN:VEVENT
DTSTART;VALUE=DATE:20281201
DTEND;VALUE=DATE:20281202
DTSTAMP:20260425T123044
CREATED:20240107T154357Z
LAST-MODIFIED:20240828T143045Z
UID:10001178-1859241600-1859327999@gratiaplena.online
SUMMARY:Dia de São Naum
DESCRIPTION:Celebramos dia (1 Dez) a festa de São Naum\, Profeta. A profecia de Naum antecipa a queda de Nínive. O profeta fala sobre a queda da cidade com uma clareza e uma intimidade possíveis somente se tal acontecimento estivesse quase imediato. Isso data a profecia de Naum como pouco antes da queda daquela cidade\, em 612 a.C. O profeta também menciona o saque de Nó-Amom (3.8)\, como fato consumado. Essa cidade foi pilhada pelo rei Assurbanipal\, da Assíria\, cerca de 670 a.C. Esta profecia\, por conseguinte\, pode ser datada entre esses dois eventos. Leia mais….
URL:https://gratiaplena.online/event/dia-de-santo-naum/2028-12-01/
CATEGORIES:Santo do Dia
ATTACH;FMTTYPE=image/jpeg:https://gratiaplena.online/wp-content/uploads/2024/01/Profeta-Naum.jpg
ORGANIZER;CN="Administrador":MAILTO:epzanette@gmail.com
END:VEVENT
BEGIN:VEVENT
DTSTART;VALUE=DATE:20281202
DTEND;VALUE=DATE:20281203
DTSTAMP:20260425T123044
CREATED:20240721T001003Z
LAST-MODIFIED:20240828T143307Z
UID:10001859-1859328000-1859414399@gratiaplena.online
SUMMARY:Dia de Santo Habacuc
DESCRIPTION:Comemoração hoje (2 Dez) a festa de Santo Habacuc\, profeta. Oitavo dos doze profetas menores\, Habacuc viveu em Judá\, entre o final do século VII e início do século VI a.C.\, época de decadência da Assíria e ascensão da Babilônia. Presenciou o fim do Reino de Judá\, quando os babilônios invadiram e destruíram Jerusalém e o templo\, e o povo de Deus foi deportado para a Babilônia. O Livro de Habacuc\, escrito em 612\, possui três capítulos. No primeiro\, há as súplicas de Habacuc dirigidas a Deus\, para que livre seu povo da opressão.  Leia mais….
URL:https://gratiaplena.online/event/dia-de-santo-habacuc/2028-12-02/
CATEGORIES:Santo do Dia
ATTACH;FMTTYPE=image/jpeg:https://gratiaplena.online/wp-content/uploads/2024/07/Habacuc.jpg
ORGANIZER;CN="Administrador":MAILTO:epzanette@gmail.com
END:VEVENT
END:VCALENDAR