BEGIN:VCALENDAR
VERSION:2.0
PRODID:-//GratiaPlena - ECPv6.15.20//NONSGML v1.0//EN
CALSCALE:GREGORIAN
METHOD:PUBLISH
X-WR-CALNAME:GratiaPlena
X-ORIGINAL-URL:https://gratiaplena.online
X-WR-CALDESC:Eventos para GratiaPlena
REFRESH-INTERVAL;VALUE=DURATION:PT1H
X-Robots-Tag:noindex
X-PUBLISHED-TTL:PT1H
BEGIN:VTIMEZONE
TZID:America/Sao_Paulo
BEGIN:STANDARD
TZOFFSETFROM:-0300
TZOFFSETTO:-0300
TZNAME:-03
DTSTART:20270101T000000
END:STANDARD
END:VTIMEZONE
BEGIN:VEVENT
DTSTART;VALUE=DATE:20280917
DTEND;VALUE=DATE:20280918
DTSTAMP:20260425T094405
CREATED:20240122T205841Z
LAST-MODIFIED:20240122T211301Z
UID:10001133-1852761600-1852847999@gratiaplena.online
SUMMARY:Dia de Santa Hildegarda de Bingen
DESCRIPTION:Celebramos hoje (17 Set) a memória litúrgica de Santa Hildegarda de Bingen\, ela passou quase toda a vida no vale do Reno\, perto de onde o rio Meno nele deságua. O vale central da Renânia é uma das regiões mais férteis da Alemanha; possui um clima suave e temperado\, onde pessoas viveram em comunidades por milênios. Desde suas origens\, o Reno forma uma via rápida natural nas terras alpinas até sua foz no Canal da Mancha e no Mar do Norte. O paradoxo da vida de Hildegarda é que ela foi uma alma solitária e contemplativa que viveu numa importante via\, por assim dizer\, onde ela se tornou o centro das atenções.
URL:https://gratiaplena.online/event/dia-de-santa-hildegarda-de-bingen/2028-09-17/
CATEGORIES:Santo do Dia
ATTACH;FMTTYPE=image/jpeg:https://gratiaplena.online/wp-content/uploads/2024/01/Santa-Hildegarda-de-Bingen2.jpg
ORGANIZER;CN="Administrador":MAILTO:epzanette@gmail.com
END:VEVENT
BEGIN:VEVENT
DTSTART;VALUE=DATE:20280917
DTEND;VALUE=DATE:20280918
DTSTAMP:20260425T094405
CREATED:20240308T210256Z
LAST-MODIFIED:20240828T123948Z
UID:10001458-1852761600-1852847999@gratiaplena.online
SUMMARY:Dia de São Roberto Belarmino
DESCRIPTION:Coemoramos hoje (17 Set) a festa de São Roberto Belarmino. Ele veio ao mundo no dia 04 de outubro de 1542\, em Montepulciano\, Itália. Era filho de pais humildes e católicos de muita fé. O menino Roberto nasceu franzino e doente. Mesmo doente\, Roberto soube ter uma vida de profundo amor a Igreja. Sua inteligência prodigiosa levou-o ao magistério. Foi professor em inúmeras instituições de ensino da Itália. Em 1571\, tendo concluído todos os estudos\, recebeu a ordenação sacerdotal e entrou para a Companhia de Jesus. Unindo a sabedoria das ciências terrenas\, o conhecimento espiritual e a fé\, escreveu os três volumes de uma das obras teológicas mais consultadas de todos os tempos: “As Controvérsias Cristãs sobre a Fé”\, um tratado sobre todas as heresias.
URL:https://gratiaplena.online/event/dia-de-sao-roberto-belarmino/2028-09-17/
CATEGORIES:Santo do Dia
ATTACH;FMTTYPE=image/jpeg:https://gratiaplena.online/wp-content/uploads/2024/03/Sao-Roberto-Belarmino2.jpg
ORGANIZER;CN="Administrador":MAILTO:epzanette@gmail.com
END:VEVENT
BEGIN:VEVENT
DTSTART;VALUE=DATE:20280921
DTEND;VALUE=DATE:20280922
DTSTAMP:20260425T094405
CREATED:20231216T231547Z
LAST-MODIFIED:20240828T124126Z
UID:10000773-1853107200-1853193599@gratiaplena.online
SUMMARY:Dia de São Mateus
DESCRIPTION:Celebramos hoje (21 Set) a festa de São Mateus Apóstolo de forma especial. A vida de São Mateus apóstolo e evangelista\, cujo nome antes da conversão era Levi. Morava e trabalhava como coletor de impostos em Cafarnaum\, na Palestina. Quando ouviu a Palavra de Jesus: “Segue-me” deixou tudo imediatamente\, pondo de lado a vida ligada ao dinheiro e ao poder para um serviço de perfeita pobreza: a proclamação da mensagem cristã! Ele trocou de nome para Mateus\, o “dom de Deus”.
URL:https://gratiaplena.online/event/dia-de-sao-mateus/2028-09-21/
CATEGORIES:Santo do Dia
ATTACH;FMTTYPE=image/jpeg:https://gratiaplena.online/wp-content/uploads/2023/12/Sao-Mateus.jpg
ORGANIZER;CN="Administrador":MAILTO:epzanette@gmail.com
END:VEVENT
BEGIN:VEVENT
DTSTART;VALUE=DATE:20280921
DTEND;VALUE=DATE:20280922
DTSTAMP:20260425T094405
CREATED:20240720T142701Z
LAST-MODIFIED:20240828T124617Z
UID:10001839-1853107200-1853193599@gratiaplena.online
SUMMARY:Dia de São Jonas
DESCRIPTION:Hoje (21 Set) e a sua festa. São Jonas\, profeta\, filho de Amitai. A partir da vida do profeta Jonas queremos propor uma reflexão sobre a realização da vontade de Deus e a sua aceitação. Jonas fugiu da “face do Senhor” O autor\, ao descrever a fuga de Jonas do chamado profético\, mostra até onde podemos ir quando não queremos fazer algo. Jonas ouve a Deus pedindo para que ele vá para Nínive\, mas toma a direção de Társis\, fugindo da face do Senhor. A partir daí\, Jonas faz um caminho de descida. . Leia mais….
URL:https://gratiaplena.online/event/dia-de-sao-jonas/2028-09-21/
CATEGORIES:Santo do Dia
ATTACH;FMTTYPE=image/jpeg:https://gratiaplena.online/wp-content/uploads/2024/07/Jonas.jpg
ORGANIZER;CN="Administrador":MAILTO:epzanette@gmail.com
END:VEVENT
BEGIN:VEVENT
DTSTART;VALUE=DATE:20280923
DTEND;VALUE=DATE:20280924
DTSTAMP:20260425T094405
CREATED:20240311T232144Z
LAST-MODIFIED:20240828T124903Z
UID:10001518-1853280000-1853366399@gratiaplena.online
SUMMARY:Dia de São Lino
DESCRIPTION:Celebramos hoje (23 Set) a festa de São Lino. Segundo papa apostólico da Igreja Cristã de Roma (67-76) nascido em Volterra\, na Etrúria\, que segundo a tradição foi indicado como sucessor pelo primeiro papa antes de sua crucificação\, São Pedro\, este conhecido como príncipe dos apóstolos de Cristo. Depois que os Santos Apóstolos Pedro e Paulo tinham fundado e organizado a Igreja em Roma\, passaram o exercício do escritório episcopal para ele. Seu nomne aparece mencionado na Bíblia Católica\, no texto da Epístola de São Paulo para Timótio (4:21). Como papa testemunhou a queda de alguns imperadores romanos e a destruição de Jerusalém. Combateu firmemente a feitiçaria e os falsos missionários que tentavam adulterar a doutrina cristã. \n 
URL:https://gratiaplena.online/event/dia-de-sao-lino/2028-09-23/
CATEGORIES:Santo do Dia
ATTACH;FMTTYPE=image/jpeg:https://gratiaplena.online/wp-content/uploads/2024/03/Sao-Lino2.jpeg
ORGANIZER;CN="Administrador":MAILTO:epzanette@gmail.com
END:VEVENT
END:VCALENDAR