BEGIN:VCALENDAR
VERSION:2.0
PRODID:-//GratiaPlena - ECPv6.15.20//NONSGML v1.0//EN
CALSCALE:GREGORIAN
METHOD:PUBLISH
X-ORIGINAL-URL:https://gratiaplena.online
X-WR-CALDESC:Eventos para GratiaPlena
REFRESH-INTERVAL;VALUE=DURATION:PT1H
X-Robots-Tag:noindex
X-PUBLISHED-TTL:PT1H
BEGIN:VTIMEZONE
TZID:America/Sao_Paulo
BEGIN:STANDARD
TZOFFSETFROM:-0300
TZOFFSETTO:-0300
TZNAME:-03
DTSTART:20270101T000000
END:STANDARD
END:VTIMEZONE
BEGIN:VEVENT
DTSTART;VALUE=DATE:20280717
DTEND;VALUE=DATE:20280718
DTSTAMP:20260425T081041
CREATED:20240717T135542Z
LAST-MODIFIED:20240717T175654Z
UID:10001816-1847404800-1847491199@gratiaplena.online
SUMMARY:Dia de Inácio de Azevedo e 39 companheiros
DESCRIPTION:Celebramos hoje (17 Jul) quarenta santos mártires que derramaram o sangue para evangelizar o nosso Brasil. Trata-se do Bem-aventurado Inácio de Azevedo e seus companheiros mártires. Inácio Azevedo foi um padre jesuíta nascido em Portugal que veio ao Brasil evangelizar.  Quando ele viu o tamanho das necessidades de evangelização da nossa terra\, não cruzou os braços: voltou para a Europa e pediu licença ao padre geral para ir convencendo outros jesuítas (ou seja\, estudantes que pretendiam ser padres e irmãos leigos) a se juntarem a ele para evangelizar o nosso país.  Leia mais….
URL:https://gratiaplena.online/event/dia-de-inacio-de-azevedo-e-39-companheiros/2028-07-17/
CATEGORIES:Santo do Dia
ATTACH;FMTTYPE=image/jpeg:https://gratiaplena.online/wp-content/uploads/2024/07/Inacio-de-Azevedo2.jpg
ORGANIZER;CN="Administrador":MAILTO:epzanette@gmail.com
END:VEVENT
BEGIN:VEVENT
DTSTART;VALUE=DATE:20280717
DTEND;VALUE=DATE:20280718
DTSTAMP:20260425T081041
CREATED:20240717T174701Z
LAST-MODIFIED:20240717T174701Z
UID:10001822-1847404800-1847491199@gratiaplena.online
SUMMARY:Dia de Maria Madalena Claudina Lidoine e 15 companheiras
DESCRIPTION:O mosteiro das carmelitas de Compiègne\, França\, vivia entregue ao espírito de oração\, de silêncio e de renúncia\, quando rebentou a Revolução Francesa. A 4 de agosto de 1790\, os membros do diretório do distrito procederam ao inventário dos bens da comunidade. As religiosas foram convidadas a despir o hábito e a abandonar o mosteiro. Cinco dias mais tarde\, a conselho da câmara\, assinaram todas o juramento de Liberdade-Igualdade. Desde então\, viveram dispersas. Leia mais….
URL:https://gratiaplena.online/event/dia-de-maria-madalena-claudina-lidoine-e-15-companheiras/2028-07-17/
CATEGORIES:Santo do Dia
ATTACH;FMTTYPE=image/jpeg:https://gratiaplena.online/wp-content/uploads/2024/07/Maria-Madalena-Claudina-Lidoine2.jpeg
ORGANIZER;CN="Administrador":MAILTO:epzanette@gmail.com
END:VEVENT
BEGIN:VEVENT
DTSTART;VALUE=DATE:20280720
DTEND;VALUE=DATE:20280721
DTSTAMP:20260425T081041
CREATED:20240103T204121Z
LAST-MODIFIED:20240720T132008Z
UID:10000958-1847664000-1847750399@gratiaplena.online
SUMMARY:Dia de Santo Elias
DESCRIPTION:Celebramos hoje (20 Jul) a festa de Santo Elias. Sabe-se que ele nasceu em torno do ano 900 a.C. em Tesba de Galaad\, junto à fronteira do país dos amonitas (atual Jordânia). “Quando Elias estava para nascer\, seu pai Sabacha viu-o saudado por alvos anjos\, envolvido por faixas de fogo e alimentado com chamas. Tendo ido a Jerusalém\, relatou [no templo] a visão\, e o oráculo lhe disse que não temesse\, pois aquele que ia nascer habitaria na luz\, suas palavras seriam sentença segura e julgaria Israel com gládio e fogo” (Doroteu\, Sto. Epifânio e Metafrates\, apud Cornelio a Lápide\, Comentários ao Livro 1º dos Reis\, cap. 17). Leia mais….
URL:https://gratiaplena.online/event/dia-de-santo-elias/2028-07-20/
CATEGORIES:Santo do Dia
ATTACH;FMTTYPE=image/jpeg:https://gratiaplena.online/wp-content/uploads/2024/01/Elias.jpg
ORGANIZER;CN="Administrador":MAILTO:epzanette@gmail.com
END:VEVENT
BEGIN:VEVENT
DTSTART;VALUE=DATE:20280721
DTEND;VALUE=DATE:20280722
DTSTAMP:20260425T081041
CREATED:20240104T201105Z
LAST-MODIFIED:20240718T163057Z
UID:10000970-1847750400-1847836799@gratiaplena.online
SUMMARY:Dia de Santo Ezequiel
DESCRIPTION:Celebramos hoje (21 Jul) a festa do profeta Exequiel. Ezequiel\, filho de Buzi\, era sacerdote da linhagem de Sadoc e atuou no templo de Jerusalém. Era casado e ficou viúvo pouco antes dos babilônios tomarem Jerusalém. Como sacerdote\, pertenceu à classe dirigente da cidade. Foi exilado para a Babilônia junto com a primeira leva de deportados (597 AC). Passou por profunda transformação: de dirigente em Judá para refém expatriado\, perdendo seus privilégios.  Leia mais….
URL:https://gratiaplena.online/event/dia-de-santo-ezequiel/2028-07-21/
CATEGORIES:Santo do Dia
ATTACH;FMTTYPE=image/jpeg:https://gratiaplena.online/wp-content/uploads/2024/01/Ezequiel.jpeg
ORGANIZER;CN="Administrador":MAILTO:epzanette@gmail.com
END:VEVENT
BEGIN:VEVENT
DTSTART;VALUE=DATE:20280721
DTEND;VALUE=DATE:20280722
DTSTAMP:20260425T081041
CREATED:20240309T204750Z
LAST-MODIFIED:20240309T204750Z
UID:10001470-1847750400-1847836799@gratiaplena.online
SUMMARY:Dia de São Lourenço de Brindisi
DESCRIPTION:Celebramos hoje (21 Jul) a memória litúrgica de São Lourenço de Brindisi. Geralmente\, as chamadas “crianças superdotadas”\, aquelas que demonstram um dom excepcional para alguma especialidade\, quando crescem\, parecem “perder os poderes” e nivelam-se com as demais pessoas. São poucas as exceções que merecem ser recordadas. Mas\, com certeza\, uma delas foi Júlio César Russo\, que nasceu no dia 22 de julho de 1559\, em Brindisi\, na Itália.
URL:https://gratiaplena.online/event/dia-de-sao-lourenco-de-brindisi/2028-07-21/
CATEGORIES:Santo do Dia
ATTACH;FMTTYPE=image/jpeg:https://gratiaplena.online/wp-content/uploads/2024/03/Sao-Lourenco-de-Brindisi2.jpeg
ORGANIZER;CN="Administrador":MAILTO:epzanette@gmail.com
END:VEVENT
END:VCALENDAR