BEGIN:VCALENDAR
VERSION:2.0
PRODID:-//GratiaPlena - ECPv6.15.20//NONSGML v1.0//EN
CALSCALE:GREGORIAN
METHOD:PUBLISH
X-WR-CALNAME:GratiaPlena
X-ORIGINAL-URL:https://gratiaplena.online
X-WR-CALDESC:Eventos para GratiaPlena
REFRESH-INTERVAL;VALUE=DURATION:PT1H
X-Robots-Tag:noindex
X-PUBLISHED-TTL:PT1H
BEGIN:VTIMEZONE
TZID:America/Sao_Paulo
BEGIN:STANDARD
TZOFFSETFROM:-0300
TZOFFSETTO:-0300
TZNAME:-03
DTSTART:20270101T000000
END:STANDARD
END:VTIMEZONE
BEGIN:VEVENT
DTSTART;VALUE=DATE:20280711
DTEND;VALUE=DATE:20280712
DTSTAMP:20260425T080824
CREATED:20240209T132930Z
LAST-MODIFIED:20240209T132930Z
UID:10001262-1846886400-1846972799@gratiaplena.online
SUMMARY:Dia de So Bento
DESCRIPTION:Comemoramos hoje (11 Jul) a memória de S. Bento de Núrsia\, pai do Ocidente\, padroeiro da Europa e um dos santos mais influentes de todo o ocidente. Bento era oriundo da nobre família Anicia\, que dera a Roma cônsules e imperadores\, e nasceu no povoado de Sabino\, em Núrcia\, na Umbria\, por volta de 480. Quatro anos antes\, Odoacro\, chefe de um exército de mercenários germânicos de estirpe hérula\,  destituía o último imperador romano do Ocidente\, fazendo cessar assim o domínio que tinha Roma sobre todo o mundo civilizado de então. Bento tinha uma irmã gêmea\, Escolástica\, da qual sabe-se que foi consagrada a Deus desde a infância\, mas não se tem mais pormenores de sua vida\, a não ser de sua morte.
URL:https://gratiaplena.online/event/dia-de-so-bento/2028-07-11/
CATEGORIES:Santo do Dia
ATTACH;FMTTYPE=image/jpeg:https://gratiaplena.online/wp-content/uploads/2024/02/Sao-Beno2.jpg
ORGANIZER;CN="Administrador":MAILTO:epzanette@gmail.com
END:VEVENT
BEGIN:VEVENT
DTSTART;VALUE=DATE:20280711
DTEND;VALUE=DATE:20280712
DTSTAMP:20260425T080824
CREATED:20240209T141945Z
LAST-MODIFIED:20240209T141945Z
UID:10001268-1846886400-1846972799@gratiaplena.online
SUMMARY:Dia de São Pio I
DESCRIPTION:Celebramos hoje (11 Jul) a memória de Papa São Pio I\, o criador da tradição da celebração da Páscoa aos domingos\, enfrentou problemas de cunho religioso com os judeus convertidos e com os hereges de seu tempo. O seu pontificado foi marcado por questões envolvendo judeus convertidos e com heresiarcas como os gnósticos Valentim\, Cerdão e Marcião\, criador dos marcionismo.
URL:https://gratiaplena.online/event/dia-de-sao-pio-i/2028-07-11/
CATEGORIES:Santo do Dia
ATTACH;FMTTYPE=image/jpeg:https://gratiaplena.online/wp-content/uploads/2024/02/Papa-Pio-I.jpeg
ORGANIZER;CN="Administrador":MAILTO:epzanette@gmail.com
END:VEVENT
BEGIN:VEVENT
DTSTART;VALUE=DATE:20280715
DTEND;VALUE=DATE:20280716
DTSTAMP:20260425T080824
CREATED:20240118T195226Z
LAST-MODIFIED:20240118T195226Z
UID:10001085-1847232000-1847318399@gratiaplena.online
SUMMARY:Dia de São Boaventura
DESCRIPTION:Celebramos hoje (15 Jul) a memória eucarística de São Boaventura\, nascido em 1218\, em Bagnorea\, atualmente Bagnoregio. Justificava sua preferência pela Ordem fundada por são Francisco por ter encontrado admirável semelhança entre o crescimento da Igreja e o da família franciscana. No início ambas contavam apenas com homens simples\, pescadores e camponeses. Mais tarde a elas se agregaram também homens de ciências.
URL:https://gratiaplena.online/event/dia-de-sao-boaventura/2028-07-15/
CATEGORIES:Santo do Dia
ATTACH;FMTTYPE=image/webp:https://gratiaplena.online/wp-content/uploads/2024/01/Sao-Boaventura2.webp
ORGANIZER;CN="Administrador":MAILTO:epzanette@gmail.com
END:VEVENT
END:VCALENDAR