BEGIN:VCALENDAR
VERSION:2.0
PRODID:-//GratiaPlena - ECPv6.15.20//NONSGML v1.0//EN
CALSCALE:GREGORIAN
METHOD:PUBLISH
X-WR-CALNAME:GratiaPlena
X-ORIGINAL-URL:https://gratiaplena.online
X-WR-CALDESC:Eventos para GratiaPlena
REFRESH-INTERVAL;VALUE=DURATION:PT1H
X-Robots-Tag:noindex
X-PUBLISHED-TTL:PT1H
BEGIN:VTIMEZONE
TZID:America/Sao_Paulo
BEGIN:STANDARD
TZOFFSETFROM:-0300
TZOFFSETTO:-0300
TZNAME:-03
DTSTART:20260101T000000
END:STANDARD
END:VTIMEZONE
BEGIN:VEVENT
DTSTART;VALUE=DATE:20270921
DTEND;VALUE=DATE:20270922
DTSTAMP:20260424T183535
CREATED:20231216T231547Z
LAST-MODIFIED:20240828T124126Z
UID:10000772-1821484800-1821571199@gratiaplena.online
SUMMARY:Dia de São Mateus
DESCRIPTION:Celebramos hoje (21 Set) a festa de São Mateus Apóstolo de forma especial. A vida de São Mateus apóstolo e evangelista\, cujo nome antes da conversão era Levi. Morava e trabalhava como coletor de impostos em Cafarnaum\, na Palestina. Quando ouviu a Palavra de Jesus: “Segue-me” deixou tudo imediatamente\, pondo de lado a vida ligada ao dinheiro e ao poder para um serviço de perfeita pobreza: a proclamação da mensagem cristã! Ele trocou de nome para Mateus\, o “dom de Deus”.
URL:https://gratiaplena.online/event/dia-de-sao-mateus/2027-09-21/
CATEGORIES:Santo do Dia
ATTACH;FMTTYPE=image/jpeg:https://gratiaplena.online/wp-content/uploads/2023/12/Sao-Mateus.jpg
ORGANIZER;CN="Administrador":MAILTO:epzanette@gmail.com
END:VEVENT
BEGIN:VEVENT
DTSTART;VALUE=DATE:20270921
DTEND;VALUE=DATE:20270922
DTSTAMP:20260424T183535
CREATED:20240720T142701Z
LAST-MODIFIED:20240828T124617Z
UID:10001838-1821484800-1821571199@gratiaplena.online
SUMMARY:Dia de São Jonas
DESCRIPTION:Hoje (21 Set) e a sua festa. São Jonas\, profeta\, filho de Amitai. A partir da vida do profeta Jonas queremos propor uma reflexão sobre a realização da vontade de Deus e a sua aceitação. Jonas fugiu da “face do Senhor” O autor\, ao descrever a fuga de Jonas do chamado profético\, mostra até onde podemos ir quando não queremos fazer algo. Jonas ouve a Deus pedindo para que ele vá para Nínive\, mas toma a direção de Társis\, fugindo da face do Senhor. A partir daí\, Jonas faz um caminho de descida. . Leia mais….
URL:https://gratiaplena.online/event/dia-de-sao-jonas/2027-09-21/
CATEGORIES:Santo do Dia
ATTACH;FMTTYPE=image/jpeg:https://gratiaplena.online/wp-content/uploads/2024/07/Jonas.jpg
ORGANIZER;CN="Administrador":MAILTO:epzanette@gmail.com
END:VEVENT
BEGIN:VEVENT
DTSTART;VALUE=DATE:20270923
DTEND;VALUE=DATE:20270924
DTSTAMP:20260424T183535
CREATED:20240311T232144Z
LAST-MODIFIED:20240828T124903Z
UID:10001517-1821657600-1821743999@gratiaplena.online
SUMMARY:Dia de São Lino
DESCRIPTION:Celebramos hoje (23 Set) a festa de São Lino. Segundo papa apostólico da Igreja Cristã de Roma (67-76) nascido em Volterra\, na Etrúria\, que segundo a tradição foi indicado como sucessor pelo primeiro papa antes de sua crucificação\, São Pedro\, este conhecido como príncipe dos apóstolos de Cristo. Depois que os Santos Apóstolos Pedro e Paulo tinham fundado e organizado a Igreja em Roma\, passaram o exercício do escritório episcopal para ele. Seu nomne aparece mencionado na Bíblia Católica\, no texto da Epístola de São Paulo para Timótio (4:21). Como papa testemunhou a queda de alguns imperadores romanos e a destruição de Jerusalém. Combateu firmemente a feitiçaria e os falsos missionários que tentavam adulterar a doutrina cristã. \n 
URL:https://gratiaplena.online/event/dia-de-sao-lino/2027-09-23/
CATEGORIES:Santo do Dia
ATTACH;FMTTYPE=image/jpeg:https://gratiaplena.online/wp-content/uploads/2024/03/Sao-Lino2.jpeg
ORGANIZER;CN="Administrador":MAILTO:epzanette@gmail.com
END:VEVENT
BEGIN:VEVENT
DTSTART;VALUE=DATE:20270925
DTEND;VALUE=DATE:20270926
DTSTAMP:20260424T183535
CREATED:20240929T005445Z
LAST-MODIFIED:20250116T175744Z
UID:10002106-1821830400-1821916799@gratiaplena.online
SUMMARY:Dia de São Firmino\, bispo de Amiens
DESCRIPTION:Quando Fermín era pequeno\, seu pai\, o senador Firmo\, e sua mãe se converteram ao cristianismo através da pregação de São Saturnino e do padre Honesto. Fermín\, sua família e outras quarenta mil pessoas foram batizadas em apenas três dias.   Honesto continuou a ser professor de Fermín em sua nova religião\, e fez isso tão bem que aos dezessete anos Fermín já era um pregador notável. Alguns anos depois recebeu a consagração episcopal e partiu para França\, onde evangelizou as regiões da Aquitânia\, Auvergne\, Beaubais e Amiens\, onde a perseguição contra os cristãos foi particularmente dura. Conseguiu tantas conversões que foi preso e discretamente assassinado\, espalhando a versão de que havia morrido de parada cardíaca.   Em Pamplona celebra-se San Fermín no dia 7 de julho. Leia mais….
URL:https://gratiaplena.online/event/dia-de-sao-firmino-bispo-de-amiens/2027-09-25/
CATEGORIES:Santo do Dia
ATTACH;FMTTYPE=image/jpeg:https://gratiaplena.online/wp-content/uploads/2024/09/Ssao-Firmino2.jpg
ORGANIZER;CN="Administrador":MAILTO:epzanette@gmail.com
END:VEVENT
END:VCALENDAR