BEGIN:VCALENDAR
VERSION:2.0
PRODID:-//GratiaPlena - ECPv6.15.20//NONSGML v1.0//EN
CALSCALE:GREGORIAN
METHOD:PUBLISH
X-ORIGINAL-URL:https://gratiaplena.online
X-WR-CALDESC:Eventos para GratiaPlena
REFRESH-INTERVAL;VALUE=DURATION:PT1H
X-Robots-Tag:noindex
X-PUBLISHED-TTL:PT1H
BEGIN:VTIMEZONE
TZID:America/Sao_Paulo
BEGIN:STANDARD
TZOFFSETFROM:-0300
TZOFFSETTO:-0300
TZNAME:-03
DTSTART:20260101T000000
END:STANDARD
END:VTIMEZONE
BEGIN:VEVENT
DTSTART;VALUE=DATE:20270321
DTEND;VALUE=DATE:20270322
DTSTAMP:20260424T132814
CREATED:20240319T134814Z
LAST-MODIFIED:20240321T103926Z
UID:10001611-1805587200-1805673599@gratiaplena.online
SUMMARY:Dia de São Nicolau de Flüe
DESCRIPTION:Celebramos hoje (21 Mar) a data da festa litúrgica de São Nicolau de Flüe. É o santo mais popular da Suíça\, conhecido lá como Bruder Klaus\, ou seja\, “Irmão Klaus”. Ele nasceu em 21 de março de 1417\, na Suíça. Filho de família pobre\, queria ser monge quando jovem. Porém\, não pôde realizar tal sonho\, pois teve que ajudar os pais no trabalho da roça. O sonho ficou escondido num canto de seu coração. Depois\, casou-se. Por isso\, mais uma vez teve que adiar seu sonho.
URL:https://gratiaplena.online/event/dia-de-sao-nicolau-de-flue/2027-03-21/
CATEGORIES:Santo do Dia
ATTACH;FMTTYPE=image/jpeg:https://gratiaplena.online/wp-content/uploads/2024/03/Sao-Nicolau-de-Flue2.jpeg
ORGANIZER;CN="Administrador":MAILTO:epzanette@gmail.com
END:VEVENT
BEGIN:VEVENT
DTSTART;VALUE=DATE:20270322
DTEND;VALUE=DATE:20270323
DTSTAMP:20260424T132814
CREATED:20240319T143220Z
LAST-MODIFIED:20240322T130116Z
UID:10001616-1805673600-1805759999@gratiaplena.online
SUMMARY:Dia de São Paulo de Narbonne
DESCRIPTION:Celebramos hoje (22 Mar) a festa litúrgica de São Paulo de Narbonne. Santo do dia: “São Paulo\, Bispo de Narbonne e Mártir”. Um pouco da história: Em meados do século III\, as primeiras comunidades cristãs dispersaram-se por causa das perseguições de Décio. Paulo foi um dos sete Bispos enviados para pregar na Gália. Salvando-se do martírio sofrido por seus companheiros\, fundou a Igreja em Narbonne\, da qual foi o primeiro Bispo por volta de 250.
URL:https://gratiaplena.online/event/dia-de-sao-paulo-de-narbonne/2027-03-22/
CATEGORIES:Santo do Dia
ATTACH;FMTTYPE=image/png:https://gratiaplena.online/wp-content/uploads/2024/03/Sao-Paulo-de-Narbonne.png
ORGANIZER;CN="Administrador":MAILTO:epzanette@gmail.com
END:VEVENT
BEGIN:VEVENT
DTSTART;VALUE=DATE:20270322
DTEND;VALUE=DATE:20270323
DTSTAMP:20260424T132814
CREATED:20240319T154636Z
LAST-MODIFIED:20240322T130238Z
UID:10001621-1805673600-1805759999@gratiaplena.online
SUMMARY:Dia de Santa Lia
DESCRIPTION:Comemoramos hpje (22 Mar) a memória litúrgica de Santa Lia ou Santa Léia. Léia era uma jovem romana de origem nobre\, que viveu por volta do ano 370. Sabe-se que ela recebeu formação cristã sólida e tinha um coração realmente voltado para Deus. Casou-se bem jovem e não teve filhos\, porque logo ficou viúva. A viuvez causou-lhe grande transtorno. Mas\, ao mesmo tempo\, deu-lhe a oportunidade buscar conhecer a vontade de Deus para sua vida e de seguir um novo projeto.
URL:https://gratiaplena.online/event/dia-de-santa-lia/2027-03-22/
CATEGORIES:Santo do Dia
ATTACH;FMTTYPE=image/jpeg:https://gratiaplena.online/wp-content/uploads/2024/03/Santa-Lia2.jpg
ORGANIZER;CN="Administrador":MAILTO:epzanette@gmail.com
END:VEVENT
BEGIN:VEVENT
DTSTART;VALUE=DATE:20270323
DTEND;VALUE=DATE:20270324
DTSTAMP:20260424T132814
CREATED:20240319T182057Z
LAST-MODIFIED:20240323T102735Z
UID:10001626-1805760000-1805846399@gratiaplena.online
SUMMARY:Dia de São Turíbio de Mongrovejo
DESCRIPTION:Celebramos hoje (23 Mar) a memória de São Turíbio de Mongrovejo. Seu nome completo é Turíbio Alfonso de Mongrovejo. É espanhol e filho de uma família rica da nobreza. Estudou nas cidades de Santiago de Compostela\, Valadolid e Salamanca. Formou-se advogado e participou da inquisição. Desde jovem\, foi honesto e justo. A nomeação episcopal\, na época\, era bem diferente de como é hoje. Sendo assim\, o rei Felipe II percebeu as qualidades de Turíbio de Mongrovejo e pediu ao Papa Gregório XIII que o nomeasse arcebispo da América Espanhola\, então\, o Papa atendeu. Por isso\, após um discernimento\, Turíbio recebeu todas as ordens sagradas de uma só vez\, inclusive a ordenação sacerdotal. Assim\, em 1580\, ele foi sagrado Arcebispo de Lima\, no Peru. Foi dessa maneira\, aparentemente improvisada\, que nasceu um dos maiores apóstolos da América Latina.
URL:https://gratiaplena.online/event/dia-de-sao-turibio-de-mongrovejo/2027-03-23/
CATEGORIES:Santo do Dia
ATTACH;FMTTYPE=image/jpeg:https://gratiaplena.online/wp-content/uploads/2024/03/Sao-Turibio-de-Mongrovejo2.jpeg
ORGANIZER;CN="Administrador":MAILTO:epzanette@gmail.com
END:VEVENT
BEGIN:VEVENT
DTSTART;VALUE=DATE:20270324
DTEND;VALUE=DATE:20270325
DTSTAMP:20260424T132814
CREATED:20240319T185407Z
LAST-MODIFIED:20240324T134339Z
UID:10001631-1805846400-1805932799@gratiaplena.online
SUMMARY:Dia de Santo Oscar Romero
DESCRIPTION:Celebramos hoje (24 Mar) a memória litúrgica de Santo Oscar Romero\, nasceu em El Salvador\, em 1917\, foi ordenado sacerdote em 1942 e em 1977\, Paulo VI designa-o arcebispo de San Salvador\, no meio de um contexto político de forte repressão\, sobretudo contra as organizações camponesas. O assassinado do padre jesuíta Rutílio Grande\, é considerado o momento da ‘conversão’ de Romero\, que passa então a denunciar a repressão\, a violência do Estado e a exploração imposta ao povo pela aliança entre os setores político-militares e econômicos\, apoiada pelos EUA.
URL:https://gratiaplena.online/event/dia-de-santo-oscar-romero/2027-03-24/
CATEGORIES:Santo do Dia
ATTACH;FMTTYPE=image/jpeg:https://gratiaplena.online/wp-content/uploads/2024/03/Santo-Oscar-Romero2.jpeg
ORGANIZER;CN="Administrador":MAILTO:epzanette@gmail.com
END:VEVENT
BEGIN:VEVENT
DTSTART;VALUE=DATE:20270324
DTEND;VALUE=DATE:20270325
DTSTAMP:20260424T132814
CREATED:20240319T193027Z
LAST-MODIFIED:20240324T134535Z
UID:10001636-1805846400-1805932799@gratiaplena.online
SUMMARY:Dia de Santa Catarina da Suécia
DESCRIPTION:Celebramos hoje (24 Mar) a memória litúrgica de Santa Catarina da Suécia. Santa Catarina foi filha\, companheira inseparável e discípula fiel de sua mãe\, Santa Brígida. Esta é santa mais conhecida e venerada da Suécia. Catarina nasceu em berço nobre\, rico e cristão\, no ano 1331\, na Suécia. Em casa\, recebeu\, especialmente de sua mãe\, educação e formação muito sólida com base cristã. Com apenas sete anos\, foi levada para as Irmãs do convento de Risberg. Estas\, ajudaram a desenvolver a linda vocação religiosa de Catarina\, confirmando todo o ensinamento que ela recebera de sua mãe.
URL:https://gratiaplena.online/event/dia-de-santa-catarina-da-suecia/2027-03-24/
CATEGORIES:Santo do Dia
ATTACH;FMTTYPE=image/webp:https://gratiaplena.online/wp-content/uploads/2024/03/Santa-Catarina-da-Suecia2.webp
ORGANIZER;CN="Administrador":MAILTO:epzanette@gmail.com
END:VEVENT
BEGIN:VEVENT
DTSTART;VALUE=DATE:20270325
DTEND;VALUE=DATE:20270326
DTSTAMP:20260424T132814
CREATED:20240319T205951Z
LAST-MODIFIED:20240325T103029Z
UID:10001647-1805932800-1806019199@gratiaplena.online
SUMMARY:Dia de São Dimas
DESCRIPTION:Celebramos hoje (25 Marc) a festa litúrgica de São Dimas. O Evangelho fala pouco deste Santo. Nem mesmo o nome\, os evangelistas fixaram. O que sabemos foi trazido pela tradição que são os nomes: Dimas\, o Bom Ladrão e Simas\, o mau ladrão. Sem dúvida alguma\, se trata de um santo original\, único\, privilegiado\, que mereceu a honra de ser canonizado em vida por Jesus Cristo\, na hora solene de nossa Redenção. Os outros santos só foram solenemente reconhecidos\, no outro milênio\, a partir do ano 999. A Igreja comemorava os mártires e confessores\, mas sem uma declaração oficial e formal. Enquanto que\, a de São Dimas quem proclamou foi o próprio Fundador da Igreja.
URL:https://gratiaplena.online/event/dia-de-sao-dimas/2027-03-25/
CATEGORIES:Santo do Dia
ATTACH;FMTTYPE=image/jpeg:https://gratiaplena.online/wp-content/uploads/2024/03/Sao-Dimas2.jpg
ORGANIZER;CN="Administrador":MAILTO:epzanette@gmail.com
END:VEVENT
BEGIN:VEVENT
DTSTART;VALUE=DATE:20270325
DTEND;VALUE=DATE:20270326
DTSTAMP:20260424T132814
CREATED:20240319T214631Z
LAST-MODIFIED:20240325T103204Z
UID:10001652-1805932800-1806019199@gratiaplena.online
SUMMARY:Dia de São Quirino de Neuss
DESCRIPTION:Celebramos hoje (25 Mar) a festa litúrgica de São Quirino de Neuss. São Quirino\, por vezes chamado de São Quirino de Roma\, ou São Quirino de Neuss\, ou ainda São Cirino\, é um mártir e santo venerado tanto pela Igreja Católica quanto pela Igreja Ortodoxa. Não se sabe quando e onde nasceu\, mas era de origem romana e seu nome provém do alemão Quirin ou Quirinus\, que por vezes é traduzido para o latim como Cirino. O que se sabe da sua vida provém dos lendários “Atos dos Santos Alexandre e Balbina“. Segundo eles\, Quirino era um rico tribuno\, uma espécie de governante local no Império Romano\, que na sua época era liderado pelo imperador Trajano\, que manteve-se no trono entre os anos 98 e 117.
URL:https://gratiaplena.online/event/dia-de-sao-quirino-de-neuss/2027-03-25/
CATEGORIES:Santo do Dia
ATTACH;FMTTYPE=image/png:https://gratiaplena.online/wp-content/uploads/2024/03/Sao-Quirino-de-Neuss2.png
ORGANIZER;CN="Administrador":MAILTO:epzanette@gmail.com
END:VEVENT
BEGIN:VEVENT
DTSTART;VALUE=DATE:20270325
DTEND;VALUE=DATE:20270326
DTSTAMP:20260424T132814
CREATED:20240320T000228Z
LAST-MODIFIED:20240325T103401Z
UID:10001657-1805932800-1806019199@gratiaplena.online
SUMMARY:Dia de Santa Lúcia Filippini
DESCRIPTION:Celebramos hoje (25 Marc) a data litúrgica de Santa Lúcia Filippini.  Lúcia nasceu no dia 13 de janeiro de 1672\, em Corneto Tarquínia\, proximidades de Roma\, numa família honrada e abastada. Quando ainda tinha um ano de idade\, perdeu a\nmãe\, que faleceu com apenas 27 anos de idade\, e alguns anos mais tarde\, o pai. Passou a viver com os tios e foi entregue\, para ser formada e educada\, às Irmãs beneditinas e junto delas a menina descobriu o dom que tinha para ensinar. Seu amor a Jesus na Eucaristia era tão grande que não passava dia sem que O fosse visitar no tabernáculo. Muito dedicada aos estudos da Sagrada Escritura\, e com a alma cheia de caridade\, tomou para si\, ainda no início da adolescência a função de ensinar o catecismo às crianças. Tantos eram os pequenos que a procuravam e tão cativante era sua forma de transmitir as verdades de nossa Fé\, que logo o padre do local a nomeou oficialmente a catequista paroquial.
URL:https://gratiaplena.online/event/dia-de-santa-lucia-filippini/2027-03-25/
CATEGORIES:Santo do Dia
ATTACH;FMTTYPE=image/png:https://gratiaplena.online/wp-content/uploads/2024/03/Santa-Lucia-Filippini2.png
ORGANIZER;CN="Administrador":MAILTO:epzanette@gmail.com
END:VEVENT
BEGIN:VEVENT
DTSTART;VALUE=DATE:20270326
DTEND;VALUE=DATE:20270327
DTSTAMP:20260424T132814
CREATED:20240320T110249Z
LAST-MODIFIED:20240326T184507Z
UID:10001663-1806019200-1806105599@gratiaplena.online
SUMMARY:Dia de São Cástulo
DESCRIPTION:Celebramos hoje (26 Mar) a festa litúrgica de São Cástulo\, mártir recordado nesta catacumba. Cástulo\, celebrado no Martirológio Romano em 26 de março\, era\, segundo as lendas antigas\, um cubiculário do imperador romano Diocleciano (foi o imperador romano de 284 até sua abdicação em 305) que refugiou no palácio imperial muitos cristãos perseguidos\, incluindo o papa Caio. Descoberto depois de ser traído\, foi martirizado.
URL:https://gratiaplena.online/event/dia-de-sao-castulo/2027-03-26/
CATEGORIES:Santo do Dia
ATTACH;FMTTYPE=image/png:https://gratiaplena.online/wp-content/uploads/2024/03/Sao-Castulo.png
ORGANIZER;CN="Administrador":MAILTO:epzanette@gmail.com
END:VEVENT
BEGIN:VEVENT
DTSTART;VALUE=DATE:20270327
DTEND;VALUE=DATE:20270328
DTSTAMP:20260424T132814
CREATED:20240320T113825Z
LAST-MODIFIED:20240327T114228Z
UID:10001668-1806105600-1806191999@gratiaplena.online
SUMMARY:Dia de São Ruperto
DESCRIPTION:Celebramos hoje (27 Mar) a festa litúrgica de São Ruperto.  No ano de 700\, foi impelido pelos seus mestres e sentiu-se impulsionado à pregação e ao testemunho monástico indo à Baviera. Apoiado pelo conde Teodo de Baviera\, fundou\, perto do lago Waller\, a 10 km de Salisburgo\, uma igreja dedicada a São Pedro. O lugar\, porém\, não pareceu próprio para os fins de Ruperto\, que pediu ao conde outro terreno perto do rio Salzach\, próximo à antiga cidade romana de Juvavum. O mosteiro que ali construiu\, dedicado a São Pedro\, é o mais antigo da Áustria e está ligado com o núcleo de Nova Salisburgo. Seu desenvolvimento deve-se também à colaboração de doze conterrâneos seus. Desses\, Cunialdo e Gislero foram honrados como santos.
URL:https://gratiaplena.online/event/dia-de-sao-ruperto/2027-03-27/
CATEGORIES:Santo do Dia
ATTACH;FMTTYPE=image/png:https://gratiaplena.online/wp-content/uploads/2024/03/Sao-Ruperto2.png
ORGANIZER;CN="Administrador":MAILTO:epzanette@gmail.com
END:VEVENT
END:VCALENDAR