BEGIN:VCALENDAR
VERSION:2.0
PRODID:-//GratiaPlena - ECPv6.15.20//NONSGML v1.0//EN
CALSCALE:GREGORIAN
METHOD:PUBLISH
X-WR-CALNAME:GratiaPlena
X-ORIGINAL-URL:https://gratiaplena.online
X-WR-CALDESC:Eventos para GratiaPlena
REFRESH-INTERVAL;VALUE=DURATION:PT1H
X-Robots-Tag:noindex
X-PUBLISHED-TTL:PT1H
BEGIN:VTIMEZONE
TZID:America/Sao_Paulo
BEGIN:STANDARD
TZOFFSETFROM:-0300
TZOFFSETTO:-0300
TZNAME:-03
DTSTART:20250101T000000
END:STANDARD
END:VTIMEZONE
BEGIN:VEVENT
DTSTART;VALUE=DATE:20261115
DTEND;VALUE=DATE:20261116
DTSTAMP:20260424T034339
CREATED:20240309T001550Z
LAST-MODIFIED:20240828T141014Z
UID:10001462-1794700800-1794787199@gratiaplena.online
SUMMARY:Dia de Santo Alberto Magno
DESCRIPTION:Celebramos hoje (15 Nov) a festa de Santo Alberto Magno. Alberto — que a posteridade chamará “Magno”\, isto é\, grande —\, nascido em Lauingen\, na Baviera\, em 1200\, está entre os primeiros pensadores medievais a afirmar a autonomia da ciência e da filosofia em relação à teologia. Verdadeiro gênio enciclopédico\, capaz de mover-se com grande segurança nos mais diferentes campos do conhecimento humano\, conviveu em perfeita harmonia entre as razões da ciência e da fé. “Senhor Jesus”\, rezava\, “invocamos a tua ajuda para não nos deixarmos seduzir pelas vãs palavras tentadoras sobre a nobreza da família\, sobre o prestígio da instituição\, sobre o que a ciência tem de atraente.”
URL:https://gratiaplena.online/event/dia-de-santo-alberto-magno/2026-11-15/
CATEGORIES:Santo do Dia
ATTACH;FMTTYPE=image/jpeg:https://gratiaplena.online/wp-content/uploads/2024/03/Santo-Alberto-Magno2-1.jpg
ORGANIZER;CN="Administrador":MAILTO:epzanette@gmail.com
END:VEVENT
BEGIN:VEVENT
DTSTART;VALUE=DATE:20261119
DTEND;VALUE=DATE:20261120
DTSTAMP:20260424T034339
CREATED:20240107T145901Z
LAST-MODIFIED:20240828T141733Z
UID:10001016-1795046400-1795132799@gratiaplena.online
SUMMARY:Dia de Santo Abdias
DESCRIPTION:Celebramos hoje (19 Nov) a festa de Santo Abdias. Não se sabe quase nada deste ” pequeno profeta “\, mas algumas tradições cristãs afirmam que ele teria nascido em Siquem. Profeta santo que predisse a destruição de Edom como castigo ao mal que fez contra Jacó\, seu irmão. A data do seu ministério não é conhecida\, ao certo\, devido a determinadas ambiguidades históricas no livro que leva o seu nome. Porém\, pelo oque ele escreveu em sua profecia deve ter vivido nos tempos do rei Acaz\, ou seja\, por volta do ano 741 ac. O seu livro éo menor do antigo testamento\, contando com apenas 21 versículos. Sua profecia deve ser fixada no tempo do exílio. Ele é conhecido por dois nomes: Obadias ou Abdias. Leia mais….
URL:https://gratiaplena.online/event/dia-de-santo-abdias/2026-11-19/
CATEGORIES:Santo do Dia
ATTACH;FMTTYPE=image/jpeg:https://gratiaplena.online/wp-content/uploads/2024/01/Abdias.jpg
ORGANIZER;CN="Administrador":MAILTO:epzanette@gmail.com
END:VEVENT
END:VCALENDAR