BEGIN:VCALENDAR
VERSION:2.0
PRODID:-//GratiaPlena - ECPv6.15.20//NONSGML v1.0//EN
CALSCALE:GREGORIAN
METHOD:PUBLISH
X-WR-CALNAME:GratiaPlena
X-ORIGINAL-URL:https://gratiaplena.online
X-WR-CALDESC:Eventos para GratiaPlena
REFRESH-INTERVAL;VALUE=DURATION:PT1H
X-Robots-Tag:noindex
X-PUBLISHED-TTL:PT1H
BEGIN:VTIMEZONE
TZID:America/Sao_Paulo
BEGIN:STANDARD
TZOFFSETFROM:-0300
TZOFFSETTO:-0300
TZNAME:-03
DTSTART:20250101T000000
END:STANDARD
END:VTIMEZONE
BEGIN:VEVENT
DTSTART;VALUE=DATE:20260810
DTEND;VALUE=DATE:20260811
DTSTAMP:20260423T213439
CREATED:20250127T141343Z
LAST-MODIFIED:20250127T141343Z
UID:10002646-1786320000-1786406399@gratiaplena.online
SUMMARY:Dia de São Lourenço\, Mártir
DESCRIPTION:Celebramos hoje (10 Ago) a festa de São Lourenço\, Mártir. São Lourenço\, o santo espanhol\, também conhecido como Lourenço de Huesta ou Valência. Nasceu em 225 e morreu martirizado em 258\, no dia 10 de agosto\, em Roma. Está entre os diáconos do início da Igreja de Roma. Eles eram considerados os guardiões dos bens da Igreja e dispensadores de ajuda aos pobres. O nome Lourenço é o mesmo que Laureamtenens\, que significa Coroa feita de Louro\, como os vencedores recebiam após suas vitórias. Lourenço obteve a vitória em sua paixão. São Lourenço foi ajudante do Papa Sisto II e responsável por um centro dedicado aos pobres. Leia mais…. \n 
URL:https://gratiaplena.online/event/dia-de-sao-lourenco-martir/2026-08-10/
CATEGORIES:Santo do Dia
ATTACH;FMTTYPE=image/png:https://gratiaplena.online/wp-content/uploads/2025/01/Sao-Lourenco-Martir2.png
ORGANIZER;CN="Administrador":MAILTO:epzanette@gmail.com
END:VEVENT
BEGIN:VEVENT
DTSTART;VALUE=DATE:20260811
DTEND;VALUE=DATE:20260812
DTSTAMP:20260423T213439
CREATED:20231201T174626Z
LAST-MODIFIED:20240828T120559Z
UID:10000673-1786406400-1786492799@gratiaplena.online
SUMMARY:Dia de Santa Clara de Assis
DESCRIPTION:Celebramos hoje (11 Ago) a sua memória. Santa Clara de Assis costuma ser retratada com uma custódia ou um cibório em mãos. Santa Clara de Assis (1193-1253) escutou a voz de Cristo durante um momento dramático e turbulento da história da Itália — no período em que o ambicioso imperador germânico\, Frederico II\, estava empenhado em conquistar a Sicília e a Itália\, além de Roma e dos Estados Pontifícios.
URL:https://gratiaplena.online/event/dia-de-santa-clara-de-assis-2/2026-08-11/
CATEGORIES:Santo do Dia
ATTACH;FMTTYPE=image/jpeg:https://gratiaplena.online/wp-content/uploads/2023/11/Santa-Clara-de-Assis.jpg
ORGANIZER;CN="Administrador":MAILTO:epzanette@gmail.com
END:VEVENT
BEGIN:VEVENT
DTSTART;VALUE=DATE:20260812
DTEND;VALUE=DATE:20260813
DTSTAMP:20260423T213439
CREATED:20240311T172437Z
LAST-MODIFIED:20240828T121206Z
UID:10001504-1786492800-1786579199@gratiaplena.online
SUMMARY:Dia de Beato Inocêncio XI
DESCRIPTION:Celebramos hoje (12 Ago) a festa de Beato Inocêncio XI. Nasceu em 16 de maio de 1611\, no norte da Itália\, com Como. Realizou seus primeiros estudos na mesma cidade\, com os jesuítas e\, depois\, na universidade La Sapienza de Roma e na Universidade da Nápoles\, doutorando-se nesta última em direito civil e direito canônico (1639). Não se tem dados sobre sua vocação e sua ordenação sacerdotal. Em 1645\, o Papa Inocêncio X o nomeou cardeal diácono de São Cosme e Damião. Durante seu pontificado\, teve vários problemas com cardeais franceses e com o rei Luiz XIV da França\, pois não respeitava os direitos da Igreja.
URL:https://gratiaplena.online/event/dia-de-beato-inocencio-xi/2026-08-12/
CATEGORIES:Santo do Dia
ATTACH;FMTTYPE=image/jpeg:https://gratiaplena.online/wp-content/uploads/2024/03/Beato-Inocencio-XI-2.jpeg
ORGANIZER;CN="Administrador":MAILTO:epzanette@gmail.com
END:VEVENT
END:VCALENDAR