BEGIN:VCALENDAR
VERSION:2.0
PRODID:-//GratiaPlena - ECPv6.15.20//NONSGML v1.0//EN
CALSCALE:GREGORIAN
METHOD:PUBLISH
X-WR-CALNAME:GratiaPlena
X-ORIGINAL-URL:https://gratiaplena.online
X-WR-CALDESC:Eventos para GratiaPlena
REFRESH-INTERVAL;VALUE=DURATION:PT1H
X-Robots-Tag:noindex
X-PUBLISHED-TTL:PT1H
BEGIN:VTIMEZONE
TZID:America/Sao_Paulo
BEGIN:STANDARD
TZOFFSETFROM:-0300
TZOFFSETTO:-0300
TZNAME:-03
DTSTART:20250101T000000
END:STANDARD
END:VTIMEZONE
BEGIN:VEVENT
DTSTART;VALUE=DATE:20260707
DTEND;VALUE=DATE:20260708
DTSTAMP:20260423T202020
CREATED:20240707T090016Z
LAST-MODIFIED:20240712T175646Z
UID:10001801-1783382400-1783468799@gratiaplena.online
SUMMARY:Dia de Beato Bento XI
DESCRIPTION:Celebramos hoje (7 Jul) a festa litúrgica de Beato Bento XI. De família pobre e cristã\, Nicolau Boccasini nasceu em Treviso\, no norte da Itália\, em 1240. Sua mãe era lavadeira dos Frades Dominicanos. Aos 17 anos\, entrou na Ordem Dominicana e vestiu o hábito religioso. Foi estudar em Milão\, onde se ordenou sacerdote. De volta em Treviso\, São Bento foi professor do convento. Manso de caráter\, exemplo de homem humilde e piedoso. Foi eleito Superior Provincial da Ordem Dominicana na região da Lombardia em 1286 e\, após dez anos\, foi nomeado Superior Geral dos Dominicanos. Realizou uma das proezas mais difíceis de sua época: uma trégua entre os reis da Inglaterra\, Eduardo I\, e da França\, Felipe\, o Belo.
URL:https://gratiaplena.online/event/dia-de-beato-bento-xi/2026-07-07/
CATEGORIES:Santo do Dia
ATTACH;FMTTYPE=image/jpeg:https://gratiaplena.online/wp-content/uploads/2024/03/Beato-Bento-XI-2.jpeg
ORGANIZER;CN="Administrador":MAILTO:epzanette@gmail.com
END:VEVENT
BEGIN:VEVENT
DTSTART;VALUE=DATE:20260708
DTEND;VALUE=DATE:20260709
DTSTAMP:20260423T202020
CREATED:20240310T202621Z
LAST-MODIFIED:20240310T202621Z
UID:10001480-1783468800-1783555199@gratiaplena.online
SUMMARY:Dia de Beato Eugênio III
DESCRIPTION:Celebramos hoje (8 Jul) a festa litúrgica de Beato Eugênio III. Um dado importante é que: praticamente\, de cada três Papas\, um foi oficialmente declarado santo. Assim aconteceu com Santo Eugênio\, que\, se tornou para a Igreja o homem certo para o tempo devido. Eugênio III nasceu no fim do século XI\, em Montemagno\, na Itália\, numa família rica\, cristã e da nobreza italiana. Depois de ordenado\, consagrou-se a Deus como sacerdote\, até que abandonou todas suas funções para viver como monge. O grande reformador da vida monástica – São Bernardo – o acolheu a fim de ajudá-lo na busca da santidade\, assim como no governo da Igreja\, pois inesperadamente o simples monge foi eleito para sucessor na Cátedra de Pedro. A Roma da época sofria com a agitação de Arnaldo de Bréscia\, que reclamava instituições municipais com eleições diretas dos senadores\, talvez por isso chegou a impedir a ordenação e posse de Eugênio\, já que tinha sido eleito pelo Espírito Santo numa instituição de origem divina.
URL:https://gratiaplena.online/event/dia-de-beato-eugenio-iii/2026-07-08/
CATEGORIES:Santo do Dia
ATTACH;FMTTYPE=image/jpeg:https://gratiaplena.online/wp-content/uploads/2024/03/Beato-Eugenio-III2.jpeg
ORGANIZER;CN="Administrador":MAILTO:epzanette@gmail.com
END:VEVENT
BEGIN:VEVENT
DTSTART;VALUE=DATE:20260711
DTEND;VALUE=DATE:20260712
DTSTAMP:20260423T202020
CREATED:20240209T132930Z
LAST-MODIFIED:20240209T132930Z
UID:10001260-1783728000-1783814399@gratiaplena.online
SUMMARY:Dia de So Bento
DESCRIPTION:Comemoramos hoje (11 Jul) a memória de S. Bento de Núrsia\, pai do Ocidente\, padroeiro da Europa e um dos santos mais influentes de todo o ocidente. Bento era oriundo da nobre família Anicia\, que dera a Roma cônsules e imperadores\, e nasceu no povoado de Sabino\, em Núrcia\, na Umbria\, por volta de 480. Quatro anos antes\, Odoacro\, chefe de um exército de mercenários germânicos de estirpe hérula\,  destituía o último imperador romano do Ocidente\, fazendo cessar assim o domínio que tinha Roma sobre todo o mundo civilizado de então. Bento tinha uma irmã gêmea\, Escolástica\, da qual sabe-se que foi consagrada a Deus desde a infância\, mas não se tem mais pormenores de sua vida\, a não ser de sua morte.
URL:https://gratiaplena.online/event/dia-de-so-bento/2026-07-11/
CATEGORIES:Santo do Dia
ATTACH;FMTTYPE=image/jpeg:https://gratiaplena.online/wp-content/uploads/2024/02/Sao-Beno2.jpg
ORGANIZER;CN="Administrador":MAILTO:epzanette@gmail.com
END:VEVENT
BEGIN:VEVENT
DTSTART;VALUE=DATE:20260711
DTEND;VALUE=DATE:20260712
DTSTAMP:20260423T202020
CREATED:20240209T141945Z
LAST-MODIFIED:20240209T141945Z
UID:10001266-1783728000-1783814399@gratiaplena.online
SUMMARY:Dia de São Pio I
DESCRIPTION:Celebramos hoje (11 Jul) a memória de Papa São Pio I\, o criador da tradição da celebração da Páscoa aos domingos\, enfrentou problemas de cunho religioso com os judeus convertidos e com os hereges de seu tempo. O seu pontificado foi marcado por questões envolvendo judeus convertidos e com heresiarcas como os gnósticos Valentim\, Cerdão e Marcião\, criador dos marcionismo.
URL:https://gratiaplena.online/event/dia-de-sao-pio-i/2026-07-11/
CATEGORIES:Santo do Dia
ATTACH;FMTTYPE=image/jpeg:https://gratiaplena.online/wp-content/uploads/2024/02/Papa-Pio-I.jpeg
ORGANIZER;CN="Administrador":MAILTO:epzanette@gmail.com
END:VEVENT
END:VCALENDAR