BEGIN:VCALENDAR
VERSION:2.0
PRODID:-//GratiaPlena - ECPv6.15.20//NONSGML v1.0//EN
CALSCALE:GREGORIAN
METHOD:PUBLISH
X-WR-CALNAME:GratiaPlena
X-ORIGINAL-URL:https://gratiaplena.online
X-WR-CALDESC:Eventos para GratiaPlena
REFRESH-INTERVAL;VALUE=DURATION:PT1H
X-Robots-Tag:noindex
X-PUBLISHED-TTL:PT1H
BEGIN:VTIMEZONE
TZID:America/Sao_Paulo
BEGIN:STANDARD
TZOFFSETFROM:-0300
TZOFFSETTO:-0300
TZNAME:-03
DTSTART:20250101T000000
END:STANDARD
END:VTIMEZONE
BEGIN:VEVENT
DTSTART;VALUE=DATE:20260420
DTEND;VALUE=DATE:20260421
DTSTAMP:20260423T165328
CREATED:20240711T195748Z
LAST-MODIFIED:20240728T201528Z
UID:10001794-1776643200-1776729599@gratiaplena.online
SUMMARY:Dia de Santo Aniceto
DESCRIPTION:Comemoramos hoje (20 Abr) a memória de Santo Aniceto. Aniceto nasceu na Síria e foi sucessor do papa são Pio I\, em 155\, no tempo em que Antônio era o imperador romano. Entretanto\, além da perseguição sistemática por parte do Império\, o papa Aniceto teve de enfrentar\, também\, cismas internos que abalaram o cristianismo. A começar por Valentim\, passando por Marcelina\, que fundou a seita dos carpocratitas\, considerada muito imoral pela Igreja\, e chegando a Marcion\, um propagador\, com dotes de publicitário\, que arregimentou muita gente\, e muitos outros. Sem contar a questão da celebração da Páscoa. Leia mais….
URL:https://gratiaplena.online/event/dia-de-santo-aniceto/2026-04-20/
CATEGORIES:Santo do Dia
ATTACH;FMTTYPE=image/jpeg:https://gratiaplena.online/wp-content/uploads/2024/07/Santo-Aniceto-2.jpg
ORGANIZER;CN="Administrador":MAILTO:epzanette@gmail.com
END:VEVENT
BEGIN:VEVENT
DTSTART;VALUE=DATE:20260421
DTEND;VALUE=DATE:20260422
DTSTAMP:20260423T165328
CREATED:20240119T144221Z
LAST-MODIFIED:20240119T144221Z
UID:10001089-1776729600-1776815999@gratiaplena.online
SUMMARY:Dia e Santo Anselmo
DESCRIPTION:Comemoramos hoje (21 Abr) a memória litúrgica de Santo Anselmo de Cantuária\, nasceu em Aosta\, no norte da Itália\, em 1033. Seu pai queria projetar seu filho na vida da nobreza e sonhava para ele uma carreira promissora. Quando soube do desejo de Anselmo em fazer padre\, opõe-se radicalmente. Como Anselmo perdera a mãe muito cedo\, e tinha um coração doce e manso\, fez a vontade do pai até os vinte anos. Mas na flor da juventude\, Anselmo fugiu de casa\, para poder se tornar um religioso. Ele queria dedicar-se de corpo e alma à sua fé\, contrária à vida mundana de festas em meio ao luxo e à riqueza.
URL:https://gratiaplena.online/event/dia-e-santo-anselmo/2026-04-21/
CATEGORIES:Santo do Dia
ATTACH;FMTTYPE=image/jpeg:https://gratiaplena.online/wp-content/uploads/2024/01/Santo-Anselmo2.jpg
ORGANIZER;CN="Administrador":MAILTO:epzanette@gmail.com
END:VEVENT
BEGIN:VEVENT
DTSTART;VALUE=DATE:20260422
DTEND;VALUE=DATE:20260423
DTSTAMP:20260423T165328
CREATED:20240728T195317Z
LAST-MODIFIED:20240728T195317Z
UID:10001863-1776816000-1776902399@gratiaplena.online
SUMMARY:Dia de São Sotero
DESCRIPTION:Homenafgeamos hoje (22 Abr) São Sotero. Poucas são as informações biográficas de Sotero. Foi papa entre 166 e 175\, período em que ser cristão era muito difícil e perigoso. Ele foi eleito o sucessor do papa Aniceto\, que morreu em 165. Nasceu na cidade de Fondi\, na Campânia\, Itália\, e seu pai se chamava Concórdio. Durante o seu pontificado\, a Igreja ampliou-se bastante. Ele mesmo ordenou inúmeros diáconos\, sacerdotes e bispos; e seu pontificado foi exemplar. Disciplinou\, por meio das leis canônicas\, a participação das mulheres na Igreja\, que até então não tinham seu caminho muito bem definido. Mas\, sobretudo\, o papa Sotero combateu com grande valentia e coragem as heresias que pairavam sobre a Igreja dos tempos iniciais do cristianismo. No seu tempo\, foi extinta a heresia de Montano\, que propunha um exagerado rigor de costumes. Era uma doutrina de medo e de pessimismo\, porque o fim do mundo sempre poderia acontecer a qualquer momento. Leia mais….
URL:https://gratiaplena.online/event/dia-de-sao-sotero/2026-04-22/
CATEGORIES:Santo do Dia
ATTACH;FMTTYPE=image/jpeg:https://gratiaplena.online/wp-content/uploads/2024/07/Sao-Sotero2.jpg
ORGANIZER;CN="Administrador":MAILTO:epzanette@gmail.com
END:VEVENT
BEGIN:VEVENT
DTSTART;VALUE=DATE:20260425
DTEND;VALUE=DATE:20260426
DTSTAMP:20260423T165328
CREATED:20231217T214205Z
LAST-MODIFIED:20240725T211429Z
UID:10000777-1777075200-1777161599@gratiaplena.online
SUMMARY:Dia de São Marcos
DESCRIPTION:Celebramos hoje (25 Abr)\, com alegria a festa do Evangelista São Marcos\, aquele com o Evangelho mais antigo escrito por volta dos anos 60 d.C. Onde este jovem cristão assumiu bem cedo o chamado a missão\, em que\, desde pequeno pode presenciar momentos ímpares na vida de Jesus e seus discípulos.
URL:https://gratiaplena.online/event/dia-de-sao-marcos/2026-04-25/
CATEGORIES:Santo do Dia
ATTACH;FMTTYPE=image/jpeg:https://gratiaplena.online/wp-content/uploads/2023/12/Sao-Marcos-1.jpg
ORGANIZER;CN="Administrador":MAILTO:epzanette@gmail.com
END:VEVENT
END:VCALENDAR