BEGIN:VCALENDAR
VERSION:2.0
PRODID:-//GratiaPlena - ECPv6.15.20//NONSGML v1.0//EN
CALSCALE:GREGORIAN
METHOD:PUBLISH
X-ORIGINAL-URL:https://gratiaplena.online
X-WR-CALDESC:Eventos para GratiaPlena
REFRESH-INTERVAL;VALUE=DURATION:PT1H
X-Robots-Tag:noindex
X-PUBLISHED-TTL:PT1H
BEGIN:VTIMEZONE
TZID:America/Sao_Paulo
BEGIN:STANDARD
TZOFFSETFROM:-0300
TZOFFSETTO:-0300
TZNAME:-03
DTSTART:20250101T000000
END:STANDARD
END:VTIMEZONE
BEGIN:VEVENT
DTSTART;VALUE=DATE:20260412
DTEND;VALUE=DATE:20260413
DTSTAMP:20260423T185120
CREATED:20240902T185020Z
LAST-MODIFIED:20240902T185020Z
UID:10001947-1775952000-1776038399@gratiaplena.online
SUMMARY:Dia de São Zenão\, bispo de Verona
DESCRIPTION:Quando Zenão tornou-se bispo de Verona\, em 362\, recebeu o apelido de “mouro e pescador”\, por suas origens no norte da África. Durante seu episcopado\, enfrentou o Arianismo e o Paganismo\, e deu grande exemplo de caridade\, humildade e generosidade para com os pobres. Hoje\, é Padroeiro da cidade.
URL:https://gratiaplena.online/event/dia-de-sao-zenao-bispo-de-verona/2026-04-12/
CATEGORIES:Santo do Dia
ATTACH;FMTTYPE=image/jpeg:https://gratiaplena.online/wp-content/uploads/2024/09/Sao-Zanao3-1.jpg
ORGANIZER;CN="Administrador":MAILTO:epzanette@gmail.com
END:VEVENT
BEGIN:VEVENT
DTSTART;VALUE=DATE:20260416
DTEND;VALUE=DATE:20260417
DTSTAMP:20260423T185120
CREATED:20240211T204000Z
LAST-MODIFIED:20240211T204000Z
UID:10001290-1776297600-1776383999@gratiaplena.online
SUMMARY:Dia de Santa Maria Bernardete Soubirous
DESCRIPTION:Celebramos hoje (16 Abr) a memória litúrgica de Santa Bernadete Soubirous\, essa religiosa\, meio francesa meio espanhola\, que\, com apenas quatorze anos de idade\, foi escolhida por Nossa Senhora para anunciar uma mensagem do Céu ao mundo. As aparições de Lourdes têm uma nota toda especial em relação às demais. Em Paris\, La Salette e Fátima\, a Virgem Maria falou aos videntes sobre um futuro sombrio\, marcado por guerras e perseguições à Igreja.
URL:https://gratiaplena.online/event/dia-de-santa-maria-bernardete-soubirous/2026-04-16/
CATEGORIES:Santo do Dia
ATTACH;FMTTYPE=image/webp:https://gratiaplena.online/wp-content/uploads/2024/02/Santa-Bernardete-Soubirous2.webp
ORGANIZER;CN="Administrador":MAILTO:epzanette@gmail.com
END:VEVENT
END:VCALENDAR