BEGIN:VCALENDAR
VERSION:2.0
PRODID:-//GratiaPlena - ECPv6.15.20//NONSGML v1.0//EN
CALSCALE:GREGORIAN
METHOD:PUBLISH
X-WR-CALNAME:GratiaPlena
X-ORIGINAL-URL:https://gratiaplena.online
X-WR-CALDESC:Eventos para GratiaPlena
REFRESH-INTERVAL;VALUE=DURATION:PT1H
X-Robots-Tag:noindex
X-PUBLISHED-TTL:PT1H
BEGIN:VTIMEZONE
TZID:America/Sao_Paulo
BEGIN:STANDARD
TZOFFSETFROM:-0300
TZOFFSETTO:-0300
TZNAME:-03
DTSTART:20240101T000000
END:STANDARD
END:VTIMEZONE
BEGIN:VEVENT
DTSTART;VALUE=DATE:20251221
DTEND;VALUE=DATE:20251222
DTSTAMP:20260423T213432
CREATED:20231229T120727Z
LAST-MODIFIED:20241222T135334Z
UID:10000826-1766275200-1766361599@gratiaplena.online
SUMMARY:Dia de São Miqueias
DESCRIPTION:Comemoramos hoje (21 Dez) a homenagem ao profeta Miqueias. Miqueias é natural de Morasti. Morasti era um pequeno povoado de camponeses perto da cidade de Gat (cf. Mq 1\,14) na fronteira com os Filisteus. Fazia parte do reino de Judá\, sendo uma aldeia na fronteira com o território dos Filisteus\, que eram inimigos do povo de Deus. Morasti era rodeada por fortalezas e quartéis do reino de Judá com seus soldados e ofi­ciais que deviam garantir a segurança do reino (cf. Mq 5\,10).  Leia mais….
URL:https://gratiaplena.online/event/dia-de-sao-miqueias/2025-12-21/
CATEGORIES:Santo do Dia
ATTACH;FMTTYPE=image/jpeg:https://gratiaplena.online/wp-content/uploads/2023/12/Miqueias-2.jpg
ORGANIZER;CN="Administrador":MAILTO:epzanette@gmail.com
END:VEVENT
BEGIN:VEVENT
DTSTART;VALUE=DATE:20251221
DTEND;VALUE=DATE:20251222
DTSTAMP:20260423T213432
CREATED:20240308T180231Z
LAST-MODIFIED:20240308T180231Z
UID:10001443-1766275200-1766361599@gratiaplena.online
SUMMARY:Dia de São Pedro Canísio
DESCRIPTION:Celebramos hoje (21 Dez) a memória de São Pedro Canísio. O apelido arranjado para este santo martelo dos hereges é totalmente impróprio. No caso\, são Pedro Kanijs (nascido em Nimega\, Holanda\, em 1521) pode ser definido como um ferro entre a bigorna e o martelo\, isto é\, alvo da irritação que a sua pregação suscitava nos ambientes protestantes\, e da malevolência e inveja de seus próprios companheiros de religião. Filho do prefeito de Nimega\, Pedro Kanijs\, em latim Canisius\, teve a possibilidade de frequentar ótimas escolas\, Direito canônico em Lovaina e Direito civil em Colônia.
URL:https://gratiaplena.online/event/dia-de-sao-pedro-canisio/2025-12-21/
CATEGORIES:Santo do Dia
ATTACH;FMTTYPE=image/jpeg:https://gratiaplena.online/wp-content/uploads/2024/03/Sao-Pedro-Canisio2.jpg
ORGANIZER;CN="Administrador":MAILTO:epzanette@gmail.com
END:VEVENT
BEGIN:VEVENT
DTSTART;VALUE=DATE:20251226
DTEND;VALUE=DATE:20251227
DTSTAMP:20260423T213432
CREATED:20231226T194958Z
LAST-MODIFIED:20231228T112227Z
UID:10000809-1766707200-1766793599@gratiaplena.online
SUMMARY:Dia de Santo Estevão
DESCRIPTION:Celebramos neste dia (26 Dez) a  homenagem à primeira pessoa que derramou seu sangue testemunhando a fé em Jesus Cristo\, Santo Estevão. Este jovem\, pertencente a primeira comunidade cristã\, morreu apedrejado pelas lideranças judaicas. Estevão foi eleito diácono da comunidade\, ou seja\, cabia a ele servir os pobres e as viúvas\, recolhendo e distribuindo alimentos. Ele era um verdadeiro ministro da caridade\, mas não se limitava ao trabalho social de que fora incumbido. Não perdia a chance de divulgar e pregar a Palavra de Cristo\, e o fazia com tanto fervor e zelo\, que chamou a atenção dos judeus.
URL:https://gratiaplena.online/event/dia-de-santo-estevao/2025-12-26/
CATEGORIES:Santo do Dia
ATTACH;FMTTYPE=image/jpeg:https://gratiaplena.online/wp-content/uploads/2023/12/Santo-Estevao-2.jpg
ORGANIZER;CN="Administrador":MAILTO:epzanette@gmail.com
END:VEVENT
BEGIN:VEVENT
DTSTART;VALUE=DATE:20251227
DTEND;VALUE=DATE:20251228
DTSTAMP:20260423T213432
CREATED:20231221T002324Z
LAST-MODIFIED:20240725T220441Z
UID:10000791-1766793600-1766879999@gratiaplena.online
SUMMARY:Dia de São João
DESCRIPTION:Comemoramos nesta data (27 Dez) a festa de São João evangelista\, o discípulo a quem Jesus amava. Sabemos pelos Evangelhos que São João era filho de Zebedeu e de Maria Salomé. Com seu irmão Tiago\, auxiliava o pai na pesca no lago de Genezaré. Pelos Evangelhos sabemos também que seu pai possuía alguns barcos e empregados que trabalhavam para ele. Maria Salomé é apontada como uma das santas mulheres que acompanhavam o Divino Mestre para O servir.
URL:https://gratiaplena.online/event/dia-de-sao-joao/2025-12-27/
CATEGORIES:Santo do Dia
ATTACH;FMTTYPE=image/jpeg:https://gratiaplena.online/wp-content/uploads/2023/12/Sao-Joao-1.jpg
ORGANIZER;CN="Administrador":MAILTO:epzanette@gmail.com
END:VEVENT
END:VCALENDAR