BEGIN:VCALENDAR
VERSION:2.0
PRODID:-//GratiaPlena - ECPv6.15.20//NONSGML v1.0//EN
CALSCALE:GREGORIAN
METHOD:PUBLISH
X-WR-CALNAME:GratiaPlena
X-ORIGINAL-URL:https://gratiaplena.online
X-WR-CALDESC:Eventos para GratiaPlena
REFRESH-INTERVAL;VALUE=DURATION:PT1H
X-Robots-Tag:noindex
X-PUBLISHED-TTL:PT1H
BEGIN:VTIMEZONE
TZID:America/Sao_Paulo
BEGIN:STANDARD
TZOFFSETFROM:-0300
TZOFFSETTO:-0300
TZNAME:-03
DTSTART:20240101T000000
END:STANDARD
END:VTIMEZONE
BEGIN:VEVENT
DTSTART;VALUE=DATE:20251123
DTEND;VALUE=DATE:20251124
DTSTAMP:20260423T213433
CREATED:20240313T173217Z
LAST-MODIFIED:20240828T142238Z
UID:10001527-1763856000-1763942399@gratiaplena.online
SUMMARY:Dia de São Clemente I
DESCRIPTION:Celebramos hoje (23 Nov) a festa de São Clemente I\, que também era conhecido como Clemente Romano\, foi o quarto papa da Igreja Católica. Clemente\, teve uma forte influência no catolicismo e foi autor de vários manuscritos que visavam acabar com as diferenças que existiam dentro da religião. Seus manuscritos foram amplamente divulgados na época\, e um dos maiores documentos que São Clemente escreveu foi a Epístola de Clemente aos Coríntios. Esse documento tinha como objetivo unir e trazer a “paz” para toda a igreja e a cidade de Corinto: onde ambas viviam em pleno estado de decadência devido o ciúme e a inveja que destoavam da mensagem de Deus.
URL:https://gratiaplena.online/event/dia-de-sao-clemente-i/2025-11-23/
CATEGORIES:Santo do Dia
ATTACH;FMTTYPE=image/jpeg:https://gratiaplena.online/wp-content/uploads/2024/03/Sao-Clemente-I-2.jpg
ORGANIZER;CN="Administrador":MAILTO:epzanette@gmail.com
END:VEVENT
END:VCALENDAR