BEGIN:VCALENDAR
VERSION:2.0
PRODID:-//GratiaPlena - ECPv6.15.20//NONSGML v1.0//EN
CALSCALE:GREGORIAN
METHOD:PUBLISH
X-ORIGINAL-URL:https://gratiaplena.online
X-WR-CALDESC:Eventos para GratiaPlena
REFRESH-INTERVAL;VALUE=DURATION:PT1H
X-Robots-Tag:noindex
X-PUBLISHED-TTL:PT1H
BEGIN:VTIMEZONE
TZID:America/Sao_Paulo
BEGIN:STANDARD
TZOFFSETFROM:-0300
TZOFFSETTO:-0300
TZNAME:-03
DTSTART:20240101T000000
END:STANDARD
END:VTIMEZONE
BEGIN:VEVENT
DTSTART;VALUE=DATE:20251019
DTEND;VALUE=DATE:20251020
DTSTAMP:20260424T031850
CREATED:20231129T000952Z
LAST-MODIFIED:20240828T135722Z
UID:10000652-1760832000-1760918399@gratiaplena.online
SUMMARY:Dia de São Pedro de Alcântara
DESCRIPTION:Celebramos hoje (19 Out) a festa de S. Pedro de Alcântara\, franciscano de origem espanhola que realizou um trabalho admirável de evangelização na corte de Portugal. É por causa desse parentesco espiritual com que Deus o vinculou à nação portuguesa que\, em 1826\, o então Pontífice\, Papa Leão XII\, nomeou-o Padroeiro do Brasil a instâncias de D. Pedro I.
URL:https://gratiaplena.online/event/dia-de-sao-pedro-de-alcantara/2025-10-19/
CATEGORIES:Santo do Dia
ATTACH;FMTTYPE=image/jpeg:https://gratiaplena.online/wp-content/uploads/2023/11/Sao-Pedro-de-Alcantara.jpg
ORGANIZER;CN="Administrador":MAILTO:epzanette@gmail.com
END:VEVENT
BEGIN:VEVENT
DTSTART;VALUE=DATE:20251019
DTEND;VALUE=DATE:20251020
DTSTAMP:20260424T031850
CREATED:20240720T172338Z
LAST-MODIFIED:20240828T140004Z
UID:10001841-1760832000-1760918399@gratiaplena.online
SUMMARY:Die São Joel
DESCRIPTION:Comemoração hojer (19 Out)  a festa de São Joel\, profeta\, filho de Fatuel. Joel foi um profeta do Antigo Testamento\, pouco se sabe sobre sua vida e história. O que se sabe é o nome de seu pai Petuel. Suas profecias foram ditas em Jerusalém. Sua vida deve ter sido vivida em Judá. Ele não foi sacerdote\, mas tinha um interesse muito grande pelo templo e por quem nele servia. Suas profecias eram dirigidas ao povo. Leia mais….
URL:https://gratiaplena.online/event/die-sao-joel/2025-10-19/
CATEGORIES:Santo do Dia
ATTACH;FMTTYPE=image/jpeg:https://gratiaplena.online/wp-content/uploads/2024/07/Joel.jpg
ORGANIZER;CN="Administrador":MAILTO:epzanette@gmail.com
END:VEVENT
END:VCALENDAR