BEGIN:VCALENDAR
VERSION:2.0
PRODID:-//GratiaPlena - ECPv6.15.20//NONSGML v1.0//EN
CALSCALE:GREGORIAN
METHOD:PUBLISH
X-WR-CALNAME:GratiaPlena
X-ORIGINAL-URL:https://gratiaplena.online
X-WR-CALDESC:Eventos para GratiaPlena
REFRESH-INTERVAL;VALUE=DURATION:PT1H
X-Robots-Tag:noindex
X-PUBLISHED-TTL:PT1H
BEGIN:VTIMEZONE
TZID:America/Sao_Paulo
BEGIN:STANDARD
TZOFFSETFROM:-0300
TZOFFSETTO:-0300
TZNAME:-03
DTSTART:20230101T000000
END:STANDARD
END:VTIMEZONE
BEGIN:VEVENT
DTSTART;VALUE=DATE:20240923
DTEND;VALUE=DATE:20240924
DTSTAMP:20260425T083509
CREATED:20240311T232144Z
LAST-MODIFIED:20240828T124903Z
UID:10001514-1727049600-1727135999@gratiaplena.online
SUMMARY:Dia de São Lino
DESCRIPTION:Celebramos hoje (23 Set) a festa de São Lino. Segundo papa apostólico da Igreja Cristã de Roma (67-76) nascido em Volterra\, na Etrúria\, que segundo a tradição foi indicado como sucessor pelo primeiro papa antes de sua crucificação\, São Pedro\, este conhecido como príncipe dos apóstolos de Cristo. Depois que os Santos Apóstolos Pedro e Paulo tinham fundado e organizado a Igreja em Roma\, passaram o exercício do escritório episcopal para ele. Seu nomne aparece mencionado na Bíblia Católica\, no texto da Epístola de São Paulo para Timótio (4:21). Como papa testemunhou a queda de alguns imperadores romanos e a destruição de Jerusalém. Combateu firmemente a feitiçaria e os falsos missionários que tentavam adulterar a doutrina cristã. \n 
URL:https://gratiaplena.online/event/dia-de-sao-lino/2024-09-23/
CATEGORIES:Santo do Dia
ATTACH;FMTTYPE=image/jpeg:https://gratiaplena.online/wp-content/uploads/2024/03/Sao-Lino2.jpeg
ORGANIZER;CN="Administrador":MAILTO:epzanette@gmail.com
END:VEVENT
BEGIN:VEVENT
DTSTART;VALUE=DATE:20240925
DTEND;VALUE=DATE:20240926
DTSTAMP:20260425T083509
CREATED:20240929T005445Z
LAST-MODIFIED:20250116T175744Z
UID:10002103-1727222400-1727308799@gratiaplena.online
SUMMARY:Dia de São Firmino\, bispo de Amiens
DESCRIPTION:Quando Fermín era pequeno\, seu pai\, o senador Firmo\, e sua mãe se converteram ao cristianismo através da pregação de São Saturnino e do padre Honesto. Fermín\, sua família e outras quarenta mil pessoas foram batizadas em apenas três dias.   Honesto continuou a ser professor de Fermín em sua nova religião\, e fez isso tão bem que aos dezessete anos Fermín já era um pregador notável. Alguns anos depois recebeu a consagração episcopal e partiu para França\, onde evangelizou as regiões da Aquitânia\, Auvergne\, Beaubais e Amiens\, onde a perseguição contra os cristãos foi particularmente dura. Conseguiu tantas conversões que foi preso e discretamente assassinado\, espalhando a versão de que havia morrido de parada cardíaca.   Em Pamplona celebra-se San Fermín no dia 7 de julho. Leia mais….
URL:https://gratiaplena.online/event/dia-de-sao-firmino-bispo-de-amiens/2024-09-25/
CATEGORIES:Santo do Dia
ATTACH;FMTTYPE=image/jpeg:https://gratiaplena.online/wp-content/uploads/2024/09/Ssao-Firmino2.jpg
ORGANIZER;CN="Administrador":MAILTO:epzanette@gmail.com
END:VEVENT
BEGIN:VEVENT
DTSTART;VALUE=DATE:20240926
DTEND;VALUE=DATE:20240927
DTSTAMP:20260425T083509
CREATED:20240927T185205Z
LAST-MODIFIED:20240927T193743Z
UID:10002091-1727308800-1727395199@gratiaplena.online
SUMMARY:Dia de São Cosme e Damião
DESCRIPTION:O cuidado dos enfermos foi a alavanca principal da vida dos dois irmãos\, que viveram no século III\, no tempo da perseguição contra os cristãos. Eles cuidavam dos doentes\, sem aceitar remuneração. Por isso\, receberam o apelido de “anárgiros”\, palavra grega que significa “sem prata”. A sua fama de homens corajosos e distintos benfeitores espalhou-se\, rapidamente\, por toda a região. A atividade destes Santos gêmeos não se limitou apenas aos cuidados do corpo enfermo. Na sua prática profissional\, visavam também o bem das almas\, com o exemplo e a palavra. De fato\, converteram muitos pagãos ao cristianismo. Leia mais….
URL:https://gratiaplena.online/event/dia-de-sao-cosme-e-damiao/2024-09-26/
CATEGORIES:Santo do Dia
ATTACH;FMTTYPE=image/jpeg:https://gratiaplena.online/wp-content/uploads/2024/09/Sao-Cosme-e-Damiao-2.jpg
ORGANIZER;CN="Administrador":MAILTO:epzanette@gmail.com
END:VEVENT
BEGIN:VEVENT
DTSTART;VALUE=DATE:20240926
DTEND;VALUE=DATE:20240927
DTSTAMP:20260425T083509
CREATED:20240927T201559Z
LAST-MODIFIED:20240927T201559Z
UID:10002097-1727308800-1727395199@gratiaplena.online
SUMMARY:Dia de São Nilo\, Abade
DESCRIPTION:Nicolau nasceu em Rossano\, Calábria\, em 910\, e entrou para a vida monacal\, recebendo o nome de Nilo. Como eremita\, entre orações e estudo\, tornou-se modelo para os monges. Não querendo honras\, transferiu-se para Cápua e depois para Gaeta. Aos 90 anos\, fundou a Abadia de Grottaferrata\, perto de Roma.  Veja mais….
URL:https://gratiaplena.online/event/dia-de-sao-nilo-abade/2024-09-26/
CATEGORIES:Santo do Dia
ATTACH;FMTTYPE=image/jpeg:https://gratiaplena.online/wp-content/uploads/2024/09/Sao-Nilo-Abade2.jpg
ORGANIZER;CN="Administrador":MAILTO:epzanette@gmail.com
END:VEVENT
END:VCALENDAR