BEGIN:VCALENDAR
VERSION:2.0
PRODID:-//GratiaPlena - ECPv6.15.20//NONSGML v1.0//EN
CALSCALE:GREGORIAN
METHOD:PUBLISH
X-WR-CALNAME:GratiaPlena
X-ORIGINAL-URL:https://gratiaplena.online
X-WR-CALDESC:Eventos para GratiaPlena
REFRESH-INTERVAL;VALUE=DURATION:PT1H
X-Robots-Tag:noindex
X-PUBLISHED-TTL:PT1H
BEGIN:VTIMEZONE
TZID:America/Sao_Paulo
BEGIN:STANDARD
TZOFFSETFROM:-0300
TZOFFSETTO:-0300
TZNAME:-03
DTSTART:20230101T000000
END:STANDARD
END:VTIMEZONE
BEGIN:VEVENT
DTSTART;VALUE=DATE:20240916
DTEND;VALUE=DATE:20240917
DTSTAMP:20260425T083509
CREATED:20240216T172552Z
LAST-MODIFIED:20240828T123206Z
UID:10001357-1726444800-1726531199@gratiaplena.online
SUMMARY:Dia de Beato Vítor III
DESCRIPTION:Celebramos hoje (16 Set) a festa de Beato Vítor III. Nascido em 1026 ou 1027 em um ramo não reinante dos duques lombardos de Benevento; morreu em Roma\, em 16 de setembro de 1087. Sendo filho único\, seu desejo de abraçar o estado monástico foi fortemente combatido por seus pais. Após a morte de seu pai na batalha contra os normandos\, em 1047\, ele fugiu do casamento que lhe havia sido arranjado e\, embora trazido de volta à força\, eventualmente\, após uma segunda fuga para Cava\, obteve permissão para entrar no mosteiro de Santa Sofia em Benevento\, onde ele recebeu o nome de Desidério.
URL:https://gratiaplena.online/event/dia-de-beato-vitor-iii/2024-09-16/
CATEGORIES:Santo do Dia
ATTACH;FMTTYPE=image/jpeg:https://gratiaplena.online/wp-content/uploads/2024/02/Beato-Victor-III-2.jpeg
END:VEVENT
BEGIN:VEVENT
DTSTART;VALUE=DATE:20240916
DTEND;VALUE=DATE:20240917
DTSTAMP:20260425T083509
CREATED:20240216T180817Z
LAST-MODIFIED:20240828T123458Z
UID:10001363-1726444800-1726531199@gratiaplena.online
SUMMARY:Dia de Santa Eufêmia
DESCRIPTION:Comemoramos hoje (16 Set) a festa de Santa Eufêmia\, Eufémia nasceu em Calcedónia\, atual Turquia\, por volta de 288 e morreu por volta de 307\, também em Calcedónia.Filha de um senador e criada numa família nobre com ideais cristãos\, Eufémia tornou-se um exemplo de virtude\, modéstia e de beleza para a população.
URL:https://gratiaplena.online/event/dia-de-santa-eufemia/2024-09-16/
CATEGORIES:Santo do Dia
ATTACH;FMTTYPE=image/png:https://gratiaplena.online/wp-content/uploads/2024/02/Santa-Eufemia2.png
ORGANIZER;CN="Administrador":MAILTO:epzanette@gmail.com
END:VEVENT
BEGIN:VEVENT
DTSTART;VALUE=DATE:20240916
DTEND;VALUE=DATE:20240917
DTSTAMP:20260425T083509
CREATED:20240216T184959Z
LAST-MODIFIED:20240216T185056Z
UID:10001369-1726444800-1726531199@gratiaplena.online
SUMMARY:Dia de São Cipriano
DESCRIPTION:Celebramos hoje (16 Set) a memória de São Cipriano. Cipriano não deixou apenas sua vida de pagão\, mas também distribuiu quase toda a sua fortuna entre os pobres\, renunciando à ciência profana da qual se alimentara até então. Com muito pouco tempo\, foi ordenado sacerdote e\, por eleição direta do clero e do povo\, imediatamente substituiu o bispo de Cartago logo após sua morte. Cipriano o fez contrariando seu próprio desejo\, mas em obediência à Igreja.
URL:https://gratiaplena.online/event/dia-de-sao-cipriano/2024-09-16/
CATEGORIES:Santo do Dia
ATTACH;FMTTYPE=image/jpeg:https://gratiaplena.online/wp-content/uploads/2024/02/Sao-Cipriano2.jpg
ORGANIZER;CN="Administrador":MAILTO:epzanette@gmail.com
END:VEVENT
BEGIN:VEVENT
DTSTART;VALUE=DATE:20240916
DTEND;VALUE=DATE:20240917
DTSTAMP:20260425T083509
CREATED:20240216T193103Z
LAST-MODIFIED:20240216T193421Z
UID:10001376-1726444800-1726531199@gratiaplena.online
SUMMARY:Dia de São Cornélio
DESCRIPTION:Comemoramos hojee (16 Set) a memória de São Cornélio\, romano de origem\, São Cornélio morreu no exílio em Civitavecchia\, em junho de 253\, após dois anos de um pontificado perturbado pelo cisma de Novaciano. Foi aí que\, segundo o Martirológio Romano\, foi martirizado. \n 
URL:https://gratiaplena.online/event/dia-de-sao-cornelio/2024-09-16/
CATEGORIES:Santo do Dia
ATTACH;FMTTYPE=image/jpeg:https://gratiaplena.online/wp-content/uploads/2024/02/SSCornelio-2.jpeg
ORGANIZER;CN="Administrador":MAILTO:epzanette@gmail.com
END:VEVENT
BEGIN:VEVENT
DTSTART;VALUE=DATE:20240917
DTEND;VALUE=DATE:20240918
DTSTAMP:20260425T083509
CREATED:20240122T205841Z
LAST-MODIFIED:20240122T211301Z
UID:10001129-1726531200-1726617599@gratiaplena.online
SUMMARY:Dia de Santa Hildegarda de Bingen
DESCRIPTION:Celebramos hoje (17 Set) a memória litúrgica de Santa Hildegarda de Bingen\, ela passou quase toda a vida no vale do Reno\, perto de onde o rio Meno nele deságua. O vale central da Renânia é uma das regiões mais férteis da Alemanha; possui um clima suave e temperado\, onde pessoas viveram em comunidades por milênios. Desde suas origens\, o Reno forma uma via rápida natural nas terras alpinas até sua foz no Canal da Mancha e no Mar do Norte. O paradoxo da vida de Hildegarda é que ela foi uma alma solitária e contemplativa que viveu numa importante via\, por assim dizer\, onde ela se tornou o centro das atenções.
URL:https://gratiaplena.online/event/dia-de-santa-hildegarda-de-bingen/2024-09-17/
CATEGORIES:Santo do Dia
ATTACH;FMTTYPE=image/jpeg:https://gratiaplena.online/wp-content/uploads/2024/01/Santa-Hildegarda-de-Bingen2.jpg
ORGANIZER;CN="Administrador":MAILTO:epzanette@gmail.com
END:VEVENT
BEGIN:VEVENT
DTSTART;VALUE=DATE:20240917
DTEND;VALUE=DATE:20240918
DTSTAMP:20260425T083509
CREATED:20240308T210256Z
LAST-MODIFIED:20240828T123948Z
UID:10001454-1726531200-1726617599@gratiaplena.online
SUMMARY:Dia de São Roberto Belarmino
DESCRIPTION:Coemoramos hoje (17 Set) a festa de São Roberto Belarmino. Ele veio ao mundo no dia 04 de outubro de 1542\, em Montepulciano\, Itália. Era filho de pais humildes e católicos de muita fé. O menino Roberto nasceu franzino e doente. Mesmo doente\, Roberto soube ter uma vida de profundo amor a Igreja. Sua inteligência prodigiosa levou-o ao magistério. Foi professor em inúmeras instituições de ensino da Itália. Em 1571\, tendo concluído todos os estudos\, recebeu a ordenação sacerdotal e entrou para a Companhia de Jesus. Unindo a sabedoria das ciências terrenas\, o conhecimento espiritual e a fé\, escreveu os três volumes de uma das obras teológicas mais consultadas de todos os tempos: “As Controvérsias Cristãs sobre a Fé”\, um tratado sobre todas as heresias.
URL:https://gratiaplena.online/event/dia-de-sao-roberto-belarmino/2024-09-17/
CATEGORIES:Santo do Dia
ATTACH;FMTTYPE=image/jpeg:https://gratiaplena.online/wp-content/uploads/2024/03/Sao-Roberto-Belarmino2.jpg
ORGANIZER;CN="Administrador":MAILTO:epzanette@gmail.com
END:VEVENT
BEGIN:VEVENT
DTSTART;VALUE=DATE:20240921
DTEND;VALUE=DATE:20240922
DTSTAMP:20260425T083509
CREATED:20231216T231547Z
LAST-MODIFIED:20240828T124126Z
UID:10000769-1726876800-1726963199@gratiaplena.online
SUMMARY:Dia de São Mateus
DESCRIPTION:Celebramos hoje (21 Set) a festa de São Mateus Apóstolo de forma especial. A vida de São Mateus apóstolo e evangelista\, cujo nome antes da conversão era Levi. Morava e trabalhava como coletor de impostos em Cafarnaum\, na Palestina. Quando ouviu a Palavra de Jesus: “Segue-me” deixou tudo imediatamente\, pondo de lado a vida ligada ao dinheiro e ao poder para um serviço de perfeita pobreza: a proclamação da mensagem cristã! Ele trocou de nome para Mateus\, o “dom de Deus”.
URL:https://gratiaplena.online/event/dia-de-sao-mateus/2024-09-21/
CATEGORIES:Santo do Dia
ATTACH;FMTTYPE=image/jpeg:https://gratiaplena.online/wp-content/uploads/2023/12/Sao-Mateus.jpg
ORGANIZER;CN="Administrador":MAILTO:epzanette@gmail.com
END:VEVENT
BEGIN:VEVENT
DTSTART;VALUE=DATE:20240921
DTEND;VALUE=DATE:20240922
DTSTAMP:20260425T083509
CREATED:20240720T142701Z
LAST-MODIFIED:20240828T124617Z
UID:10001835-1726876800-1726963199@gratiaplena.online
SUMMARY:Dia de São Jonas
DESCRIPTION:Hoje (21 Set) e a sua festa. São Jonas\, profeta\, filho de Amitai. A partir da vida do profeta Jonas queremos propor uma reflexão sobre a realização da vontade de Deus e a sua aceitação. Jonas fugiu da “face do Senhor” O autor\, ao descrever a fuga de Jonas do chamado profético\, mostra até onde podemos ir quando não queremos fazer algo. Jonas ouve a Deus pedindo para que ele vá para Nínive\, mas toma a direção de Társis\, fugindo da face do Senhor. A partir daí\, Jonas faz um caminho de descida. . Leia mais….
URL:https://gratiaplena.online/event/dia-de-sao-jonas/2024-09-21/
CATEGORIES:Santo do Dia
ATTACH;FMTTYPE=image/jpeg:https://gratiaplena.online/wp-content/uploads/2024/07/Jonas.jpg
ORGANIZER;CN="Administrador":MAILTO:epzanette@gmail.com
END:VEVENT
END:VCALENDAR