BEGIN:VCALENDAR
VERSION:2.0
PRODID:-//GratiaPlena - ECPv6.15.20//NONSGML v1.0//EN
CALSCALE:GREGORIAN
METHOD:PUBLISH
X-WR-CALNAME:GratiaPlena
X-ORIGINAL-URL:https://gratiaplena.online
X-WR-CALDESC:Eventos para GratiaPlena
REFRESH-INTERVAL;VALUE=DURATION:PT1H
X-Robots-Tag:noindex
X-PUBLISHED-TTL:PT1H
BEGIN:VTIMEZONE
TZID:America/Sao_Paulo
BEGIN:STANDARD
TZOFFSETFROM:-0300
TZOFFSETTO:-0300
TZNAME:-03
DTSTART:20230101T000000
END:STANDARD
END:VTIMEZONE
BEGIN:VEVENT
DTSTART;VALUE=DATE:20240416
DTEND;VALUE=DATE:20240417
DTSTAMP:20260425T134025
CREATED:20240211T204000Z
LAST-MODIFIED:20240211T204000Z
UID:10001288-1713225600-1713311999@gratiaplena.online
SUMMARY:Dia de Santa Maria Bernardete Soubirous
DESCRIPTION:Celebramos hoje (16 Abr) a memória litúrgica de Santa Bernadete Soubirous\, essa religiosa\, meio francesa meio espanhola\, que\, com apenas quatorze anos de idade\, foi escolhida por Nossa Senhora para anunciar uma mensagem do Céu ao mundo. As aparições de Lourdes têm uma nota toda especial em relação às demais. Em Paris\, La Salette e Fátima\, a Virgem Maria falou aos videntes sobre um futuro sombrio\, marcado por guerras e perseguições à Igreja.
URL:https://gratiaplena.online/event/dia-de-santa-maria-bernardete-soubirous/2024-04-16/
CATEGORIES:Santo do Dia
ATTACH;FMTTYPE=image/webp:https://gratiaplena.online/wp-content/uploads/2024/02/Santa-Bernardete-Soubirous2.webp
ORGANIZER;CN="Administrador":MAILTO:epzanette@gmail.com
END:VEVENT
BEGIN:VEVENT
DTSTART;VALUE=DATE:20240420
DTEND;VALUE=DATE:20240421
DTSTAMP:20260425T134025
CREATED:20240711T195748Z
LAST-MODIFIED:20240728T201528Z
UID:10001792-1713571200-1713657599@gratiaplena.online
SUMMARY:Dia de Santo Aniceto
DESCRIPTION:Comemoramos hoje (20 Abr) a memória de Santo Aniceto. Aniceto nasceu na Síria e foi sucessor do papa são Pio I\, em 155\, no tempo em que Antônio era o imperador romano. Entretanto\, além da perseguição sistemática por parte do Império\, o papa Aniceto teve de enfrentar\, também\, cismas internos que abalaram o cristianismo. A começar por Valentim\, passando por Marcelina\, que fundou a seita dos carpocratitas\, considerada muito imoral pela Igreja\, e chegando a Marcion\, um propagador\, com dotes de publicitário\, que arregimentou muita gente\, e muitos outros. Sem contar a questão da celebração da Páscoa. Leia mais….
URL:https://gratiaplena.online/event/dia-de-santo-aniceto/2024-04-20/
CATEGORIES:Santo do Dia
ATTACH;FMTTYPE=image/jpeg:https://gratiaplena.online/wp-content/uploads/2024/07/Santo-Aniceto-2.jpg
ORGANIZER;CN="Administrador":MAILTO:epzanette@gmail.com
END:VEVENT
END:VCALENDAR