BEGIN:VCALENDAR
VERSION:2.0
PRODID:-//GratiaPlena - ECPv6.15.20//NONSGML v1.0//EN
CALSCALE:GREGORIAN
METHOD:PUBLISH
X-WR-CALNAME:GratiaPlena
X-ORIGINAL-URL:https://gratiaplena.online
X-WR-CALDESC:Eventos para GratiaPlena
REFRESH-INTERVAL;VALUE=DURATION:PT1H
X-Robots-Tag:noindex
X-PUBLISHED-TTL:PT1H
BEGIN:VTIMEZONE
TZID:America/Sao_Paulo
BEGIN:STANDARD
TZOFFSETFROM:-0300
TZOFFSETTO:-0300
TZNAME:-03
DTSTART:20230101T000000
END:STANDARD
END:VTIMEZONE
BEGIN:VEVENT
DTSTART;VALUE=DATE:20240331
DTEND;VALUE=DATE:20240401
DTSTAMP:20260425T134031
CREATED:20240323T142717Z
LAST-MODIFIED:20240401T112429Z
UID:10001694-1711843200-1711929599@gratiaplena.online
SUMMARY:Dia de Santa Balbina
DESCRIPTION:Celebramos hoje (31 Mar ) a memória litúrgica de Santa Balbina. Em 132\, mais provavelmente no dia 31 de março\, foi “presa com o pai por ordem do imperador Adriano II (117-135) e\, com barbaridade\, cortaram- lhe a cabeça. Devido a sua bravura diante da morte e por ter morrido em nome da fé\, foi elevada\, pelos hagiógrafos\, à categoria de mártir e santa\, sendo-lhe dedicada uma Basílica Menor em Roma\, a Basílica de Santa Balbina”.
URL:https://gratiaplena.online/event/dia-de-santa-balbina/2024-03-31/
CATEGORIES:Santo do Dia
ATTACH;FMTTYPE=image/png:https://gratiaplena.online/wp-content/uploads/2024/03/Santa-Balbina2.png
ORGANIZER;CN="Administrador":MAILTO:epzanette@gmail.com
END:VEVENT
BEGIN:VEVENT
DTSTART;VALUE=DATE:20240331
DTEND;VALUE=DATE:20240401
DTSTAMP:20260425T134031
CREATED:20240323T165241Z
LAST-MODIFIED:20240401T112727Z
UID:10001699-1711843200-1711929599@gratiaplena.online
SUMMARY:Dia de São Benjamim
DESCRIPTION:Comemoramos hoje (31 Mar) a memória litúrga de São Benjamim. Nasceu no ano de 394 na Pérsia e\, ao ser evangelizado\, começou a participar da Igreja ao ponto de descobrir sua vocação ao diaconato. Serviu a Palavra e aos irmãos na caridade\, chamando a atenção de muitos para Cristo. Chegou a ser preso por um ano\, sofrendo\, e se renunciasse ao nome de Jesus\, seria solto. Porém\, mesmo na dor\, na solidão e na injustiça\, ele uniu-se ainda mais ao Cristo crucificado. \n 
URL:https://gratiaplena.online/event/dia-de-sao-benjamim/2024-03-31/
CATEGORIES:Santo do Dia
ATTACH;FMTTYPE=image/png:https://gratiaplena.online/wp-content/uploads/2024/03/Sao-Benjamim2.png
ORGANIZER;CN="Administrador":MAILTO:epzanette@gmail.com
END:VEVENT
BEGIN:VEVENT
DTSTART;VALUE=DATE:20240403
DTEND;VALUE=DATE:20240404
DTSTAMP:20260425T134031
CREATED:20240314T191021Z
LAST-MODIFIED:20240314T191021Z
UID:10001544-1712102400-1712188799@gratiaplena.online
SUMMARY:Dia de Sâo Sisto I
DESCRIPTION:Celebramos hoje (3 Abr) a memória litúrgica de Sâo Sisto I. Sexto sucessor de Pedro\, São Sisto I introduziu na missa o tríplice canto do Sanctus. Hoje é dia de São Sisto I\, Papa e mártir. Sisto foi o sétimo Pontífice da Igreja\, ocupando a Cátedra de Pedro entre 115 e 125\, um papado longevo\, considerando-se o contexto de perseguição anticristã em tal fase da Igreja Primitiva. Procedente da Calábria\, Sisto sistematizou e normatizou vários procedimentos sagrados nas cerimônias religiosas\, como a permissão de se tocar os objetos sagrados ser exclusiva dos religiosos ou seus ministros autorizados\, e o tríplice canto do Sanctus nas missas. Não há registros sobre sua morte\, mas a Igreja honra-o como mártir.
URL:https://gratiaplena.online/event/dia-de-sao-sisto-i/2024-04-03/
CATEGORIES:Santo do Dia
ATTACH;FMTTYPE=image/jpeg:https://gratiaplena.online/wp-content/uploads/2024/03/Sao-Sisto-I-2.jpeg
ORGANIZER;CN="Administrador":MAILTO:epzanette@gmail.com
END:VEVENT
BEGIN:VEVENT
DTSTART;VALUE=DATE:20240404
DTEND;VALUE=DATE:20240405
DTSTAMP:20260425T134031
CREATED:20240119T180113Z
LAST-MODIFIED:20240119T180113Z
UID:10001093-1712188800-1712275199@gratiaplena.online
SUMMARY:Dia de Santo Isidoro
DESCRIPTION:Celebramos hoje (4 Abr) a memória litúrgica de Santo Isidoro de Sevilha\, nasceu em Cartagena\, Espanha\, por volta de 560; morreu em 4 de abril de 636. Isidoro era filho de Severiano e Teodora. Seu irmão mais velho\, Leander\, foi seu antecessor imediato na Sé Metropolitana de Sevilha; enquanto um irmão mais novo\, São Fulgêncio\, presidiu o Bispado de Astigi. Sua irmã Florentina era freira e teria governado quarenta conventos e mil religiosos. Isidoro recebeu o ensino fundamental na escola da Catedral de Sevilha. Nesta instituição\, a primeira do género em Espanha\, o trivium e o quadrivium eram ensinados por um corpo de homens eruditos\, entre os quais estava o arcebispo Leandro. 
URL:https://gratiaplena.online/event/dia-de-santo-isidoro/2024-04-04/
CATEGORIES:Santo do Dia
ATTACH;FMTTYPE=image/jpeg:https://gratiaplena.online/wp-content/uploads/2024/01/Santo-Isidoro-de-Sevilha2.jpg
ORGANIZER;CN="Administrador":MAILTO:epzanette@gmail.com
END:VEVENT
BEGIN:VEVENT
DTSTART;VALUE=DATE:20240405
DTEND;VALUE=DATE:20240406
DTSTAMP:20260425T134031
CREATED:20240101T134208Z
LAST-MODIFIED:20250116T131641Z
UID:10001346-1712275200-1712361599@gratiaplena.online
SUMMARY:Dia de Santa Juliana de Liége
DESCRIPTION:Celebramos hoje (5 Abr) a festa de Santa Juliana de Liège. Santa Juliana de Mont Cornillon\, também conhecida como Juliana de Liège\, nasceu perto de Liège\, Bélgica. Ficou órfã aos cinco anos e foi colocada no convento de Mt. Cornillon\, perto de Liège. Ela fez rápido progresso na virtude e cresceu no amor pela Paixão de Cristo\, pela Bem-Aventurada Virgem Maria e pelo Santíssimo Sacramento. Aos treze anos\, tornou-se freira e dedicou-se a cuidar dos doentes no hospital do convento. Ela eventualmente se tornou a superiora de sua comunidade. Ensinada em repetidas visões que Nosso Senhor queria que uma festa litúrgica em honra à Sagrada Eucaristia fosse estabelecida\, ela trabalhou diligentemente para que a festa de Corpus Christi fosse instituída para a Igreja Universal\, uma tarefa pela qual ela sofreu muita oposição. Ela foi forçada a fugir de seu convento depois que seu superior geral excitou a população contra ela e suas visões. Mais tarde\, ela foi vindicada pelo bispo e retornou ao seu lugar de direito\, apenas para ser forçada a fugir uma última vez\, terminando sua vida em reclusão. Leia mais….
URL:https://gratiaplena.online/event/3931-2/2024-04-05/
CATEGORIES:Santo do Dia
ATTACH;FMTTYPE=image/png:https://gratiaplena.online/wp-content/uploads/2024/01/Santa-Juliana-de-Liege.png
ORGANIZER;CN="Administrador":MAILTO:epzanette@gmail.com
END:VEVENT
END:VCALENDAR