BEGIN:VCALENDAR
VERSION:2.0
PRODID:-//GratiaPlena - ECPv6.15.20//NONSGML v1.0//EN
CALSCALE:GREGORIAN
METHOD:PUBLISH
X-WR-CALNAME:GratiaPlena
X-ORIGINAL-URL:https://gratiaplena.online
X-WR-CALDESC:Eventos para GratiaPlena
REFRESH-INTERVAL;VALUE=DURATION:PT1H
X-Robots-Tag:noindex
X-PUBLISHED-TTL:PT1H
BEGIN:VTIMEZONE
TZID:America/Sao_Paulo
BEGIN:STANDARD
TZOFFSETFROM:-0300
TZOFFSETTO:-0300
TZNAME:-03
DTSTART:20250101T000000
END:STANDARD
END:VTIMEZONE
BEGIN:VEVENT
DTSTART;VALUE=DATE:20261202
DTEND;VALUE=DATE:20261203
DTSTAMP:20260423T165512
CREATED:20240721T001003Z
LAST-MODIFIED:20240828T143307Z
UID:10001857-1796169600-1796255999@gratiaplena.online
SUMMARY:Dia de Santo Habacuc
DESCRIPTION:Comemoração hoje (2 Dez) a festa de Santo Habacuc\, profeta. Oitavo dos doze profetas menores\, Habacuc viveu em Judá\, entre o final do século VII e início do século VI a.C.\, época de decadência da Assíria e ascensão da Babilônia. Presenciou o fim do Reino de Judá\, quando os babilônios invadiram e destruíram Jerusalém e o templo\, e o povo de Deus foi deportado para a Babilônia. O Livro de Habacuc\, escrito em 612\, possui três capítulos. No primeiro\, há as súplicas de Habacuc dirigidas a Deus\, para que livre seu povo da opressão.  Leia mais….
URL:https://gratiaplena.online/event/dia-de-santo-habacuc/2026-12-02/
CATEGORIES:Santo do Dia
ATTACH;FMTTYPE=image/jpeg:https://gratiaplena.online/wp-content/uploads/2024/07/Habacuc.jpg
ORGANIZER;CN="Administrador":MAILTO:epzanette@gmail.com
END:VEVENT
BEGIN:VEVENT
DTSTART;VALUE=DATE:20271202
DTEND;VALUE=DATE:20271203
DTSTAMP:20260423T165512
CREATED:20240721T001003Z
LAST-MODIFIED:20240828T143307Z
UID:10001858-1827705600-1827791999@gratiaplena.online
SUMMARY:Dia de Santo Habacuc
DESCRIPTION:Comemoração hoje (2 Dez) a festa de Santo Habacuc\, profeta. Oitavo dos doze profetas menores\, Habacuc viveu em Judá\, entre o final do século VII e início do século VI a.C.\, época de decadência da Assíria e ascensão da Babilônia. Presenciou o fim do Reino de Judá\, quando os babilônios invadiram e destruíram Jerusalém e o templo\, e o povo de Deus foi deportado para a Babilônia. O Livro de Habacuc\, escrito em 612\, possui três capítulos. No primeiro\, há as súplicas de Habacuc dirigidas a Deus\, para que livre seu povo da opressão.  Leia mais….
URL:https://gratiaplena.online/event/dia-de-santo-habacuc/2027-12-02/
CATEGORIES:Santo do Dia
ATTACH;FMTTYPE=image/jpeg:https://gratiaplena.online/wp-content/uploads/2024/07/Habacuc.jpg
ORGANIZER;CN="Administrador":MAILTO:epzanette@gmail.com
END:VEVENT
BEGIN:VEVENT
DTSTART;VALUE=DATE:20281202
DTEND;VALUE=DATE:20281203
DTSTAMP:20260423T165512
CREATED:20240721T001003Z
LAST-MODIFIED:20240828T143307Z
UID:10001859-1859328000-1859414399@gratiaplena.online
SUMMARY:Dia de Santo Habacuc
DESCRIPTION:Comemoração hoje (2 Dez) a festa de Santo Habacuc\, profeta. Oitavo dos doze profetas menores\, Habacuc viveu em Judá\, entre o final do século VII e início do século VI a.C.\, época de decadência da Assíria e ascensão da Babilônia. Presenciou o fim do Reino de Judá\, quando os babilônios invadiram e destruíram Jerusalém e o templo\, e o povo de Deus foi deportado para a Babilônia. O Livro de Habacuc\, escrito em 612\, possui três capítulos. No primeiro\, há as súplicas de Habacuc dirigidas a Deus\, para que livre seu povo da opressão.  Leia mais….
URL:https://gratiaplena.online/event/dia-de-santo-habacuc/2028-12-02/
CATEGORIES:Santo do Dia
ATTACH;FMTTYPE=image/jpeg:https://gratiaplena.online/wp-content/uploads/2024/07/Habacuc.jpg
ORGANIZER;CN="Administrador":MAILTO:epzanette@gmail.com
END:VEVENT
END:VCALENDAR