BEGIN:VCALENDAR
VERSION:2.0
PRODID:-//GratiaPlena - ECPv6.15.20//NONSGML v1.0//EN
CALSCALE:GREGORIAN
METHOD:PUBLISH
X-WR-CALNAME:GratiaPlena
X-ORIGINAL-URL:https://gratiaplena.online
X-WR-CALDESC:Eventos para GratiaPlena
REFRESH-INTERVAL;VALUE=DURATION:PT1H
X-Robots-Tag:noindex
X-PUBLISHED-TTL:PT1H
BEGIN:VTIMEZONE
TZID:America/Sao_Paulo
BEGIN:STANDARD
TZOFFSETFROM:-0300
TZOFFSETTO:-0300
TZNAME:-03
DTSTART:20250101T000000
END:STANDARD
END:VTIMEZONE
BEGIN:VEVENT
DTSTART;VALUE=DATE:20261019
DTEND;VALUE=DATE:20261020
DTSTAMP:20260423T165653
CREATED:20240720T172338Z
LAST-MODIFIED:20240828T140004Z
UID:10001842-1792368000-1792454399@gratiaplena.online
SUMMARY:Die São Joel
DESCRIPTION:Comemoração hojer (19 Out)  a festa de São Joel\, profeta\, filho de Fatuel. Joel foi um profeta do Antigo Testamento\, pouco se sabe sobre sua vida e história. O que se sabe é o nome de seu pai Petuel. Suas profecias foram ditas em Jerusalém. Sua vida deve ter sido vivida em Judá. Ele não foi sacerdote\, mas tinha um interesse muito grande pelo templo e por quem nele servia. Suas profecias eram dirigidas ao povo. Leia mais….
URL:https://gratiaplena.online/event/die-sao-joel/2026-10-19/
CATEGORIES:Santo do Dia
ATTACH;FMTTYPE=image/jpeg:https://gratiaplena.online/wp-content/uploads/2024/07/Joel.jpg
ORGANIZER;CN="Administrador":MAILTO:epzanette@gmail.com
END:VEVENT
BEGIN:VEVENT
DTSTART;VALUE=DATE:20271019
DTEND;VALUE=DATE:20271020
DTSTAMP:20260423T165653
CREATED:20240720T172338Z
LAST-MODIFIED:20240828T140004Z
UID:10001843-1823904000-1823990399@gratiaplena.online
SUMMARY:Die São Joel
DESCRIPTION:Comemoração hojer (19 Out)  a festa de São Joel\, profeta\, filho de Fatuel. Joel foi um profeta do Antigo Testamento\, pouco se sabe sobre sua vida e história. O que se sabe é o nome de seu pai Petuel. Suas profecias foram ditas em Jerusalém. Sua vida deve ter sido vivida em Judá. Ele não foi sacerdote\, mas tinha um interesse muito grande pelo templo e por quem nele servia. Suas profecias eram dirigidas ao povo. Leia mais….
URL:https://gratiaplena.online/event/die-sao-joel/2027-10-19/
CATEGORIES:Santo do Dia
ATTACH;FMTTYPE=image/jpeg:https://gratiaplena.online/wp-content/uploads/2024/07/Joel.jpg
ORGANIZER;CN="Administrador":MAILTO:epzanette@gmail.com
END:VEVENT
BEGIN:VEVENT
DTSTART;VALUE=DATE:20281019
DTEND;VALUE=DATE:20281020
DTSTAMP:20260423T165653
CREATED:20240720T172338Z
LAST-MODIFIED:20240828T140004Z
UID:10001844-1855526400-1855612799@gratiaplena.online
SUMMARY:Die São Joel
DESCRIPTION:Comemoração hojer (19 Out)  a festa de São Joel\, profeta\, filho de Fatuel. Joel foi um profeta do Antigo Testamento\, pouco se sabe sobre sua vida e história. O que se sabe é o nome de seu pai Petuel. Suas profecias foram ditas em Jerusalém. Sua vida deve ter sido vivida em Judá. Ele não foi sacerdote\, mas tinha um interesse muito grande pelo templo e por quem nele servia. Suas profecias eram dirigidas ao povo. Leia mais….
URL:https://gratiaplena.online/event/die-sao-joel/2028-10-19/
CATEGORIES:Santo do Dia
ATTACH;FMTTYPE=image/jpeg:https://gratiaplena.online/wp-content/uploads/2024/07/Joel.jpg
ORGANIZER;CN="Administrador":MAILTO:epzanette@gmail.com
END:VEVENT
END:VCALENDAR