BEGIN:VCALENDAR
VERSION:2.0
PRODID:-//GratiaPlena - ECPv6.15.20//NONSGML v1.0//EN
CALSCALE:GREGORIAN
METHOD:PUBLISH
X-WR-CALNAME:GratiaPlena
X-ORIGINAL-URL:https://gratiaplena.online
X-WR-CALDESC:Eventos para GratiaPlena
REFRESH-INTERVAL;VALUE=DURATION:PT1H
X-Robots-Tag:noindex
X-PUBLISHED-TTL:PT1H
BEGIN:VTIMEZONE
TZID:America/Sao_Paulo
BEGIN:STANDARD
TZOFFSETFROM:-0300
TZOFFSETTO:-0300
TZNAME:-03
DTSTART:20260101T000000
END:STANDARD
END:VTIMEZONE
BEGIN:VEVENT
DTSTART;VALUE=DATE:20270322
DTEND;VALUE=DATE:20270323
DTSTAMP:20260423T153957
CREATED:20240319T143220Z
LAST-MODIFIED:20240322T130116Z
UID:10001616-1805673600-1805759999@gratiaplena.online
SUMMARY:Dia de São Paulo de Narbonne
DESCRIPTION:Celebramos hoje (22 Mar) a festa litúrgica de São Paulo de Narbonne. Santo do dia: “São Paulo\, Bispo de Narbonne e Mártir”. Um pouco da história: Em meados do século III\, as primeiras comunidades cristãs dispersaram-se por causa das perseguições de Décio. Paulo foi um dos sete Bispos enviados para pregar na Gália. Salvando-se do martírio sofrido por seus companheiros\, fundou a Igreja em Narbonne\, da qual foi o primeiro Bispo por volta de 250.
URL:https://gratiaplena.online/event/dia-de-sao-paulo-de-narbonne/2027-03-22/
CATEGORIES:Santo do Dia
ATTACH;FMTTYPE=image/png:https://gratiaplena.online/wp-content/uploads/2024/03/Sao-Paulo-de-Narbonne.png
ORGANIZER;CN="Administrador":MAILTO:epzanette@gmail.com
END:VEVENT
BEGIN:VEVENT
DTSTART;VALUE=DATE:20280322
DTEND;VALUE=DATE:20280323
DTSTAMP:20260423T153957
CREATED:20240319T143220Z
LAST-MODIFIED:20240322T130116Z
UID:10001617-1837296000-1837382399@gratiaplena.online
SUMMARY:Dia de São Paulo de Narbonne
DESCRIPTION:Celebramos hoje (22 Mar) a festa litúrgica de São Paulo de Narbonne. Santo do dia: “São Paulo\, Bispo de Narbonne e Mártir”. Um pouco da história: Em meados do século III\, as primeiras comunidades cristãs dispersaram-se por causa das perseguições de Décio. Paulo foi um dos sete Bispos enviados para pregar na Gália. Salvando-se do martírio sofrido por seus companheiros\, fundou a Igreja em Narbonne\, da qual foi o primeiro Bispo por volta de 250.
URL:https://gratiaplena.online/event/dia-de-sao-paulo-de-narbonne/2028-03-22/
CATEGORIES:Santo do Dia
ATTACH;FMTTYPE=image/png:https://gratiaplena.online/wp-content/uploads/2024/03/Sao-Paulo-de-Narbonne.png
ORGANIZER;CN="Administrador":MAILTO:epzanette@gmail.com
END:VEVENT
BEGIN:VEVENT
DTSTART;VALUE=DATE:20290322
DTEND;VALUE=DATE:20290323
DTSTAMP:20260423T153957
CREATED:20240319T143220Z
LAST-MODIFIED:20240322T130116Z
UID:10001691-1868832000-1868918399@gratiaplena.online
SUMMARY:Dia de São Paulo de Narbonne
DESCRIPTION:Celebramos hoje (22 Mar) a festa litúrgica de São Paulo de Narbonne. Santo do dia: “São Paulo\, Bispo de Narbonne e Mártir”. Um pouco da história: Em meados do século III\, as primeiras comunidades cristãs dispersaram-se por causa das perseguições de Décio. Paulo foi um dos sete Bispos enviados para pregar na Gália. Salvando-se do martírio sofrido por seus companheiros\, fundou a Igreja em Narbonne\, da qual foi o primeiro Bispo por volta de 250.
URL:https://gratiaplena.online/event/dia-de-sao-paulo-de-narbonne/2029-03-22/
CATEGORIES:Santo do Dia
ATTACH;FMTTYPE=image/png:https://gratiaplena.online/wp-content/uploads/2024/03/Sao-Paulo-de-Narbonne.png
ORGANIZER;CN="Administrador":MAILTO:epzanette@gmail.com
END:VEVENT
END:VCALENDAR