BEGIN:VCALENDAR
VERSION:2.0
PRODID:-//GratiaPlena - ECPv6.15.20//NONSGML v1.0//EN
CALSCALE:GREGORIAN
METHOD:PUBLISH
X-WR-CALNAME:GratiaPlena
X-ORIGINAL-URL:https://gratiaplena.online
X-WR-CALDESC:Eventos para GratiaPlena
REFRESH-INTERVAL;VALUE=DURATION:PT1H
X-Robots-Tag:noindex
X-PUBLISHED-TTL:PT1H
BEGIN:VTIMEZONE
TZID:America/Sao_Paulo
BEGIN:STANDARD
TZOFFSETFROM:-0300
TZOFFSETTO:-0300
TZNAME:-03
DTSTART:20260101T000000
END:STANDARD
END:VTIMEZONE
BEGIN:VEVENT
DTSTART;VALUE=DATE:20270314
DTEND;VALUE=DATE:20270315
DTSTAMP:20260423T171633
CREATED:20240319T005352Z
LAST-MODIFIED:20240319T005352Z
UID:10001600-1804982400-1805068799@gratiaplena.online
SUMMARY:Dia de Beato Plácido Riccardi
DESCRIPTION:Celebramos hoje (14 mar) a festa litúrgica de Beato Plácido Riccardi\, que conheceu na abadia da Basílica de São Paulo Extramuros um noviço que dizia ter os estigmas de Cristo. O beato o acompanhou em oração e descobriu a verdade. O beato Plácido (1844-1915) era natural de Trevi\, Itália. Segundo o livro Vidas dos Santos do padre Alban Butler\, ele entrou na abadia beneditina anexa à Basílica de São Paulo Fora dos Muros\, onde está sepultado o chamado apóstolo dos gentios de Roma. Os beneditinos cuidam do templo até hoje.
URL:https://gratiaplena.online/event/dia-de-beato-placido-riccardi/2027-03-14/
CATEGORIES:Santo do Dia
ATTACH;FMTTYPE=image/png:https://gratiaplena.online/wp-content/uploads/2024/03/Beato-Placido-Riccardi.png
ORGANIZER;CN="Administrador":MAILTO:epzanette@gmail.com
END:VEVENT
BEGIN:VEVENT
DTSTART;VALUE=DATE:20280314
DTEND;VALUE=DATE:20280315
DTSTAMP:20260423T171633
CREATED:20240319T005352Z
LAST-MODIFIED:20240319T005352Z
UID:10001601-1836604800-1836691199@gratiaplena.online
SUMMARY:Dia de Beato Plácido Riccardi
DESCRIPTION:Celebramos hoje (14 mar) a festa litúrgica de Beato Plácido Riccardi\, que conheceu na abadia da Basílica de São Paulo Extramuros um noviço que dizia ter os estigmas de Cristo. O beato o acompanhou em oração e descobriu a verdade. O beato Plácido (1844-1915) era natural de Trevi\, Itália. Segundo o livro Vidas dos Santos do padre Alban Butler\, ele entrou na abadia beneditina anexa à Basílica de São Paulo Fora dos Muros\, onde está sepultado o chamado apóstolo dos gentios de Roma. Os beneditinos cuidam do templo até hoje.
URL:https://gratiaplena.online/event/dia-de-beato-placido-riccardi/2028-03-14/
CATEGORIES:Santo do Dia
ATTACH;FMTTYPE=image/png:https://gratiaplena.online/wp-content/uploads/2024/03/Beato-Placido-Riccardi.png
ORGANIZER;CN="Administrador":MAILTO:epzanette@gmail.com
END:VEVENT
BEGIN:VEVENT
DTSTART;VALUE=DATE:20290314
DTEND;VALUE=DATE:20290315
DTSTAMP:20260423T171633
CREATED:20240319T005352Z
LAST-MODIFIED:20240319T005352Z
UID:10001602-1868140800-1868227199@gratiaplena.online
SUMMARY:Dia de Beato Plácido Riccardi
DESCRIPTION:Celebramos hoje (14 mar) a festa litúrgica de Beato Plácido Riccardi\, que conheceu na abadia da Basílica de São Paulo Extramuros um noviço que dizia ter os estigmas de Cristo. O beato o acompanhou em oração e descobriu a verdade. O beato Plácido (1844-1915) era natural de Trevi\, Itália. Segundo o livro Vidas dos Santos do padre Alban Butler\, ele entrou na abadia beneditina anexa à Basílica de São Paulo Fora dos Muros\, onde está sepultado o chamado apóstolo dos gentios de Roma. Os beneditinos cuidam do templo até hoje.
URL:https://gratiaplena.online/event/dia-de-beato-placido-riccardi/2029-03-14/
CATEGORIES:Santo do Dia
ATTACH;FMTTYPE=image/png:https://gratiaplena.online/wp-content/uploads/2024/03/Beato-Placido-Riccardi.png
ORGANIZER;CN="Administrador":MAILTO:epzanette@gmail.com
END:VEVENT
END:VCALENDAR