BEGIN:VCALENDAR
VERSION:2.0
PRODID:-//GratiaPlena - ECPv6.15.20//NONSGML v1.0//EN
CALSCALE:GREGORIAN
METHOD:PUBLISH
X-WR-CALNAME:GratiaPlena
X-ORIGINAL-URL:https://gratiaplena.online
X-WR-CALDESC:Eventos para GratiaPlena
REFRESH-INTERVAL;VALUE=DURATION:PT1H
X-Robots-Tag:noindex
X-PUBLISHED-TTL:PT1H
BEGIN:VTIMEZONE
TZID:America/Sao_Paulo
BEGIN:STANDARD
TZOFFSETFROM:-0300
TZOFFSETTO:-0300
TZNAME:-03
DTSTART:20260101T000000
END:STANDARD
END:VTIMEZONE
BEGIN:VEVENT
DTSTART;VALUE=DATE:20270318
DTEND;VALUE=DATE:20270319
DTSTAMP:20260423T153954
CREATED:20240317T213838Z
LAST-MODIFIED:20240318T112152Z
UID:10001576-1805328000-1805414399@gratiaplena.online
SUMMARY:Dia de Santo Anselmo de Lucca
DESCRIPTION:Comemoramos hoje (18 Mar) a festa litúrgica de Santo Anselmo de Lucca. Anselmo foi um dos homens mais cultos do seu tempo. Guiado pelo seu tio homônimo\, que foi Papa Alexandre II\, tornou-se Bispo de Lucca em 1074. Rejeitando as regalias de Henrique IV\, renovou a vida espiritual e monacal. Faleceu em Mântua\, em 1086\, onde era venerado. No ano seguinte já era Santo.
URL:https://gratiaplena.online/event/dia-de-santo-anselmo-de-lucca/2027-03-18/
CATEGORIES:Santo do Dia
ATTACH;FMTTYPE=image/png:https://gratiaplena.online/wp-content/uploads/2024/03/Santo-Anselmo-de-Lucca.png
ORGANIZER;CN="Administrador":MAILTO:epzanette@gmail.com
END:VEVENT
BEGIN:VEVENT
DTSTART;VALUE=DATE:20280318
DTEND;VALUE=DATE:20280319
DTSTAMP:20260423T153954
CREATED:20240317T213838Z
LAST-MODIFIED:20240318T112152Z
UID:10001577-1836950400-1837036799@gratiaplena.online
SUMMARY:Dia de Santo Anselmo de Lucca
DESCRIPTION:Comemoramos hoje (18 Mar) a festa litúrgica de Santo Anselmo de Lucca. Anselmo foi um dos homens mais cultos do seu tempo. Guiado pelo seu tio homônimo\, que foi Papa Alexandre II\, tornou-se Bispo de Lucca em 1074. Rejeitando as regalias de Henrique IV\, renovou a vida espiritual e monacal. Faleceu em Mântua\, em 1086\, onde era venerado. No ano seguinte já era Santo.
URL:https://gratiaplena.online/event/dia-de-santo-anselmo-de-lucca/2028-03-18/
CATEGORIES:Santo do Dia
ATTACH;FMTTYPE=image/png:https://gratiaplena.online/wp-content/uploads/2024/03/Santo-Anselmo-de-Lucca.png
ORGANIZER;CN="Administrador":MAILTO:epzanette@gmail.com
END:VEVENT
BEGIN:VEVENT
DTSTART;VALUE=DATE:20290318
DTEND;VALUE=DATE:20290319
DTSTAMP:20260423T153954
CREATED:20240317T213838Z
LAST-MODIFIED:20240318T112152Z
UID:10001578-1868486400-1868572799@gratiaplena.online
SUMMARY:Dia de Santo Anselmo de Lucca
DESCRIPTION:Comemoramos hoje (18 Mar) a festa litúrgica de Santo Anselmo de Lucca. Anselmo foi um dos homens mais cultos do seu tempo. Guiado pelo seu tio homônimo\, que foi Papa Alexandre II\, tornou-se Bispo de Lucca em 1074. Rejeitando as regalias de Henrique IV\, renovou a vida espiritual e monacal. Faleceu em Mântua\, em 1086\, onde era venerado. No ano seguinte já era Santo.
URL:https://gratiaplena.online/event/dia-de-santo-anselmo-de-lucca/2029-03-18/
CATEGORIES:Santo do Dia
ATTACH;FMTTYPE=image/png:https://gratiaplena.online/wp-content/uploads/2024/03/Santo-Anselmo-de-Lucca.png
ORGANIZER;CN="Administrador":MAILTO:epzanette@gmail.com
END:VEVENT
END:VCALENDAR