BEGIN:VCALENDAR
VERSION:2.0
PRODID:-//GratiaPlena - ECPv6.15.20//NONSGML v1.0//EN
CALSCALE:GREGORIAN
METHOD:PUBLISH
X-WR-CALNAME:GratiaPlena
X-ORIGINAL-URL:https://gratiaplena.online
X-WR-CALDESC:Eventos para GratiaPlena
REFRESH-INTERVAL;VALUE=DURATION:PT1H
X-Robots-Tag:noindex
X-PUBLISHED-TTL:PT1H
BEGIN:VTIMEZONE
TZID:America/Sao_Paulo
BEGIN:STANDARD
TZOFFSETFROM:-0300
TZOFFSETTO:-0300
TZNAME:-03
DTSTART:20260101T000000
END:STANDARD
END:VTIMEZONE
BEGIN:VEVENT
DTSTART;VALUE=DATE:20270317
DTEND;VALUE=DATE:20270318
DTSTAMP:20260423T171623
CREATED:20240317T205513Z
LAST-MODIFIED:20240317T205513Z
UID:10001570-1805241600-1805327999@gratiaplena.online
SUMMARY:Dia de São João Sarkander
DESCRIPTION:Comemoramos hoje (17 Mar) a festa litúrgica de São João Sarkander. Outra data significativa é o dia 21 de maio de 1995\, dia da sua canonização. Em sua homilia\, o Papa João Paulo II destacou que a figura de São João Sarkander «se revestiu de uma luz excepcional\, sobretudo no fim da sua vida\, quando foi preso e recebeu do Senhor a graça do martírio. Em uma época de turbulência\, ele representou um sinal da presença de Deus\, da sua fidelidade em meio às contradições da história
URL:https://gratiaplena.online/event/dia-de-sao-joao-sarkander/2027-03-17/
CATEGORIES:Santo do Dia
ATTACH;FMTTYPE=image/jpeg:https://gratiaplena.online/wp-content/uploads/2024/03/Sao-Joao-Sarkander2.jpeg
ORGANIZER;CN="Administrador":MAILTO:epzanette@gmail.com
END:VEVENT
BEGIN:VEVENT
DTSTART;VALUE=DATE:20280317
DTEND;VALUE=DATE:20280318
DTSTAMP:20260423T171623
CREATED:20240317T205513Z
LAST-MODIFIED:20240317T205513Z
UID:10001571-1836864000-1836950399@gratiaplena.online
SUMMARY:Dia de São João Sarkander
DESCRIPTION:Comemoramos hoje (17 Mar) a festa litúrgica de São João Sarkander. Outra data significativa é o dia 21 de maio de 1995\, dia da sua canonização. Em sua homilia\, o Papa João Paulo II destacou que a figura de São João Sarkander «se revestiu de uma luz excepcional\, sobretudo no fim da sua vida\, quando foi preso e recebeu do Senhor a graça do martírio. Em uma época de turbulência\, ele representou um sinal da presença de Deus\, da sua fidelidade em meio às contradições da história
URL:https://gratiaplena.online/event/dia-de-sao-joao-sarkander/2028-03-17/
CATEGORIES:Santo do Dia
ATTACH;FMTTYPE=image/jpeg:https://gratiaplena.online/wp-content/uploads/2024/03/Sao-Joao-Sarkander2.jpeg
ORGANIZER;CN="Administrador":MAILTO:epzanette@gmail.com
END:VEVENT
BEGIN:VEVENT
DTSTART;VALUE=DATE:20290317
DTEND;VALUE=DATE:20290318
DTSTAMP:20260423T171623
CREATED:20240317T205513Z
LAST-MODIFIED:20240317T205513Z
UID:10001572-1868400000-1868486399@gratiaplena.online
SUMMARY:Dia de São João Sarkander
DESCRIPTION:Comemoramos hoje (17 Mar) a festa litúrgica de São João Sarkander. Outra data significativa é o dia 21 de maio de 1995\, dia da sua canonização. Em sua homilia\, o Papa João Paulo II destacou que a figura de São João Sarkander «se revestiu de uma luz excepcional\, sobretudo no fim da sua vida\, quando foi preso e recebeu do Senhor a graça do martírio. Em uma época de turbulência\, ele representou um sinal da presença de Deus\, da sua fidelidade em meio às contradições da história
URL:https://gratiaplena.online/event/dia-de-sao-joao-sarkander/2029-03-17/
CATEGORIES:Santo do Dia
ATTACH;FMTTYPE=image/jpeg:https://gratiaplena.online/wp-content/uploads/2024/03/Sao-Joao-Sarkander2.jpeg
ORGANIZER;CN="Administrador":MAILTO:epzanette@gmail.com
END:VEVENT
END:VCALENDAR