BEGIN:VCALENDAR
VERSION:2.0
PRODID:-//GratiaPlena - ECPv6.15.20//NONSGML v1.0//EN
CALSCALE:GREGORIAN
METHOD:PUBLISH
X-WR-CALNAME:GratiaPlena
X-ORIGINAL-URL:https://gratiaplena.online
X-WR-CALDESC:Eventos para GratiaPlena
REFRESH-INTERVAL;VALUE=DURATION:PT1H
X-Robots-Tag:noindex
X-PUBLISHED-TTL:PT1H
BEGIN:VTIMEZONE
TZID:America/Sao_Paulo
BEGIN:STANDARD
TZOFFSETFROM:-0300
TZOFFSETTO:-0300
TZNAME:-03
DTSTART:20260101T000000
END:STANDARD
END:VTIMEZONE
BEGIN:VEVENT
DTSTART;VALUE=DATE:20270317
DTEND;VALUE=DATE:20270318
DTSTAMP:20260423T153846
CREATED:20240317T202043Z
LAST-MODIFIED:20240317T202043Z
UID:10001564-1805241600-1805327999@gratiaplena.online
SUMMARY:Dia de São Patrício
DESCRIPTION:Celebramos hoje (17 Mar) a festa litúrgica de São Patrício. O Dia de São Patrício\, também conhecido por St. Patrick’s Day\, é comemorado anualmente em 17 de março. A data é uma homenagem ao padroeiro da Irlanda\, São Patrício\, que faleceu no dia 17 de março de 461. Muito além do que uma celebração religiosa\, pois lembra a chegada do cristianismo ao país dos irlandeses\, também ovaciona a cultura e as tradições típicas desse povo.
URL:https://gratiaplena.online/event/dia-de-sao-patricio/2027-03-17/
CATEGORIES:Santo do Dia
ATTACH;FMTTYPE=image/webp:https://gratiaplena.online/wp-content/uploads/2024/03/Sao-Patricio2.webp
ORGANIZER;CN="Administrador":MAILTO:epzanette@gmail.com
END:VEVENT
BEGIN:VEVENT
DTSTART;VALUE=DATE:20280317
DTEND;VALUE=DATE:20280318
DTSTAMP:20260423T153846
CREATED:20240317T202043Z
LAST-MODIFIED:20240317T202043Z
UID:10001565-1836864000-1836950399@gratiaplena.online
SUMMARY:Dia de São Patrício
DESCRIPTION:Celebramos hoje (17 Mar) a festa litúrgica de São Patrício. O Dia de São Patrício\, também conhecido por St. Patrick’s Day\, é comemorado anualmente em 17 de março. A data é uma homenagem ao padroeiro da Irlanda\, São Patrício\, que faleceu no dia 17 de março de 461. Muito além do que uma celebração religiosa\, pois lembra a chegada do cristianismo ao país dos irlandeses\, também ovaciona a cultura e as tradições típicas desse povo.
URL:https://gratiaplena.online/event/dia-de-sao-patricio/2028-03-17/
CATEGORIES:Santo do Dia
ATTACH;FMTTYPE=image/webp:https://gratiaplena.online/wp-content/uploads/2024/03/Sao-Patricio2.webp
ORGANIZER;CN="Administrador":MAILTO:epzanette@gmail.com
END:VEVENT
BEGIN:VEVENT
DTSTART;VALUE=DATE:20290317
DTEND;VALUE=DATE:20290318
DTSTAMP:20260423T153846
CREATED:20240317T202043Z
LAST-MODIFIED:20240317T202043Z
UID:10001566-1868400000-1868486399@gratiaplena.online
SUMMARY:Dia de São Patrício
DESCRIPTION:Celebramos hoje (17 Mar) a festa litúrgica de São Patrício. O Dia de São Patrício\, também conhecido por St. Patrick’s Day\, é comemorado anualmente em 17 de março. A data é uma homenagem ao padroeiro da Irlanda\, São Patrício\, que faleceu no dia 17 de março de 461. Muito além do que uma celebração religiosa\, pois lembra a chegada do cristianismo ao país dos irlandeses\, também ovaciona a cultura e as tradições típicas desse povo.
URL:https://gratiaplena.online/event/dia-de-sao-patricio/2029-03-17/
CATEGORIES:Santo do Dia
ATTACH;FMTTYPE=image/webp:https://gratiaplena.online/wp-content/uploads/2024/03/Sao-Patricio2.webp
ORGANIZER;CN="Administrador":MAILTO:epzanette@gmail.com
END:VEVENT
END:VCALENDAR