BEGIN:VCALENDAR
VERSION:2.0
PRODID:-//GratiaPlena - ECPv6.15.20//NONSGML v1.0//EN
CALSCALE:GREGORIAN
METHOD:PUBLISH
X-WR-CALNAME:GratiaPlena
X-ORIGINAL-URL:https://gratiaplena.online
X-WR-CALDESC:Eventos para GratiaPlena
REFRESH-INTERVAL;VALUE=DURATION:PT1H
X-Robots-Tag:noindex
X-PUBLISHED-TTL:PT1H
BEGIN:VTIMEZONE
TZID:America/Sao_Paulo
BEGIN:STANDARD
TZOFFSETFROM:-0300
TZOFFSETTO:-0300
TZNAME:-03
DTSTART:20260101T000000
END:STANDARD
END:VTIMEZONE
BEGIN:VEVENT
DTSTART;VALUE=DATE:20270316
DTEND;VALUE=DATE:20270317
DTSTAMP:20260423T153955
CREATED:20240316T143200Z
LAST-MODIFIED:20240316T143200Z
UID:10001552-1805155200-1805241599@gratiaplena.online
SUMMARY:Dia de Santo Hilário de Aquiléia
DESCRIPTION:Celebramos hoje (16 Mar) a festa litúrgica de Santo Hilário de Aquiléia. Documentos antigos atestam o martírio do bispo Hilário e do diácono Taciano em 16 de março de 284. Suas relíquias\, inicialmente guardadas em Aquileia\, foram transferidas para Grado por medo dos longobardos. Uma igreja\, mais tarde catedral\, foi-lhes dedicada na cidade de Gorizia\, da qual são patronos.
URL:https://gratiaplena.online/event/dia-de-santo-hilario-de-aquileia/2027-03-16/
CATEGORIES:Santo do Dia
ATTACH;FMTTYPE=image/webp:https://gratiaplena.online/wp-content/uploads/2024/03/Santo-Hilario-de-Aquileia.webp
ORGANIZER;CN="Administrador":MAILTO:epzanette@gmail.com
END:VEVENT
BEGIN:VEVENT
DTSTART;VALUE=DATE:20280316
DTEND;VALUE=DATE:20280317
DTSTAMP:20260423T153955
CREATED:20240316T143200Z
LAST-MODIFIED:20240316T143200Z
UID:10001553-1836777600-1836863999@gratiaplena.online
SUMMARY:Dia de Santo Hilário de Aquiléia
DESCRIPTION:Celebramos hoje (16 Mar) a festa litúrgica de Santo Hilário de Aquiléia. Documentos antigos atestam o martírio do bispo Hilário e do diácono Taciano em 16 de março de 284. Suas relíquias\, inicialmente guardadas em Aquileia\, foram transferidas para Grado por medo dos longobardos. Uma igreja\, mais tarde catedral\, foi-lhes dedicada na cidade de Gorizia\, da qual são patronos.
URL:https://gratiaplena.online/event/dia-de-santo-hilario-de-aquileia/2028-03-16/
CATEGORIES:Santo do Dia
ATTACH;FMTTYPE=image/webp:https://gratiaplena.online/wp-content/uploads/2024/03/Santo-Hilario-de-Aquileia.webp
ORGANIZER;CN="Administrador":MAILTO:epzanette@gmail.com
END:VEVENT
BEGIN:VEVENT
DTSTART;VALUE=DATE:20290316
DTEND;VALUE=DATE:20290317
DTSTAMP:20260423T153955
CREATED:20240316T143200Z
LAST-MODIFIED:20240316T143200Z
UID:10001554-1868313600-1868399999@gratiaplena.online
SUMMARY:Dia de Santo Hilário de Aquiléia
DESCRIPTION:Celebramos hoje (16 Mar) a festa litúrgica de Santo Hilário de Aquiléia. Documentos antigos atestam o martírio do bispo Hilário e do diácono Taciano em 16 de março de 284. Suas relíquias\, inicialmente guardadas em Aquileia\, foram transferidas para Grado por medo dos longobardos. Uma igreja\, mais tarde catedral\, foi-lhes dedicada na cidade de Gorizia\, da qual são patronos.
URL:https://gratiaplena.online/event/dia-de-santo-hilario-de-aquileia/2029-03-16/
CATEGORIES:Santo do Dia
ATTACH;FMTTYPE=image/webp:https://gratiaplena.online/wp-content/uploads/2024/03/Santo-Hilario-de-Aquileia.webp
ORGANIZER;CN="Administrador":MAILTO:epzanette@gmail.com
END:VEVENT
END:VCALENDAR