BEGIN:VCALENDAR
VERSION:2.0
PRODID:-//GratiaPlena - ECPv6.15.20//NONSGML v1.0//EN
CALSCALE:GREGORIAN
METHOD:PUBLISH
X-WR-CALNAME:GratiaPlena
X-ORIGINAL-URL:https://gratiaplena.online
X-WR-CALDESC:Eventos para GratiaPlena
REFRESH-INTERVAL;VALUE=DURATION:PT1H
X-Robots-Tag:noindex
X-PUBLISHED-TTL:PT1H
BEGIN:VTIMEZONE
TZID:America/Sao_Paulo
BEGIN:STANDARD
TZOFFSETFROM:-0300
TZOFFSETTO:-0300
TZNAME:-03
DTSTART:20250101T000000
END:STANDARD
END:VTIMEZONE
BEGIN:VEVENT
DTSTART;VALUE=DATE:20260426
DTEND;VALUE=DATE:20260427
DTSTAMP:20260423T135331
CREATED:20240312T002318Z
LAST-MODIFIED:20240312T002318Z
UID:10001522-1777161600-1777247999@gratiaplena.online
SUMMARY:Dia de Santo Anacleto
DESCRIPTION:Celebramos hoje (26 Abril) aa festa litúrgica de Santo Anacleto. Sucessor do Papa Lino \, Santo Anacleto nasceu em Atenas\, na Grécia\, filho de Antíoco. Ele viveu sob os imperadores Vespasiano\, Tito e Domiciano; este último desencadeou uma perseguição violenta contra os cristãos que terminou no ano 95; estando morto em 92\, provavelmente Cleto não sofreu o martírio com a maioria dos cristãos na cidade. Em 24 de agosto de 79\, a erupção do Monte Vesúvio causou a destruição das cidades de Estábia\, Ercolano e Pompeia\, uma cidade onde já havia uma grande comunidade de cristãos. Na história de Roma da época\, nota-se que no ano seguinte à erupção foi inaugurado o Anfiteatro Flávio\, e em 85\, foi inaugurado o estádio de Domiciano\, o que corresponde à Piazza Navona. \n 
URL:https://gratiaplena.online/event/dia-de-santo-anacleto/2026-04-26/
CATEGORIES:Santo do Dia
ATTACH;FMTTYPE=image/webp:https://gratiaplena.online/wp-content/uploads/2024/03/Santo-Anacleto2.webp
ORGANIZER;CN="Administrador":MAILTO:epzanette@gmail.com
END:VEVENT
BEGIN:VEVENT
DTSTART;VALUE=DATE:20270426
DTEND;VALUE=DATE:20270427
DTSTAMP:20260423T135331
CREATED:20240312T002318Z
LAST-MODIFIED:20240312T002318Z
UID:10001523-1808697600-1808783999@gratiaplena.online
SUMMARY:Dia de Santo Anacleto
DESCRIPTION:Celebramos hoje (26 Abril) aa festa litúrgica de Santo Anacleto. Sucessor do Papa Lino \, Santo Anacleto nasceu em Atenas\, na Grécia\, filho de Antíoco. Ele viveu sob os imperadores Vespasiano\, Tito e Domiciano; este último desencadeou uma perseguição violenta contra os cristãos que terminou no ano 95; estando morto em 92\, provavelmente Cleto não sofreu o martírio com a maioria dos cristãos na cidade. Em 24 de agosto de 79\, a erupção do Monte Vesúvio causou a destruição das cidades de Estábia\, Ercolano e Pompeia\, uma cidade onde já havia uma grande comunidade de cristãos. Na história de Roma da época\, nota-se que no ano seguinte à erupção foi inaugurado o Anfiteatro Flávio\, e em 85\, foi inaugurado o estádio de Domiciano\, o que corresponde à Piazza Navona. \n 
URL:https://gratiaplena.online/event/dia-de-santo-anacleto/2027-04-26/
CATEGORIES:Santo do Dia
ATTACH;FMTTYPE=image/webp:https://gratiaplena.online/wp-content/uploads/2024/03/Santo-Anacleto2.webp
ORGANIZER;CN="Administrador":MAILTO:epzanette@gmail.com
END:VEVENT
BEGIN:VEVENT
DTSTART;VALUE=DATE:20280426
DTEND;VALUE=DATE:20280427
DTSTAMP:20260423T135331
CREATED:20240312T002318Z
LAST-MODIFIED:20240312T002318Z
UID:10001524-1840320000-1840406399@gratiaplena.online
SUMMARY:Dia de Santo Anacleto
DESCRIPTION:Celebramos hoje (26 Abril) aa festa litúrgica de Santo Anacleto. Sucessor do Papa Lino \, Santo Anacleto nasceu em Atenas\, na Grécia\, filho de Antíoco. Ele viveu sob os imperadores Vespasiano\, Tito e Domiciano; este último desencadeou uma perseguição violenta contra os cristãos que terminou no ano 95; estando morto em 92\, provavelmente Cleto não sofreu o martírio com a maioria dos cristãos na cidade. Em 24 de agosto de 79\, a erupção do Monte Vesúvio causou a destruição das cidades de Estábia\, Ercolano e Pompeia\, uma cidade onde já havia uma grande comunidade de cristãos. Na história de Roma da época\, nota-se que no ano seguinte à erupção foi inaugurado o Anfiteatro Flávio\, e em 85\, foi inaugurado o estádio de Domiciano\, o que corresponde à Piazza Navona. \n 
URL:https://gratiaplena.online/event/dia-de-santo-anacleto/2028-04-26/
CATEGORIES:Santo do Dia
ATTACH;FMTTYPE=image/webp:https://gratiaplena.online/wp-content/uploads/2024/03/Santo-Anacleto2.webp
ORGANIZER;CN="Administrador":MAILTO:epzanette@gmail.com
END:VEVENT
END:VCALENDAR