BEGIN:VCALENDAR
VERSION:2.0
PRODID:-//GratiaPlena - ECPv6.15.20//NONSGML v1.0//EN
CALSCALE:GREGORIAN
METHOD:PUBLISH
X-WR-CALNAME:GratiaPlena
X-ORIGINAL-URL:https://gratiaplena.online
X-WR-CALDESC:Eventos para GratiaPlena
REFRESH-INTERVAL;VALUE=DURATION:PT1H
X-Robots-Tag:noindex
X-PUBLISHED-TTL:PT1H
BEGIN:VTIMEZONE
TZID:America/Sao_Paulo
BEGIN:STANDARD
TZOFFSETFROM:-0300
TZOFFSETTO:-0300
TZNAME:-03
DTSTART:20250101T000000
END:STANDARD
END:VTIMEZONE
BEGIN:VEVENT
DTSTART;VALUE=DATE:20260917
DTEND;VALUE=DATE:20260918
DTSTAMP:20260423T171616
CREATED:20240308T210256Z
LAST-MODIFIED:20240828T123948Z
UID:10001456-1789603200-1789689599@gratiaplena.online
SUMMARY:Dia de São Roberto Belarmino
DESCRIPTION:Coemoramos hoje (17 Set) a festa de São Roberto Belarmino. Ele veio ao mundo no dia 04 de outubro de 1542\, em Montepulciano\, Itália. Era filho de pais humildes e católicos de muita fé. O menino Roberto nasceu franzino e doente. Mesmo doente\, Roberto soube ter uma vida de profundo amor a Igreja. Sua inteligência prodigiosa levou-o ao magistério. Foi professor em inúmeras instituições de ensino da Itália. Em 1571\, tendo concluído todos os estudos\, recebeu a ordenação sacerdotal e entrou para a Companhia de Jesus. Unindo a sabedoria das ciências terrenas\, o conhecimento espiritual e a fé\, escreveu os três volumes de uma das obras teológicas mais consultadas de todos os tempos: “As Controvérsias Cristãs sobre a Fé”\, um tratado sobre todas as heresias.
URL:https://gratiaplena.online/event/dia-de-sao-roberto-belarmino/2026-09-17/
CATEGORIES:Santo do Dia
ATTACH;FMTTYPE=image/jpeg:https://gratiaplena.online/wp-content/uploads/2024/03/Sao-Roberto-Belarmino2.jpg
ORGANIZER;CN="Administrador":MAILTO:epzanette@gmail.com
END:VEVENT
BEGIN:VEVENT
DTSTART;VALUE=DATE:20270917
DTEND;VALUE=DATE:20270918
DTSTAMP:20260423T171616
CREATED:20240308T210256Z
LAST-MODIFIED:20240828T123948Z
UID:10001457-1821139200-1821225599@gratiaplena.online
SUMMARY:Dia de São Roberto Belarmino
DESCRIPTION:Coemoramos hoje (17 Set) a festa de São Roberto Belarmino. Ele veio ao mundo no dia 04 de outubro de 1542\, em Montepulciano\, Itália. Era filho de pais humildes e católicos de muita fé. O menino Roberto nasceu franzino e doente. Mesmo doente\, Roberto soube ter uma vida de profundo amor a Igreja. Sua inteligência prodigiosa levou-o ao magistério. Foi professor em inúmeras instituições de ensino da Itália. Em 1571\, tendo concluído todos os estudos\, recebeu a ordenação sacerdotal e entrou para a Companhia de Jesus. Unindo a sabedoria das ciências terrenas\, o conhecimento espiritual e a fé\, escreveu os três volumes de uma das obras teológicas mais consultadas de todos os tempos: “As Controvérsias Cristãs sobre a Fé”\, um tratado sobre todas as heresias.
URL:https://gratiaplena.online/event/dia-de-sao-roberto-belarmino/2027-09-17/
CATEGORIES:Santo do Dia
ATTACH;FMTTYPE=image/jpeg:https://gratiaplena.online/wp-content/uploads/2024/03/Sao-Roberto-Belarmino2.jpg
ORGANIZER;CN="Administrador":MAILTO:epzanette@gmail.com
END:VEVENT
BEGIN:VEVENT
DTSTART;VALUE=DATE:20280917
DTEND;VALUE=DATE:20280918
DTSTAMP:20260423T171616
CREATED:20240308T210256Z
LAST-MODIFIED:20240828T123948Z
UID:10001458-1852761600-1852847999@gratiaplena.online
SUMMARY:Dia de São Roberto Belarmino
DESCRIPTION:Coemoramos hoje (17 Set) a festa de São Roberto Belarmino. Ele veio ao mundo no dia 04 de outubro de 1542\, em Montepulciano\, Itália. Era filho de pais humildes e católicos de muita fé. O menino Roberto nasceu franzino e doente. Mesmo doente\, Roberto soube ter uma vida de profundo amor a Igreja. Sua inteligência prodigiosa levou-o ao magistério. Foi professor em inúmeras instituições de ensino da Itália. Em 1571\, tendo concluído todos os estudos\, recebeu a ordenação sacerdotal e entrou para a Companhia de Jesus. Unindo a sabedoria das ciências terrenas\, o conhecimento espiritual e a fé\, escreveu os três volumes de uma das obras teológicas mais consultadas de todos os tempos: “As Controvérsias Cristãs sobre a Fé”\, um tratado sobre todas as heresias.
URL:https://gratiaplena.online/event/dia-de-sao-roberto-belarmino/2028-09-17/
CATEGORIES:Santo do Dia
ATTACH;FMTTYPE=image/jpeg:https://gratiaplena.online/wp-content/uploads/2024/03/Sao-Roberto-Belarmino2.jpg
ORGANIZER;CN="Administrador":MAILTO:epzanette@gmail.com
END:VEVENT
END:VCALENDAR