BEGIN:VCALENDAR
VERSION:2.0
PRODID:-//GratiaPlena - ECPv6.15.20//NONSGML v1.0//EN
CALSCALE:GREGORIAN
METHOD:PUBLISH
X-WR-CALNAME:GratiaPlena
X-ORIGINAL-URL:https://gratiaplena.online
X-WR-CALDESC:Eventos para GratiaPlena
REFRESH-INTERVAL;VALUE=DURATION:PT1H
X-Robots-Tag:noindex
X-PUBLISHED-TTL:PT1H
BEGIN:VTIMEZONE
TZID:America/Sao_Paulo
BEGIN:STANDARD
TZOFFSETFROM:-0300
TZOFFSETTO:-0300
TZNAME:-03
DTSTART:20250101T000000
END:STANDARD
END:VTIMEZONE
BEGIN:VEVENT
DTSTART;VALUE=DATE:20261214
DTEND;VALUE=DATE:20261215
DTSTAMP:20260423T183134
CREATED:20240308T191811Z
LAST-MODIFIED:20240828T165651Z
UID:10001450-1797206400-1797292799@gratiaplena.online
SUMMARY:Dia de São João da Cruz
DESCRIPTION:Celebramos hoje (14 Dez) a memória litúrgica de São João da Cruz. Seu nome de batismo era Juan de Yepes. Nasceu em Fontivaros\, na província de Ávila\, Espanha\, em 1542\, talvez em 24 de junho. Ainda na infância\, ficou órfão de pai\, Gonzalo de Yepes\, descendente de uma família rica e tradicional de Toledo. Mas\, devido ao casamento\, foi deserdado da herança. A jovem\, Catarina Alvarez\, sua mãe\, era de família humilde\, considerada de classe “inferior”. Assim\, com a morte do marido\, que a obrigou a trabalhar\, mudou-se para Medina\, com os filhos.
URL:https://gratiaplena.online/event/dia-de-sao-joao-da-cruz/2026-12-14/
CATEGORIES:Santo do Dia
ATTACH;FMTTYPE=image/webp:https://gratiaplena.online/wp-content/uploads/2024/03/Sao-Joao-da-Cruz2.webp
ORGANIZER;CN="Administrador":MAILTO:epzanette@gmail.com
END:VEVENT
BEGIN:VEVENT
DTSTART;VALUE=DATE:20271214
DTEND;VALUE=DATE:20271215
DTSTAMP:20260423T183134
CREATED:20240308T191811Z
LAST-MODIFIED:20240828T165651Z
UID:10001451-1828742400-1828828799@gratiaplena.online
SUMMARY:Dia de São João da Cruz
DESCRIPTION:Celebramos hoje (14 Dez) a memória litúrgica de São João da Cruz. Seu nome de batismo era Juan de Yepes. Nasceu em Fontivaros\, na província de Ávila\, Espanha\, em 1542\, talvez em 24 de junho. Ainda na infância\, ficou órfão de pai\, Gonzalo de Yepes\, descendente de uma família rica e tradicional de Toledo. Mas\, devido ao casamento\, foi deserdado da herança. A jovem\, Catarina Alvarez\, sua mãe\, era de família humilde\, considerada de classe “inferior”. Assim\, com a morte do marido\, que a obrigou a trabalhar\, mudou-se para Medina\, com os filhos.
URL:https://gratiaplena.online/event/dia-de-sao-joao-da-cruz/2027-12-14/
CATEGORIES:Santo do Dia
ATTACH;FMTTYPE=image/webp:https://gratiaplena.online/wp-content/uploads/2024/03/Sao-Joao-da-Cruz2.webp
ORGANIZER;CN="Administrador":MAILTO:epzanette@gmail.com
END:VEVENT
BEGIN:VEVENT
DTSTART;VALUE=DATE:20281214
DTEND;VALUE=DATE:20281215
DTSTAMP:20260423T183134
CREATED:20240308T191811Z
LAST-MODIFIED:20240828T165651Z
UID:10001452-1860364800-1860451199@gratiaplena.online
SUMMARY:Dia de São João da Cruz
DESCRIPTION:Celebramos hoje (14 Dez) a memória litúrgica de São João da Cruz. Seu nome de batismo era Juan de Yepes. Nasceu em Fontivaros\, na província de Ávila\, Espanha\, em 1542\, talvez em 24 de junho. Ainda na infância\, ficou órfão de pai\, Gonzalo de Yepes\, descendente de uma família rica e tradicional de Toledo. Mas\, devido ao casamento\, foi deserdado da herança. A jovem\, Catarina Alvarez\, sua mãe\, era de família humilde\, considerada de classe “inferior”. Assim\, com a morte do marido\, que a obrigou a trabalhar\, mudou-se para Medina\, com os filhos.
URL:https://gratiaplena.online/event/dia-de-sao-joao-da-cruz/2028-12-14/
CATEGORIES:Santo do Dia
ATTACH;FMTTYPE=image/webp:https://gratiaplena.online/wp-content/uploads/2024/03/Sao-Joao-da-Cruz2.webp
ORGANIZER;CN="Administrador":MAILTO:epzanette@gmail.com
END:VEVENT
END:VCALENDAR