BEGIN:VCALENDAR
VERSION:2.0
PRODID:-//GratiaPlena - ECPv6.15.20//NONSGML v1.0//EN
CALSCALE:GREGORIAN
METHOD:PUBLISH
X-WR-CALNAME:GratiaPlena
X-ORIGINAL-URL:https://gratiaplena.online
X-WR-CALDESC:Eventos para GratiaPlena
REFRESH-INTERVAL;VALUE=DURATION:PT1H
X-Robots-Tag:noindex
X-PUBLISHED-TTL:PT1H
BEGIN:VTIMEZONE
TZID:America/Sao_Paulo
BEGIN:STANDARD
TZOFFSETFROM:-0300
TZOFFSETTO:-0300
TZNAME:-03
DTSTART:20250101T000000
END:STANDARD
END:VTIMEZONE
BEGIN:VEVENT
DTSTART;VALUE=DATE:20260820
DTEND;VALUE=DATE:20260821
DTSTAMP:20260423T171803
CREATED:20240227T134909Z
LAST-MODIFIED:20240828T121329Z
UID:10001402-1787184000-1787270399@gratiaplena.online
SUMMARY:Dia de São Bernardo de Claraval
DESCRIPTION:Celebramos hoje (20 Ago) a sua memória. São Bernardo de Claraval\, é monge cisterciense e doutor da Igreja. Ele\, a justo título\, pode ser considerado cofundador da Ordem Cisterciense – depois de São Roberto\, Santo Alberico e Santo Estêvão Harding\, dado o seu empenho por revitalizá-la num tempo de grande crise de vocações – e também o pai do movimento místico que\, com segurança\, podemos chamar de Escola Cisterciense de Espiritualidade. Leia mais…
URL:https://gratiaplena.online/event/dia-de-sao-bernardo-de-claraval/2026-08-20/
CATEGORIES:Santo do Dia
ATTACH;FMTTYPE=image/jpeg:https://gratiaplena.online/wp-content/uploads/2024/02/Sao-Bernardo-de-Claraval2.jpeg
ORGANIZER;CN="Administrador":MAILTO:epzanette@gmail.com
END:VEVENT
BEGIN:VEVENT
DTSTART;VALUE=DATE:20270820
DTEND;VALUE=DATE:20270821
DTSTAMP:20260423T171803
CREATED:20240227T134909Z
LAST-MODIFIED:20240828T121329Z
UID:10001403-1818720000-1818806399@gratiaplena.online
SUMMARY:Dia de São Bernardo de Claraval
DESCRIPTION:Celebramos hoje (20 Ago) a sua memória. São Bernardo de Claraval\, é monge cisterciense e doutor da Igreja. Ele\, a justo título\, pode ser considerado cofundador da Ordem Cisterciense – depois de São Roberto\, Santo Alberico e Santo Estêvão Harding\, dado o seu empenho por revitalizá-la num tempo de grande crise de vocações – e também o pai do movimento místico que\, com segurança\, podemos chamar de Escola Cisterciense de Espiritualidade. Leia mais…
URL:https://gratiaplena.online/event/dia-de-sao-bernardo-de-claraval/2027-08-20/
CATEGORIES:Santo do Dia
ATTACH;FMTTYPE=image/jpeg:https://gratiaplena.online/wp-content/uploads/2024/02/Sao-Bernardo-de-Claraval2.jpeg
ORGANIZER;CN="Administrador":MAILTO:epzanette@gmail.com
END:VEVENT
BEGIN:VEVENT
DTSTART;VALUE=DATE:20280820
DTEND;VALUE=DATE:20280821
DTSTAMP:20260423T171803
CREATED:20240227T134909Z
LAST-MODIFIED:20240828T121329Z
UID:10001404-1850342400-1850428799@gratiaplena.online
SUMMARY:Dia de São Bernardo de Claraval
DESCRIPTION:Celebramos hoje (20 Ago) a sua memória. São Bernardo de Claraval\, é monge cisterciense e doutor da Igreja. Ele\, a justo título\, pode ser considerado cofundador da Ordem Cisterciense – depois de São Roberto\, Santo Alberico e Santo Estêvão Harding\, dado o seu empenho por revitalizá-la num tempo de grande crise de vocações – e também o pai do movimento místico que\, com segurança\, podemos chamar de Escola Cisterciense de Espiritualidade. Leia mais…
URL:https://gratiaplena.online/event/dia-de-sao-bernardo-de-claraval/2028-08-20/
CATEGORIES:Santo do Dia
ATTACH;FMTTYPE=image/jpeg:https://gratiaplena.online/wp-content/uploads/2024/02/Sao-Bernardo-de-Claraval2.jpeg
ORGANIZER;CN="Administrador":MAILTO:epzanette@gmail.com
END:VEVENT
BEGIN:VEVENT
DTSTART;VALUE=DATE:20290820
DTEND;VALUE=DATE:20290821
DTSTAMP:20260423T171803
CREATED:20240227T134909Z
LAST-MODIFIED:20240828T121329Z
UID:10001886-1881878400-1881964799@gratiaplena.online
SUMMARY:Dia de São Bernardo de Claraval
DESCRIPTION:Celebramos hoje (20 Ago) a sua memória. São Bernardo de Claraval\, é monge cisterciense e doutor da Igreja. Ele\, a justo título\, pode ser considerado cofundador da Ordem Cisterciense – depois de São Roberto\, Santo Alberico e Santo Estêvão Harding\, dado o seu empenho por revitalizá-la num tempo de grande crise de vocações – e também o pai do movimento místico que\, com segurança\, podemos chamar de Escola Cisterciense de Espiritualidade. Leia mais…
URL:https://gratiaplena.online/event/dia-de-sao-bernardo-de-claraval/2029-08-20/
CATEGORIES:Santo do Dia
ATTACH;FMTTYPE=image/jpeg:https://gratiaplena.online/wp-content/uploads/2024/02/Sao-Bernardo-de-Claraval2.jpeg
ORGANIZER;CN="Administrador":MAILTO:epzanette@gmail.com
END:VEVENT
END:VCALENDAR