BEGIN:VCALENDAR
VERSION:2.0
PRODID:-//GratiaPlena - ECPv6.15.20//NONSGML v1.0//EN
CALSCALE:GREGORIAN
METHOD:PUBLISH
X-WR-CALNAME:GratiaPlena
X-ORIGINAL-URL:https://gratiaplena.online
X-WR-CALDESC:Eventos para GratiaPlena
REFRESH-INTERVAL;VALUE=DURATION:PT1H
X-Robots-Tag:noindex
X-PUBLISHED-TTL:PT1H
BEGIN:VTIMEZONE
TZID:America/Sao_Paulo
BEGIN:STANDARD
TZOFFSETFROM:-0300
TZOFFSETTO:-0300
TZNAME:-03
DTSTART:20250101T000000
END:STANDARD
END:VTIMEZONE
BEGIN:VEVENT
DTSTART;VALUE=DATE:20260916
DTEND;VALUE=DATE:20260917
DTSTAMP:20260423T170012
CREATED:20240216T172552Z
LAST-MODIFIED:20240828T123206Z
UID:10001359-1789516800-1789603199@gratiaplena.online
SUMMARY:Dia de Beato Vítor III
DESCRIPTION:Celebramos hoje (16 Set) a festa de Beato Vítor III. Nascido em 1026 ou 1027 em um ramo não reinante dos duques lombardos de Benevento; morreu em Roma\, em 16 de setembro de 1087. Sendo filho único\, seu desejo de abraçar o estado monástico foi fortemente combatido por seus pais. Após a morte de seu pai na batalha contra os normandos\, em 1047\, ele fugiu do casamento que lhe havia sido arranjado e\, embora trazido de volta à força\, eventualmente\, após uma segunda fuga para Cava\, obteve permissão para entrar no mosteiro de Santa Sofia em Benevento\, onde ele recebeu o nome de Desidério.
URL:https://gratiaplena.online/event/dia-de-beato-vitor-iii/2026-09-16/
CATEGORIES:Santo do Dia
ATTACH;FMTTYPE=image/jpeg:https://gratiaplena.online/wp-content/uploads/2024/02/Beato-Victor-III-2.jpeg
END:VEVENT
BEGIN:VEVENT
DTSTART;VALUE=DATE:20270916
DTEND;VALUE=DATE:20270917
DTSTAMP:20260423T170012
CREATED:20240216T172552Z
LAST-MODIFIED:20240828T123206Z
UID:10001360-1821052800-1821139199@gratiaplena.online
SUMMARY:Dia de Beato Vítor III
DESCRIPTION:Celebramos hoje (16 Set) a festa de Beato Vítor III. Nascido em 1026 ou 1027 em um ramo não reinante dos duques lombardos de Benevento; morreu em Roma\, em 16 de setembro de 1087. Sendo filho único\, seu desejo de abraçar o estado monástico foi fortemente combatido por seus pais. Após a morte de seu pai na batalha contra os normandos\, em 1047\, ele fugiu do casamento que lhe havia sido arranjado e\, embora trazido de volta à força\, eventualmente\, após uma segunda fuga para Cava\, obteve permissão para entrar no mosteiro de Santa Sofia em Benevento\, onde ele recebeu o nome de Desidério.
URL:https://gratiaplena.online/event/dia-de-beato-vitor-iii/2027-09-16/
CATEGORIES:Santo do Dia
ATTACH;FMTTYPE=image/jpeg:https://gratiaplena.online/wp-content/uploads/2024/02/Beato-Victor-III-2.jpeg
END:VEVENT
BEGIN:VEVENT
DTSTART;VALUE=DATE:20280916
DTEND;VALUE=DATE:20280917
DTSTAMP:20260423T170012
CREATED:20240216T172552Z
LAST-MODIFIED:20240828T123206Z
UID:10001361-1852675200-1852761599@gratiaplena.online
SUMMARY:Dia de Beato Vítor III
DESCRIPTION:Celebramos hoje (16 Set) a festa de Beato Vítor III. Nascido em 1026 ou 1027 em um ramo não reinante dos duques lombardos de Benevento; morreu em Roma\, em 16 de setembro de 1087. Sendo filho único\, seu desejo de abraçar o estado monástico foi fortemente combatido por seus pais. Após a morte de seu pai na batalha contra os normandos\, em 1047\, ele fugiu do casamento que lhe havia sido arranjado e\, embora trazido de volta à força\, eventualmente\, após uma segunda fuga para Cava\, obteve permissão para entrar no mosteiro de Santa Sofia em Benevento\, onde ele recebeu o nome de Desidério.
URL:https://gratiaplena.online/event/dia-de-beato-vitor-iii/2028-09-16/
CATEGORIES:Santo do Dia
ATTACH;FMTTYPE=image/jpeg:https://gratiaplena.online/wp-content/uploads/2024/02/Beato-Victor-III-2.jpeg
END:VEVENT
END:VCALENDAR