BEGIN:VCALENDAR
VERSION:2.0
PRODID:-//GratiaPlena - ECPv6.15.20//NONSGML v1.0//EN
CALSCALE:GREGORIAN
METHOD:PUBLISH
X-WR-CALNAME:GratiaPlena
X-ORIGINAL-URL:https://gratiaplena.online
X-WR-CALDESC:Eventos para GratiaPlena
REFRESH-INTERVAL;VALUE=DURATION:PT1H
X-Robots-Tag:noindex
X-PUBLISHED-TTL:PT1H
BEGIN:VTIMEZONE
TZID:America/Sao_Paulo
BEGIN:STANDARD
TZOFFSETFROM:-0300
TZOFFSETTO:-0300
TZNAME:-03
DTSTART:20250101T000000
END:STANDARD
END:VTIMEZONE
BEGIN:VEVENT
DTSTART;VALUE=DATE:20260902
DTEND;VALUE=DATE:20260903
DTSTAMP:20260423T185043
CREATED:20230902T090002Z
LAST-MODIFIED:20240926T202557Z
UID:10001941-1788307200-1788393599@gratiaplena.online
SUMMARY:Dia de São Zenão\, mártir da Nicomédia
DESCRIPTION:São Zeno\, pai\, e seus dois filhos\, Concórdio e Teodoro\, foram alvos do último imperador romano\, declaradamente pagão\, Juliano o Apóstata\, que quis interromper seu caminho para o cristianismo. O martírio deles\, entre história e lenda\, foi narrado por uma antiga passio latina. Leia mais….
URL:https://gratiaplena.online/event/dia-de-sao-zenao-martir-da-nicomedia/2026-09-02/
CATEGORIES:Santo do Dia
ATTACH;FMTTYPE=image/jpeg:https://gratiaplena.online/wp-content/uploads/2023/09/Sao-Zenao-da-Nicomedia2.jpg
ORGANIZER;CN="Administrador":MAILTO:epzanette@gmail.com
END:VEVENT
BEGIN:VEVENT
DTSTART;VALUE=DATE:20270902
DTEND;VALUE=DATE:20270903
DTSTAMP:20260423T185043
CREATED:20230902T090002Z
LAST-MODIFIED:20240926T202557Z
UID:10001942-1819843200-1819929599@gratiaplena.online
SUMMARY:Dia de São Zenão\, mártir da Nicomédia
DESCRIPTION:São Zeno\, pai\, e seus dois filhos\, Concórdio e Teodoro\, foram alvos do último imperador romano\, declaradamente pagão\, Juliano o Apóstata\, que quis interromper seu caminho para o cristianismo. O martírio deles\, entre história e lenda\, foi narrado por uma antiga passio latina. Leia mais….
URL:https://gratiaplena.online/event/dia-de-sao-zenao-martir-da-nicomedia/2027-09-02/
CATEGORIES:Santo do Dia
ATTACH;FMTTYPE=image/jpeg:https://gratiaplena.online/wp-content/uploads/2023/09/Sao-Zenao-da-Nicomedia2.jpg
ORGANIZER;CN="Administrador":MAILTO:epzanette@gmail.com
END:VEVENT
BEGIN:VEVENT
DTSTART;VALUE=DATE:20280902
DTEND;VALUE=DATE:20280903
DTSTAMP:20260423T185043
CREATED:20230902T090002Z
LAST-MODIFIED:20240926T202557Z
UID:10001943-1851465600-1851551999@gratiaplena.online
SUMMARY:Dia de São Zenão\, mártir da Nicomédia
DESCRIPTION:São Zeno\, pai\, e seus dois filhos\, Concórdio e Teodoro\, foram alvos do último imperador romano\, declaradamente pagão\, Juliano o Apóstata\, que quis interromper seu caminho para o cristianismo. O martírio deles\, entre história e lenda\, foi narrado por uma antiga passio latina. Leia mais….
URL:https://gratiaplena.online/event/dia-de-sao-zenao-martir-da-nicomedia/2028-09-02/
CATEGORIES:Santo do Dia
ATTACH;FMTTYPE=image/jpeg:https://gratiaplena.online/wp-content/uploads/2023/09/Sao-Zenao-da-Nicomedia2.jpg
ORGANIZER;CN="Administrador":MAILTO:epzanette@gmail.com
END:VEVENT
BEGIN:VEVENT
DTSTART;VALUE=DATE:20290902
DTEND;VALUE=DATE:20290903
DTSTAMP:20260423T185043
CREATED:20230902T090002Z
LAST-MODIFIED:20240926T202557Z
UID:10001944-1883001600-1883087999@gratiaplena.online
SUMMARY:Dia de São Zenão\, mártir da Nicomédia
DESCRIPTION:São Zeno\, pai\, e seus dois filhos\, Concórdio e Teodoro\, foram alvos do último imperador romano\, declaradamente pagão\, Juliano o Apóstata\, que quis interromper seu caminho para o cristianismo. O martírio deles\, entre história e lenda\, foi narrado por uma antiga passio latina. Leia mais….
URL:https://gratiaplena.online/event/dia-de-sao-zenao-martir-da-nicomedia/2029-09-02/
CATEGORIES:Santo do Dia
ATTACH;FMTTYPE=image/jpeg:https://gratiaplena.online/wp-content/uploads/2023/09/Sao-Zenao-da-Nicomedia2.jpg
ORGANIZER;CN="Administrador":MAILTO:epzanette@gmail.com
END:VEVENT
END:VCALENDAR