BEGIN:VCALENDAR
VERSION:2.0
PRODID:-//GratiaPlena - ECPv6.15.20//NONSGML v1.0//EN
CALSCALE:GREGORIAN
METHOD:PUBLISH
X-WR-CALNAME:GratiaPlena
X-ORIGINAL-URL:https://gratiaplena.online
X-WR-CALDESC:Eventos para GratiaPlena
REFRESH-INTERVAL;VALUE=DURATION:PT1H
X-Robots-Tag:noindex
X-PUBLISHED-TTL:PT1H
BEGIN:VTIMEZONE
TZID:America/Sao_Paulo
BEGIN:STANDARD
TZOFFSETFROM:-0300
TZOFFSETTO:-0300
TZNAME:-03
DTSTART:20250101T000000
END:STANDARD
END:VTIMEZONE
BEGIN:VEVENT
DTSTART;VALUE=DATE:20260711
DTEND;VALUE=DATE:20260712
DTSTAMP:20260423T165516
CREATED:20240209T141945Z
LAST-MODIFIED:20240209T141945Z
UID:10001266-1783728000-1783814399@gratiaplena.online
SUMMARY:Dia de São Pio I
DESCRIPTION:Celebramos hoje (11 Jul) a memória de Papa São Pio I\, o criador da tradição da celebração da Páscoa aos domingos\, enfrentou problemas de cunho religioso com os judeus convertidos e com os hereges de seu tempo. O seu pontificado foi marcado por questões envolvendo judeus convertidos e com heresiarcas como os gnósticos Valentim\, Cerdão e Marcião\, criador dos marcionismo.
URL:https://gratiaplena.online/event/dia-de-sao-pio-i/2026-07-11/
CATEGORIES:Santo do Dia
ATTACH;FMTTYPE=image/jpeg:https://gratiaplena.online/wp-content/uploads/2024/02/Papa-Pio-I.jpeg
ORGANIZER;CN="Administrador":MAILTO:epzanette@gmail.com
END:VEVENT
BEGIN:VEVENT
DTSTART;VALUE=DATE:20270711
DTEND;VALUE=DATE:20270712
DTSTAMP:20260423T165516
CREATED:20240209T141945Z
LAST-MODIFIED:20240209T141945Z
UID:10001267-1815264000-1815350399@gratiaplena.online
SUMMARY:Dia de São Pio I
DESCRIPTION:Celebramos hoje (11 Jul) a memória de Papa São Pio I\, o criador da tradição da celebração da Páscoa aos domingos\, enfrentou problemas de cunho religioso com os judeus convertidos e com os hereges de seu tempo. O seu pontificado foi marcado por questões envolvendo judeus convertidos e com heresiarcas como os gnósticos Valentim\, Cerdão e Marcião\, criador dos marcionismo.
URL:https://gratiaplena.online/event/dia-de-sao-pio-i/2027-07-11/
CATEGORIES:Santo do Dia
ATTACH;FMTTYPE=image/jpeg:https://gratiaplena.online/wp-content/uploads/2024/02/Papa-Pio-I.jpeg
ORGANIZER;CN="Administrador":MAILTO:epzanette@gmail.com
END:VEVENT
BEGIN:VEVENT
DTSTART;VALUE=DATE:20280711
DTEND;VALUE=DATE:20280712
DTSTAMP:20260423T165516
CREATED:20240209T141945Z
LAST-MODIFIED:20240209T141945Z
UID:10001268-1846886400-1846972799@gratiaplena.online
SUMMARY:Dia de São Pio I
DESCRIPTION:Celebramos hoje (11 Jul) a memória de Papa São Pio I\, o criador da tradição da celebração da Páscoa aos domingos\, enfrentou problemas de cunho religioso com os judeus convertidos e com os hereges de seu tempo. O seu pontificado foi marcado por questões envolvendo judeus convertidos e com heresiarcas como os gnósticos Valentim\, Cerdão e Marcião\, criador dos marcionismo.
URL:https://gratiaplena.online/event/dia-de-sao-pio-i/2028-07-11/
CATEGORIES:Santo do Dia
ATTACH;FMTTYPE=image/jpeg:https://gratiaplena.online/wp-content/uploads/2024/02/Papa-Pio-I.jpeg
ORGANIZER;CN="Administrador":MAILTO:epzanette@gmail.com
END:VEVENT
END:VCALENDAR