BEGIN:VCALENDAR
VERSION:2.0
PRODID:-//GratiaPlena - ECPv6.15.20//NONSGML v1.0//EN
CALSCALE:GREGORIAN
METHOD:PUBLISH
X-WR-CALNAME:GratiaPlena
X-ORIGINAL-URL:https://gratiaplena.online
X-WR-CALDESC:Eventos para GratiaPlena
REFRESH-INTERVAL;VALUE=DURATION:PT1H
X-Robots-Tag:noindex
X-PUBLISHED-TTL:PT1H
BEGIN:VTIMEZONE
TZID:America/Sao_Paulo
BEGIN:STANDARD
TZOFFSETFROM:-0300
TZOFFSETTO:-0300
TZNAME:-03
DTSTART:20250101T000000
END:STANDARD
END:VTIMEZONE
BEGIN:VEVENT
DTSTART;VALUE=DATE:20261201
DTEND;VALUE=DATE:20261202
DTSTAMP:20260423T152535
CREATED:20240107T154357Z
LAST-MODIFIED:20240828T143045Z
UID:10001176-1796083200-1796169599@gratiaplena.online
SUMMARY:Dia de São Naum
DESCRIPTION:Celebramos dia (1 Dez) a festa de São Naum\, Profeta. A profecia de Naum antecipa a queda de Nínive. O profeta fala sobre a queda da cidade com uma clareza e uma intimidade possíveis somente se tal acontecimento estivesse quase imediato. Isso data a profecia de Naum como pouco antes da queda daquela cidade\, em 612 a.C. O profeta também menciona o saque de Nó-Amom (3.8)\, como fato consumado. Essa cidade foi pilhada pelo rei Assurbanipal\, da Assíria\, cerca de 670 a.C. Esta profecia\, por conseguinte\, pode ser datada entre esses dois eventos. Leia mais….
URL:https://gratiaplena.online/event/dia-de-santo-naum/2026-12-01/
CATEGORIES:Santo do Dia
ATTACH;FMTTYPE=image/jpeg:https://gratiaplena.online/wp-content/uploads/2024/01/Profeta-Naum.jpg
ORGANIZER;CN="Administrador":MAILTO:epzanette@gmail.com
END:VEVENT
BEGIN:VEVENT
DTSTART;VALUE=DATE:20271201
DTEND;VALUE=DATE:20271202
DTSTAMP:20260423T152535
CREATED:20240107T154357Z
LAST-MODIFIED:20240828T143045Z
UID:10001177-1827619200-1827705599@gratiaplena.online
SUMMARY:Dia de São Naum
DESCRIPTION:Celebramos dia (1 Dez) a festa de São Naum\, Profeta. A profecia de Naum antecipa a queda de Nínive. O profeta fala sobre a queda da cidade com uma clareza e uma intimidade possíveis somente se tal acontecimento estivesse quase imediato. Isso data a profecia de Naum como pouco antes da queda daquela cidade\, em 612 a.C. O profeta também menciona o saque de Nó-Amom (3.8)\, como fato consumado. Essa cidade foi pilhada pelo rei Assurbanipal\, da Assíria\, cerca de 670 a.C. Esta profecia\, por conseguinte\, pode ser datada entre esses dois eventos. Leia mais….
URL:https://gratiaplena.online/event/dia-de-santo-naum/2027-12-01/
CATEGORIES:Santo do Dia
ATTACH;FMTTYPE=image/jpeg:https://gratiaplena.online/wp-content/uploads/2024/01/Profeta-Naum.jpg
ORGANIZER;CN="Administrador":MAILTO:epzanette@gmail.com
END:VEVENT
BEGIN:VEVENT
DTSTART;VALUE=DATE:20281201
DTEND;VALUE=DATE:20281202
DTSTAMP:20260423T152535
CREATED:20240107T154357Z
LAST-MODIFIED:20240828T143045Z
UID:10001178-1859241600-1859327999@gratiaplena.online
SUMMARY:Dia de São Naum
DESCRIPTION:Celebramos dia (1 Dez) a festa de São Naum\, Profeta. A profecia de Naum antecipa a queda de Nínive. O profeta fala sobre a queda da cidade com uma clareza e uma intimidade possíveis somente se tal acontecimento estivesse quase imediato. Isso data a profecia de Naum como pouco antes da queda daquela cidade\, em 612 a.C. O profeta também menciona o saque de Nó-Amom (3.8)\, como fato consumado. Essa cidade foi pilhada pelo rei Assurbanipal\, da Assíria\, cerca de 670 a.C. Esta profecia\, por conseguinte\, pode ser datada entre esses dois eventos. Leia mais….
URL:https://gratiaplena.online/event/dia-de-santo-naum/2028-12-01/
CATEGORIES:Santo do Dia
ATTACH;FMTTYPE=image/jpeg:https://gratiaplena.online/wp-content/uploads/2024/01/Profeta-Naum.jpg
ORGANIZER;CN="Administrador":MAILTO:epzanette@gmail.com
END:VEVENT
END:VCALENDAR