BEGIN:VCALENDAR
VERSION:2.0
PRODID:-//GratiaPlena - ECPv6.15.20//NONSGML v1.0//EN
CALSCALE:GREGORIAN
METHOD:PUBLISH
X-WR-CALNAME:GratiaPlena
X-ORIGINAL-URL:https://gratiaplena.online
X-WR-CALDESC:Eventos para GratiaPlena
REFRESH-INTERVAL;VALUE=DURATION:PT1H
X-Robots-Tag:noindex
X-PUBLISHED-TTL:PT1H
BEGIN:VTIMEZONE
TZID:America/Sao_Paulo
BEGIN:STANDARD
TZOFFSETFROM:-0300
TZOFFSETTO:-0300
TZNAME:-03
DTSTART:20250101T000000
END:STANDARD
END:VTIMEZONE
BEGIN:VEVENT
DTSTART;VALUE=DATE:20261110
DTEND;VALUE=DATE:20261111
DTSTAMP:20260423T171622
CREATED:20240121T231744Z
LAST-MODIFIED:20240121T231744Z
UID:10001119-1794268800-1794355199@gratiaplena.online
SUMMARY:Dia de São Leão Magno
DESCRIPTION:Celebramos hoje (10 Nov) a memória do Papa São Leão I Magno. S. Leão I\, chamado Magno\, esteve à frente do governo visível da Igreja num momento mais do que delicado\, em que\, de uma lado\, invasões bárbaras de um Átila punham em perigo a cristandade e\, de outro\, heresias cristológicas de um Eutiques ameaçavam a pureza da fé católica e ortodoxa.
URL:https://gratiaplena.online/event/dia-de-sao-leao-magno/2026-11-10/
CATEGORIES:Santo do Dia
ATTACH;FMTTYPE=image/jpeg:https://gratiaplena.online/wp-content/uploads/2024/01/Sao-Leao-Magno2.jpeg
ORGANIZER;CN="Administrador":MAILTO:epzanette@gmail.com
END:VEVENT
BEGIN:VEVENT
DTSTART;VALUE=DATE:20271110
DTEND;VALUE=DATE:20271111
DTSTAMP:20260423T171622
CREATED:20240121T231744Z
LAST-MODIFIED:20240121T231744Z
UID:10001120-1825804800-1825891199@gratiaplena.online
SUMMARY:Dia de São Leão Magno
DESCRIPTION:Celebramos hoje (10 Nov) a memória do Papa São Leão I Magno. S. Leão I\, chamado Magno\, esteve à frente do governo visível da Igreja num momento mais do que delicado\, em que\, de uma lado\, invasões bárbaras de um Átila punham em perigo a cristandade e\, de outro\, heresias cristológicas de um Eutiques ameaçavam a pureza da fé católica e ortodoxa.
URL:https://gratiaplena.online/event/dia-de-sao-leao-magno/2027-11-10/
CATEGORIES:Santo do Dia
ATTACH;FMTTYPE=image/jpeg:https://gratiaplena.online/wp-content/uploads/2024/01/Sao-Leao-Magno2.jpeg
ORGANIZER;CN="Administrador":MAILTO:epzanette@gmail.com
END:VEVENT
BEGIN:VEVENT
DTSTART;VALUE=DATE:20281110
DTEND;VALUE=DATE:20281111
DTSTAMP:20260423T171622
CREATED:20240121T231744Z
LAST-MODIFIED:20240121T231744Z
UID:10001121-1857427200-1857513599@gratiaplena.online
SUMMARY:Dia de São Leão Magno
DESCRIPTION:Celebramos hoje (10 Nov) a memória do Papa São Leão I Magno. S. Leão I\, chamado Magno\, esteve à frente do governo visível da Igreja num momento mais do que delicado\, em que\, de uma lado\, invasões bárbaras de um Átila punham em perigo a cristandade e\, de outro\, heresias cristológicas de um Eutiques ameaçavam a pureza da fé católica e ortodoxa.
URL:https://gratiaplena.online/event/dia-de-sao-leao-magno/2028-11-10/
CATEGORIES:Santo do Dia
ATTACH;FMTTYPE=image/jpeg:https://gratiaplena.online/wp-content/uploads/2024/01/Sao-Leao-Magno2.jpeg
ORGANIZER;CN="Administrador":MAILTO:epzanette@gmail.com
END:VEVENT
END:VCALENDAR