BEGIN:VCALENDAR
VERSION:2.0
PRODID:-//GratiaPlena - ECPv6.15.20//NONSGML v1.0//EN
CALSCALE:GREGORIAN
METHOD:PUBLISH
X-WR-CALNAME:GratiaPlena
X-ORIGINAL-URL:https://gratiaplena.online
X-WR-CALDESC:Eventos para GratiaPlena
REFRESH-INTERVAL;VALUE=DURATION:PT1H
X-Robots-Tag:noindex
X-PUBLISHED-TTL:PT1H
BEGIN:VTIMEZONE
TZID:America/Sao_Paulo
BEGIN:STANDARD
TZOFFSETFROM:-0300
TZOFFSETTO:-0300
TZNAME:-03
DTSTART:20250101T000000
END:STANDARD
END:VTIMEZONE
BEGIN:VEVENT
DTSTART;VALUE=DATE:20260628
DTEND;VALUE=DATE:20260629
DTSTAMP:20260423T165627
CREATED:20240113T221609Z
LAST-MODIFIED:20240113T221609Z
UID:10001065-1782604800-1782691199@gratiaplena.online
SUMMARY:Dia de Santo Irineu de Lyon
DESCRIPTION:Celebramos hoje (28 Jun) a memória de Santo Ireneu de Lião\, bispo e mártir que empreendeu seus melhores esforços para defender a fé católica e derramou o próprio sangue\, em coroamento de seus inúmeros trabalhos\, por amor ao Nome de Cristo. É dele a conhecida obra Adversus Hæreses\, um conjunto de escritos dedicados a combater as heresias que rondavam os primeiros cristãos e\, deste modo\, guardar intacta a fé ortodoxa\, transmitida pelos Apóstolos
URL:https://gratiaplena.online/event/dia-de-santo-irineu-de-lyon/2026-06-28/
CATEGORIES:Santo do Dia
ATTACH;FMTTYPE=image/jpeg:https://gratiaplena.online/wp-content/uploads/2024/01/Santo-Irineu-de-Lyon2.jpg
ORGANIZER;CN="Administrador":MAILTO:epzanette@gmail.com
END:VEVENT
BEGIN:VEVENT
DTSTART;VALUE=DATE:20270628
DTEND;VALUE=DATE:20270629
DTSTAMP:20260423T165627
CREATED:20240113T221609Z
LAST-MODIFIED:20240113T221609Z
UID:10001066-1814140800-1814227199@gratiaplena.online
SUMMARY:Dia de Santo Irineu de Lyon
DESCRIPTION:Celebramos hoje (28 Jun) a memória de Santo Ireneu de Lião\, bispo e mártir que empreendeu seus melhores esforços para defender a fé católica e derramou o próprio sangue\, em coroamento de seus inúmeros trabalhos\, por amor ao Nome de Cristo. É dele a conhecida obra Adversus Hæreses\, um conjunto de escritos dedicados a combater as heresias que rondavam os primeiros cristãos e\, deste modo\, guardar intacta a fé ortodoxa\, transmitida pelos Apóstolos
URL:https://gratiaplena.online/event/dia-de-santo-irineu-de-lyon/2027-06-28/
CATEGORIES:Santo do Dia
ATTACH;FMTTYPE=image/jpeg:https://gratiaplena.online/wp-content/uploads/2024/01/Santo-Irineu-de-Lyon2.jpg
ORGANIZER;CN="Administrador":MAILTO:epzanette@gmail.com
END:VEVENT
BEGIN:VEVENT
DTSTART;VALUE=DATE:20280628
DTEND;VALUE=DATE:20280629
DTSTAMP:20260423T165627
CREATED:20240113T221609Z
LAST-MODIFIED:20240113T221609Z
UID:10001067-1845763200-1845849599@gratiaplena.online
SUMMARY:Dia de Santo Irineu de Lyon
DESCRIPTION:Celebramos hoje (28 Jun) a memória de Santo Ireneu de Lião\, bispo e mártir que empreendeu seus melhores esforços para defender a fé católica e derramou o próprio sangue\, em coroamento de seus inúmeros trabalhos\, por amor ao Nome de Cristo. É dele a conhecida obra Adversus Hæreses\, um conjunto de escritos dedicados a combater as heresias que rondavam os primeiros cristãos e\, deste modo\, guardar intacta a fé ortodoxa\, transmitida pelos Apóstolos
URL:https://gratiaplena.online/event/dia-de-santo-irineu-de-lyon/2028-06-28/
CATEGORIES:Santo do Dia
ATTACH;FMTTYPE=image/jpeg:https://gratiaplena.online/wp-content/uploads/2024/01/Santo-Irineu-de-Lyon2.jpg
ORGANIZER;CN="Administrador":MAILTO:epzanette@gmail.com
END:VEVENT
END:VCALENDAR