BEGIN:VCALENDAR
VERSION:2.0
PRODID:-//GratiaPlena - ECPv6.15.20//NONSGML v1.0//EN
CALSCALE:GREGORIAN
METHOD:PUBLISH
X-WR-CALNAME:GratiaPlena
X-ORIGINAL-URL:https://gratiaplena.online
X-WR-CALDESC:Eventos para GratiaPlena
REFRESH-INTERVAL;VALUE=DURATION:PT1H
X-Robots-Tag:noindex
X-PUBLISHED-TTL:PT1H
BEGIN:VTIMEZONE
TZID:America/Sao_Paulo
BEGIN:STANDARD
TZOFFSETFROM:-0300
TZOFFSETTO:-0300
TZNAME:-03
DTSTART:20250101T000000
END:STANDARD
END:VTIMEZONE
BEGIN:VEVENT
DTSTART;VALUE=DATE:20260913
DTEND;VALUE=DATE:20260914
DTSTAMP:20260423T171614
CREATED:20240111T205759Z
LAST-MODIFIED:20240111T205759Z
UID:10001053-1789257600-1789343999@gratiaplena.online
SUMMARY:Dia de São João Crisóstomo
DESCRIPTION:A Igreja celebra hoje (13 Set) a memória de S. João Crisóstomo. São João Crisóstomo nasceu por volta de 347 em Antioquia\, Síria\, e morreu em 407 em Comana Pôntica\, Ponto. Crisóstomo\, que significa “da boca de ouro” em grego\, é considerado o maior orador cristão da história. Conhecido pelas suas inspiradas homilias\, pela sua ímpar oratória e pela acutilante denúncia dos abusos de poder na sua época\, o santo foi proclamado Doutor da Igreja. Junto com Basílio\, o Grande e Gregório Nazianzeno\, João Crisóstomo forma os Três Grandes Hierarcas.
URL:https://gratiaplena.online/event/dia-de-sao-joao-crisostomo/2026-09-13/
CATEGORIES:Santo do Dia
ATTACH;FMTTYPE=image/webp:https://gratiaplena.online/wp-content/uploads/2024/01/Sao-Joao-Crisostomo2.webp
ORGANIZER;CN="Administrador":MAILTO:epzanette@gmail.com
END:VEVENT
BEGIN:VEVENT
DTSTART;VALUE=DATE:20270913
DTEND;VALUE=DATE:20270914
DTSTAMP:20260423T171614
CREATED:20240111T205759Z
LAST-MODIFIED:20240111T205759Z
UID:10001054-1820793600-1820879999@gratiaplena.online
SUMMARY:Dia de São João Crisóstomo
DESCRIPTION:A Igreja celebra hoje (13 Set) a memória de S. João Crisóstomo. São João Crisóstomo nasceu por volta de 347 em Antioquia\, Síria\, e morreu em 407 em Comana Pôntica\, Ponto. Crisóstomo\, que significa “da boca de ouro” em grego\, é considerado o maior orador cristão da história. Conhecido pelas suas inspiradas homilias\, pela sua ímpar oratória e pela acutilante denúncia dos abusos de poder na sua época\, o santo foi proclamado Doutor da Igreja. Junto com Basílio\, o Grande e Gregório Nazianzeno\, João Crisóstomo forma os Três Grandes Hierarcas.
URL:https://gratiaplena.online/event/dia-de-sao-joao-crisostomo/2027-09-13/
CATEGORIES:Santo do Dia
ATTACH;FMTTYPE=image/webp:https://gratiaplena.online/wp-content/uploads/2024/01/Sao-Joao-Crisostomo2.webp
ORGANIZER;CN="Administrador":MAILTO:epzanette@gmail.com
END:VEVENT
BEGIN:VEVENT
DTSTART;VALUE=DATE:20280913
DTEND;VALUE=DATE:20280914
DTSTAMP:20260423T171614
CREATED:20240111T205759Z
LAST-MODIFIED:20240111T205759Z
UID:10001055-1852416000-1852502399@gratiaplena.online
SUMMARY:Dia de São João Crisóstomo
DESCRIPTION:A Igreja celebra hoje (13 Set) a memória de S. João Crisóstomo. São João Crisóstomo nasceu por volta de 347 em Antioquia\, Síria\, e morreu em 407 em Comana Pôntica\, Ponto. Crisóstomo\, que significa “da boca de ouro” em grego\, é considerado o maior orador cristão da história. Conhecido pelas suas inspiradas homilias\, pela sua ímpar oratória e pela acutilante denúncia dos abusos de poder na sua época\, o santo foi proclamado Doutor da Igreja. Junto com Basílio\, o Grande e Gregório Nazianzeno\, João Crisóstomo forma os Três Grandes Hierarcas.
URL:https://gratiaplena.online/event/dia-de-sao-joao-crisostomo/2028-09-13/
CATEGORIES:Santo do Dia
ATTACH;FMTTYPE=image/webp:https://gratiaplena.online/wp-content/uploads/2024/01/Sao-Joao-Crisostomo2.webp
ORGANIZER;CN="Administrador":MAILTO:epzanette@gmail.com
END:VEVENT
END:VCALENDAR