BEGIN:VCALENDAR
VERSION:2.0
PRODID:-//GratiaPlena - ECPv6.15.20//NONSGML v1.0//EN
CALSCALE:GREGORIAN
METHOD:PUBLISH
X-WR-CALNAME:GratiaPlena
X-ORIGINAL-URL:https://gratiaplena.online
X-WR-CALDESC:Eventos para GratiaPlena
REFRESH-INTERVAL;VALUE=DURATION:PT1H
X-Robots-Tag:noindex
X-PUBLISHED-TTL:PT1H
BEGIN:VTIMEZONE
TZID:America/Sao_Paulo
BEGIN:STANDARD
TZOFFSETFROM:-0300
TZOFFSETTO:-0300
TZNAME:-03
DTSTART:20250101T000000
END:STANDARD
END:VTIMEZONE
BEGIN:VEVENT
DTSTART;VALUE=DATE:20260930
DTEND;VALUE=DATE:20261001
DTSTAMP:20260423T171615
CREATED:20240111T000938Z
LAST-MODIFIED:20240828T125129Z
UID:10001041-1790726400-1790812799@gratiaplena.online
SUMMARY:Dia de São Jerônimo
DESCRIPTION:Celebramos  no dia (30 Set) a memória de São Jerônimo\, considerado um dos mais eruditos Padres da Igreja Ocidental. Foi o Santo que colocou toda a sua vasta erudição ao serviço da Sagrada Escritura.A Vulgata\, a primeira tradução completa da Bíblia para o latim\, representa o esforço mais exigente enfrentado por Jerônimo. Em 386 São Jerônimo se estabeleceu nas proximidades da Basílica da Natividade\, para dedicar-se ao estudo da Bíblia. A célebre versão latina\, que mais tarde se tornou oficial na Igreja do Ocidente\, foi de suma importância para a transmissão das Escrituras
URL:https://gratiaplena.online/event/dia-de-sao-jeronimo/2026-09-30/
CATEGORIES:Santo do Dia
ATTACH;FMTTYPE=image/jpeg:https://gratiaplena.online/wp-content/uploads/2024/01/Sao-Jeronimo2.jpg
ORGANIZER;CN="Administrador":MAILTO:epzanette@gmail.com
END:VEVENT
BEGIN:VEVENT
DTSTART;VALUE=DATE:20270930
DTEND;VALUE=DATE:20271001
DTSTAMP:20260423T171615
CREATED:20240111T000938Z
LAST-MODIFIED:20240828T125129Z
UID:10001042-1822262400-1822348799@gratiaplena.online
SUMMARY:Dia de São Jerônimo
DESCRIPTION:Celebramos  no dia (30 Set) a memória de São Jerônimo\, considerado um dos mais eruditos Padres da Igreja Ocidental. Foi o Santo que colocou toda a sua vasta erudição ao serviço da Sagrada Escritura.A Vulgata\, a primeira tradução completa da Bíblia para o latim\, representa o esforço mais exigente enfrentado por Jerônimo. Em 386 São Jerônimo se estabeleceu nas proximidades da Basílica da Natividade\, para dedicar-se ao estudo da Bíblia. A célebre versão latina\, que mais tarde se tornou oficial na Igreja do Ocidente\, foi de suma importância para a transmissão das Escrituras
URL:https://gratiaplena.online/event/dia-de-sao-jeronimo/2027-09-30/
CATEGORIES:Santo do Dia
ATTACH;FMTTYPE=image/jpeg:https://gratiaplena.online/wp-content/uploads/2024/01/Sao-Jeronimo2.jpg
ORGANIZER;CN="Administrador":MAILTO:epzanette@gmail.com
END:VEVENT
BEGIN:VEVENT
DTSTART;VALUE=DATE:20280930
DTEND;VALUE=DATE:20281001
DTSTAMP:20260423T171615
CREATED:20240111T000938Z
LAST-MODIFIED:20240828T125129Z
UID:10001043-1853884800-1853971199@gratiaplena.online
SUMMARY:Dia de São Jerônimo
DESCRIPTION:Celebramos  no dia (30 Set) a memória de São Jerônimo\, considerado um dos mais eruditos Padres da Igreja Ocidental. Foi o Santo que colocou toda a sua vasta erudição ao serviço da Sagrada Escritura.A Vulgata\, a primeira tradução completa da Bíblia para o latim\, representa o esforço mais exigente enfrentado por Jerônimo. Em 386 São Jerônimo se estabeleceu nas proximidades da Basílica da Natividade\, para dedicar-se ao estudo da Bíblia. A célebre versão latina\, que mais tarde se tornou oficial na Igreja do Ocidente\, foi de suma importância para a transmissão das Escrituras
URL:https://gratiaplena.online/event/dia-de-sao-jeronimo/2028-09-30/
CATEGORIES:Santo do Dia
ATTACH;FMTTYPE=image/jpeg:https://gratiaplena.online/wp-content/uploads/2024/01/Sao-Jeronimo2.jpg
ORGANIZER;CN="Administrador":MAILTO:epzanette@gmail.com
END:VEVENT
END:VCALENDAR