BEGIN:VCALENDAR
VERSION:2.0
PRODID:-//GratiaPlena - ECPv6.15.20//NONSGML v1.0//EN
CALSCALE:GREGORIAN
METHOD:PUBLISH
X-WR-CALNAME:GratiaPlena
X-ORIGINAL-URL:https://gratiaplena.online
X-WR-CALDESC:Eventos para GratiaPlena
REFRESH-INTERVAL;VALUE=DURATION:PT1H
X-Robots-Tag:noindex
X-PUBLISHED-TTL:PT1H
BEGIN:VTIMEZONE
TZID:America/Sao_Paulo
BEGIN:STANDARD
TZOFFSETFROM:-0300
TZOFFSETTO:-0300
TZNAME:-03
DTSTART:20250101T000000
END:STANDARD
END:VTIMEZONE
BEGIN:VEVENT
DTSTART;VALUE=DATE:20260623
DTEND;VALUE=DATE:20260624
DTSTAMP:20260423T153958
CREATED:20240105T161840Z
LAST-MODIFIED:20240719T181804Z
UID:10000986-1782172800-1782259199@gratiaplena.online
SUMMARY:Dia de São Zacarias e Santa Isabel
DESCRIPTION:Celebramos nesta data (23 Jun) a festa de São Zacaria e Santa Izabel\, São Zacarias e Santa Isabel são os pais de São João Batista. São Lucas descreve\, em seu evangelho\, que Zacarias pertencia à classe sacerdotal de Abias e Isabel era descendente de Aarão. Ambos eram de idade avançada e não tinham filhos\, pois Isabel era estéril. “Ambos eram justos diante de Deus e observavam irrepreensivelmente todos os mandamentos e preceitos do Senhor”\, é o que está escrito em no primeiro capítulo de Lucas sobre São Zacarias e Santa Isabel. Leia mais….
URL:https://gratiaplena.online/event/dia-de-sao-zacarias-e-santa-isabel/2026-06-23/
CATEGORIES:Santo do Dia
ATTACH;FMTTYPE=image/jpeg:https://gratiaplena.online/wp-content/uploads/2024/01/Sao-Zacarias-e-Santa-Isabel2.jpg
ORGANIZER;CN="Administrador":MAILTO:epzanette@gmail.com
END:VEVENT
BEGIN:VEVENT
DTSTART;VALUE=DATE:20270623
DTEND;VALUE=DATE:20270624
DTSTAMP:20260423T153958
CREATED:20240105T161840Z
LAST-MODIFIED:20240719T181804Z
UID:10000987-1813708800-1813795199@gratiaplena.online
SUMMARY:Dia de São Zacarias e Santa Isabel
DESCRIPTION:Celebramos nesta data (23 Jun) a festa de São Zacaria e Santa Izabel\, São Zacarias e Santa Isabel são os pais de São João Batista. São Lucas descreve\, em seu evangelho\, que Zacarias pertencia à classe sacerdotal de Abias e Isabel era descendente de Aarão. Ambos eram de idade avançada e não tinham filhos\, pois Isabel era estéril. “Ambos eram justos diante de Deus e observavam irrepreensivelmente todos os mandamentos e preceitos do Senhor”\, é o que está escrito em no primeiro capítulo de Lucas sobre São Zacarias e Santa Isabel. Leia mais….
URL:https://gratiaplena.online/event/dia-de-sao-zacarias-e-santa-isabel/2027-06-23/
CATEGORIES:Santo do Dia
ATTACH;FMTTYPE=image/jpeg:https://gratiaplena.online/wp-content/uploads/2024/01/Sao-Zacarias-e-Santa-Isabel2.jpg
ORGANIZER;CN="Administrador":MAILTO:epzanette@gmail.com
END:VEVENT
BEGIN:VEVENT
DTSTART;VALUE=DATE:20280623
DTEND;VALUE=DATE:20280624
DTSTAMP:20260423T153958
CREATED:20240105T161840Z
LAST-MODIFIED:20240719T181804Z
UID:10000988-1845331200-1845417599@gratiaplena.online
SUMMARY:Dia de São Zacarias e Santa Isabel
DESCRIPTION:Celebramos nesta data (23 Jun) a festa de São Zacaria e Santa Izabel\, São Zacarias e Santa Isabel são os pais de São João Batista. São Lucas descreve\, em seu evangelho\, que Zacarias pertencia à classe sacerdotal de Abias e Isabel era descendente de Aarão. Ambos eram de idade avançada e não tinham filhos\, pois Isabel era estéril. “Ambos eram justos diante de Deus e observavam irrepreensivelmente todos os mandamentos e preceitos do Senhor”\, é o que está escrito em no primeiro capítulo de Lucas sobre São Zacarias e Santa Isabel. Leia mais….
URL:https://gratiaplena.online/event/dia-de-sao-zacarias-e-santa-isabel/2028-06-23/
CATEGORIES:Santo do Dia
ATTACH;FMTTYPE=image/jpeg:https://gratiaplena.online/wp-content/uploads/2024/01/Sao-Zacarias-e-Santa-Isabel2.jpg
ORGANIZER;CN="Administrador":MAILTO:epzanette@gmail.com
END:VEVENT
BEGIN:VEVENT
DTSTART;VALUE=DATE:20290623
DTEND;VALUE=DATE:20290624
DTSTAMP:20260423T153958
CREATED:20240105T161840Z
LAST-MODIFIED:20240719T181804Z
UID:10001825-1876867200-1876953599@gratiaplena.online
SUMMARY:Dia de São Zacarias e Santa Isabel
DESCRIPTION:Celebramos nesta data (23 Jun) a festa de São Zacaria e Santa Izabel\, São Zacarias e Santa Isabel são os pais de São João Batista. São Lucas descreve\, em seu evangelho\, que Zacarias pertencia à classe sacerdotal de Abias e Isabel era descendente de Aarão. Ambos eram de idade avançada e não tinham filhos\, pois Isabel era estéril. “Ambos eram justos diante de Deus e observavam irrepreensivelmente todos os mandamentos e preceitos do Senhor”\, é o que está escrito em no primeiro capítulo de Lucas sobre São Zacarias e Santa Isabel. Leia mais….
URL:https://gratiaplena.online/event/dia-de-sao-zacarias-e-santa-isabel/2029-06-23/
CATEGORIES:Santo do Dia
ATTACH;FMTTYPE=image/jpeg:https://gratiaplena.online/wp-content/uploads/2024/01/Sao-Zacarias-e-Santa-Isabel2.jpg
ORGANIZER;CN="Administrador":MAILTO:epzanette@gmail.com
END:VEVENT
END:VCALENDAR