BEGIN:VCALENDAR
VERSION:2.0
PRODID:-//GratiaPlena - ECPv6.15.20//NONSGML v1.0//EN
CALSCALE:GREGORIAN
METHOD:PUBLISH
X-WR-CALNAME:GratiaPlena
X-ORIGINAL-URL:https://gratiaplena.online
X-WR-CALDESC:Eventos para GratiaPlena
REFRESH-INTERVAL;VALUE=DURATION:PT1H
X-Robots-Tag:noindex
X-PUBLISHED-TTL:PT1H
BEGIN:VTIMEZONE
TZID:America/Sao_Paulo
BEGIN:STANDARD
TZOFFSETFROM:-0300
TZOFFSETTO:-0300
TZNAME:-03
DTSTART:20250101T000000
END:STANDARD
END:VTIMEZONE
BEGIN:VEVENT
DTSTART;VALUE=DATE:20260906
DTEND;VALUE=DATE:20260907
DTSTAMP:20260423T152633
CREATED:20240105T145043Z
LAST-MODIFIED:20240719T174303Z
UID:10000980-1788652800-1788739199@gratiaplena.online
SUMMARY:Dia de São Zacarias
DESCRIPTION:Celebramos hoje (6 Set) a festa do São Zacarias. Um profeta de Judá\, o décimo primeiro dos doze profetas menores. Como Ezequiel\, ele era de origem sacerdotal. Ele se descreve Zacarias como “o filho de Berequias”. É chamado de “filho de Ido”\, que era propriamente seu avô. Sua carreira profética começou no segundo ano de Dario (520 a.C.)\, cerca de dezesseis anos após o retorno do primeiro grupo do exílio. Ele era contemporâneo de Ageu\, outro profeta. NO oitavo mês do segundo ano de Dario veio a palavra do Senhor ao profeta Zacarias\, filho de Baraquias\, filho de Ido\, dizendo: O Senhor se irou fortemente contra vossos pais. Portanto dize-lhes: Assim diz o Senhor dos Exércitos: Tornai-vos para mim\, diz o Senhor dos Exércitos\, e eu me tornarei para vós\, diz o Senhor dos Exércitos.Leia mais….
URL:https://gratiaplena.online/event/dia-de-santo-zacarias/2026-09-06/
CATEGORIES:Santo do Dia
ATTACH;FMTTYPE=image/jpeg:https://gratiaplena.online/wp-content/uploads/2024/01/Sao-Zacarias-2.jpg
ORGANIZER;CN="Administrador":MAILTO:epzanette@gmail.com
END:VEVENT
BEGIN:VEVENT
DTSTART;VALUE=DATE:20270906
DTEND;VALUE=DATE:20270907
DTSTAMP:20260423T152633
CREATED:20240105T145043Z
LAST-MODIFIED:20240719T174303Z
UID:10000981-1820188800-1820275199@gratiaplena.online
SUMMARY:Dia de São Zacarias
DESCRIPTION:Celebramos hoje (6 Set) a festa do São Zacarias. Um profeta de Judá\, o décimo primeiro dos doze profetas menores. Como Ezequiel\, ele era de origem sacerdotal. Ele se descreve Zacarias como “o filho de Berequias”. É chamado de “filho de Ido”\, que era propriamente seu avô. Sua carreira profética começou no segundo ano de Dario (520 a.C.)\, cerca de dezesseis anos após o retorno do primeiro grupo do exílio. Ele era contemporâneo de Ageu\, outro profeta. NO oitavo mês do segundo ano de Dario veio a palavra do Senhor ao profeta Zacarias\, filho de Baraquias\, filho de Ido\, dizendo: O Senhor se irou fortemente contra vossos pais. Portanto dize-lhes: Assim diz o Senhor dos Exércitos: Tornai-vos para mim\, diz o Senhor dos Exércitos\, e eu me tornarei para vós\, diz o Senhor dos Exércitos.Leia mais….
URL:https://gratiaplena.online/event/dia-de-santo-zacarias/2027-09-06/
CATEGORIES:Santo do Dia
ATTACH;FMTTYPE=image/jpeg:https://gratiaplena.online/wp-content/uploads/2024/01/Sao-Zacarias-2.jpg
ORGANIZER;CN="Administrador":MAILTO:epzanette@gmail.com
END:VEVENT
BEGIN:VEVENT
DTSTART;VALUE=DATE:20280906
DTEND;VALUE=DATE:20280907
DTSTAMP:20260423T152633
CREATED:20240105T145043Z
LAST-MODIFIED:20240719T174303Z
UID:10000982-1851811200-1851897599@gratiaplena.online
SUMMARY:Dia de São Zacarias
DESCRIPTION:Celebramos hoje (6 Set) a festa do São Zacarias. Um profeta de Judá\, o décimo primeiro dos doze profetas menores. Como Ezequiel\, ele era de origem sacerdotal. Ele se descreve Zacarias como “o filho de Berequias”. É chamado de “filho de Ido”\, que era propriamente seu avô. Sua carreira profética começou no segundo ano de Dario (520 a.C.)\, cerca de dezesseis anos após o retorno do primeiro grupo do exílio. Ele era contemporâneo de Ageu\, outro profeta. NO oitavo mês do segundo ano de Dario veio a palavra do Senhor ao profeta Zacarias\, filho de Baraquias\, filho de Ido\, dizendo: O Senhor se irou fortemente contra vossos pais. Portanto dize-lhes: Assim diz o Senhor dos Exércitos: Tornai-vos para mim\, diz o Senhor dos Exércitos\, e eu me tornarei para vós\, diz o Senhor dos Exércitos.Leia mais….
URL:https://gratiaplena.online/event/dia-de-santo-zacarias/2028-09-06/
CATEGORIES:Santo do Dia
ATTACH;FMTTYPE=image/jpeg:https://gratiaplena.online/wp-content/uploads/2024/01/Sao-Zacarias-2.jpg
ORGANIZER;CN="Administrador":MAILTO:epzanette@gmail.com
END:VEVENT
END:VCALENDAR