BEGIN:VCALENDAR
VERSION:2.0
PRODID:-//GratiaPlena - ECPv6.15.20//NONSGML v1.0//EN
CALSCALE:GREGORIAN
METHOD:PUBLISH
X-WR-CALNAME:GratiaPlena
X-ORIGINAL-URL:https://gratiaplena.online
X-WR-CALDESC:Eventos para GratiaPlena
REFRESH-INTERVAL;VALUE=DURATION:PT1H
X-Robots-Tag:noindex
X-PUBLISHED-TTL:PT1H
BEGIN:VTIMEZONE
TZID:America/Sao_Paulo
BEGIN:STANDARD
TZOFFSETFROM:-0300
TZOFFSETTO:-0300
TZNAME:-03
DTSTART:20250101T000000
END:STANDARD
END:VTIMEZONE
BEGIN:VEVENT
DTSTART;VALUE=DATE:20260903
DTEND;VALUE=DATE:20260904
DTSTAMP:20260423T183117
CREATED:20240103T173751Z
LAST-MODIFIED:20240902T195019Z
UID:10000944-1788393600-1788479999@gratiaplena.online
SUMMARY:Dia de São Gregório Magno
DESCRIPTION:Gregório nasceu em Roma\, no ano 540\, em uma família patrícia\, conhecida como Anici\, de grande fé cristã\, que prestou muitos serviços à Sé Apostólica. Seus pais\, Gordiano e Silvia – que a Igreja venera como santa em 3 de novembro – transmitiram-lhes nobres valores evangélicos\, mediante seu grande exemplo. Após seus estudos de Direito\, Gregório empreendeu a carreira política e ocupou o cargo de Prefeito da cidade do Roma. Esta experiência o amadureceu e o levou a ter uma maior visão da cidade\, as suas problemáticas e um profundo senso da ordem e da disciplina Leia mais….
URL:https://gratiaplena.online/event/dia-de-sao-gregorio-magno/2026-09-03/
CATEGORIES:Santo do Dia
ATTACH;FMTTYPE=image/jpeg:https://gratiaplena.online/wp-content/uploads/2024/01/Sao-Gregorio-Magno2.jpg
ORGANIZER;CN="Administrador":MAILTO:epzanette@gmail.com
END:VEVENT
BEGIN:VEVENT
DTSTART;VALUE=DATE:20270903
DTEND;VALUE=DATE:20270904
DTSTAMP:20260423T183117
CREATED:20240103T173751Z
LAST-MODIFIED:20240902T195019Z
UID:10000945-1819929600-1820015999@gratiaplena.online
SUMMARY:Dia de São Gregório Magno
DESCRIPTION:Gregório nasceu em Roma\, no ano 540\, em uma família patrícia\, conhecida como Anici\, de grande fé cristã\, que prestou muitos serviços à Sé Apostólica. Seus pais\, Gordiano e Silvia – que a Igreja venera como santa em 3 de novembro – transmitiram-lhes nobres valores evangélicos\, mediante seu grande exemplo. Após seus estudos de Direito\, Gregório empreendeu a carreira política e ocupou o cargo de Prefeito da cidade do Roma. Esta experiência o amadureceu e o levou a ter uma maior visão da cidade\, as suas problemáticas e um profundo senso da ordem e da disciplina Leia mais….
URL:https://gratiaplena.online/event/dia-de-sao-gregorio-magno/2027-09-03/
CATEGORIES:Santo do Dia
ATTACH;FMTTYPE=image/jpeg:https://gratiaplena.online/wp-content/uploads/2024/01/Sao-Gregorio-Magno2.jpg
ORGANIZER;CN="Administrador":MAILTO:epzanette@gmail.com
END:VEVENT
BEGIN:VEVENT
DTSTART;VALUE=DATE:20280903
DTEND;VALUE=DATE:20280904
DTSTAMP:20260423T183117
CREATED:20240103T173751Z
LAST-MODIFIED:20240902T195019Z
UID:10000946-1851552000-1851638399@gratiaplena.online
SUMMARY:Dia de São Gregório Magno
DESCRIPTION:Gregório nasceu em Roma\, no ano 540\, em uma família patrícia\, conhecida como Anici\, de grande fé cristã\, que prestou muitos serviços à Sé Apostólica. Seus pais\, Gordiano e Silvia – que a Igreja venera como santa em 3 de novembro – transmitiram-lhes nobres valores evangélicos\, mediante seu grande exemplo. Após seus estudos de Direito\, Gregório empreendeu a carreira política e ocupou o cargo de Prefeito da cidade do Roma. Esta experiência o amadureceu e o levou a ter uma maior visão da cidade\, as suas problemáticas e um profundo senso da ordem e da disciplina Leia mais….
URL:https://gratiaplena.online/event/dia-de-sao-gregorio-magno/2028-09-03/
CATEGORIES:Santo do Dia
ATTACH;FMTTYPE=image/jpeg:https://gratiaplena.online/wp-content/uploads/2024/01/Sao-Gregorio-Magno2.jpg
ORGANIZER;CN="Administrador":MAILTO:epzanette@gmail.com
END:VEVENT
END:VCALENDAR